{"text_format":"1","workbook":"xlsx","n_sheets":7,"sheets":["ホーム","管理者用シート","業務日報(新宿店)","業務日報","勤怠管理出勤","勤怠管理退勤","勤怠日報管理"],"not_rendered":{"charts":0,"images":0,"macros":1,"external_links":0,"defined_names":0,"comments":0,"pivot_tables":0},"unopened":[],"bounds":{"document_bytes":16777216,"sheet_cells":100000,"rows_first":2000,"rows_last":500,"rows_between":2000,"halvings":0,"cell_chars":16384,"cell_head_chars":4096},"cells_cut":0,"cells_raw":0,"read":"whole","date_system":"1900"}

{"sheet":"ホーム","index":0,"n_rows":0,"n_cols":0,"rows_kept":0,"cut":false,"hidden":false,"merged":[]}

{"sheet":"管理者用シート","index":1,"n_rows":9,"n_cols":5,"rows_kept":9,"cut":false,"hidden":false,"merged":[]}
["id","pass","氏名","かな","所属店舗"]
["Shinjuku0001A","abc0001","新宿 一夫","しんじゅく かずお","新宿店"]
["Shibuya0002B","abc0002","渋谷 二郎","しぶや じろう","渋谷店"]
["Ikebukuro0003C","abc0003","池袋 修三","いけぶくろ しゅうぞう","池袋店"]
["Ebisu0004D","abc0004","恵比寿 花子","えびす はなこ","恵比寿店"]
["Ueno0005E","abc0005","上野 道子","うえの みちこ","上野店"]
["Akihabara0006F","abc0006","秋葉原 麻利絵","あきはばら まりえ","秋葉原店"]
[1,2,1,1,1]
["Roppongi0007G","abc0007","六本木 恵理子","ろっぽんぎ えりこ","六本木店"]

{"sheet":"業務日報(新宿店)","index":2,"n_rows":2,"n_cols":4,"rows_kept":2,"cut":false,"hidden":true,"merged":[]}
["氏名","所属店","日付","報告内容"]
["a","新宿店","2021-02-12","qqqq"]

{"sheet":"業務日報","index":3,"n_rows":203,"n_cols":5,"rows_kept":203,"cut":false,"hidden":false,"merged":[]}
["自動入力","自動入力","自動入力","自動入力","数式コピー"]
["氏名","所属店","日付","報告内容","キー"]
["新宿 一夫","新宿店","2021-02-13","aaa",{"$f":"IFERROR(TEXT(C3,\"m月d日\")&A3,\"\")","v":"2月13日新宿 一夫"}]
["新宿 一夫","新宿店","2021-02-14","今日は業務管理システムについて勉強しました。",{"$f":"IFERROR(TEXT(C4,\"m月d日\")&A4,\"\")","v":"2月14日新宿 一夫"}]
["六本木 恵理子","六本木店","2021-02-14","新規IDとPWの登録が完了しました。","2月14日六本木 恵理子"]
["渋谷 二郎","渋谷店","2021-02-14","こちらはテスト入力です。","2月14日渋谷 二郎"]
["新宿 一夫","新宿店","2021-02-14","これはデモンストレーションです。","2月14日新宿 一夫"]
[null,null,null,null,"1月0日"]
[null,null,null,null,"1月0日"]
[null,null,null,null,"1月0日"]
[null,null,null,null,"1月0日"]
[null,null,null,null,"1月0日"]
[null,null,null,null,"1月0日"]
[null,null,null,null,"1月0日"]
[null,null,null,null,"1月0日"]
[null,null,null,null,"1月0日"]
[null,null,null,null,"1月0日"]
[null,null,null,null,"1月0日"]
[null,null,null,null,"1月0日"]
[null,null,null,null,"1月0日"]
[null,null,null,null,"1月0日"]
[null,null,null,null,"1月0日"]
[null,null,null,null,"1月0日"]
[null,null,null,null,"1月0日"]
[null,null,null,null,"1月0日"]
[null,null,null,null,"1月0日"]
[null,null,null,null,"1月0日"]
[null,null,null,null,"1月0日"]
[null,null,null,null,"1月0日"]
[null,null,null,null,"1月0日"]
[null,null,null,null,"1月0日"]
[null,null,null,null,"1月0日"]
[null,null,null,null,"1月0日"]
[null,null,null,null,"1月0日"]
[null,null,null,null,"1月0日"]
[null,null,null,null,"1月0日"]
[null,null,null,null,"1月0日"]
[null,null,null,null,"1月0日"]
[null,null,null,null,"1月0日"]
[null,null,null,null,"1月0日"]
[null,null,null,null,"1月0日"]
[null,null,null,null,"1月0日"]
[null,null,null,null,"1月0日"]
[null,null,null,null,"1月0日"]
[null,null,null,null,"1月0日"]
[null,null,null,null,"1月0日"]
[null,null,null,null,"1月0日"]
[null,null,null,null,"1月0日"]
[null,null,null,null,"1月0日"]
[null,null,null,null,"1月0日"]
[null,null,null,null,"1月0日"]
[null,null,null,null,"1月0日"]
[null,null,null,null,"1月0日"]
[null,null,null,null,"1月0日"]
[null,null,null,null,"1月0日"]
[null,null,null,null,"1月0日"]
[null,null,null,null,"1月0日"]
[null,null,null,null,"1月0日"]
[null,null,null,null,"1月0日"]
[null,null,null,null,"1月0日"]
[null,null,null,null,"1月0日"]
[null,null,null,null,"1月0日"]
[null,null,null,null,"1月0日"]
[null,null,null,null,"1月0日"]
[null,null,null,null,"1月0日"]
[null,null,null,null,"1月0日"]
[null,null,null,null,"1月0日"]
[null,null,null,null,{"$f":"IFERROR(TEXT(C68,\"m月d日\")&A68,\"\")","v":"1月0日"}]
[null,null,null,null,"1月0日"]
[null,null,null,null,"1月0日"]
[null,null,null,null,"1月0日"]
[null,null,null,null,"1月0日"]
[null,null,null,null,"1月0日"]
[null,null,null,null,"1月0日"]
[null,null,null,null,"1月0日"]
[null,null,null,null,"1月0日"]
[null,null,null,null,"1月0日"]
[null,null,null,null,"1月0日"]
[null,null,null,null,"1月0日"]
[null,null,null,null,"1月0日"]
[null,null,null,null,"1月0日"]
[null,null,null,null,"1月0日"]
[null,null,null,null,"1月0日"]
[null,null,null,null,"1月0日"]
[null,null,null,null,"1月0日"]
[null,null,null,null,"1月0日"]
[null,null,null,null,"1月0日"]
[null,null,null,null,"1月0日"]
[null,null,null,null,"1月0日"]
[null,null,null,null,"1月0日"]
[null,null,null,null,"1月0日"]
[null,null,null,null,"1月0日"]
[null,null,null,null,"1月0日"]
[null,null,null,null,"1月0日"]
[null,null,null,null,"1月0日"]
[null,null,null,null,"1月0日"]
[null,null,null,null,"1月0日"]
[null,null,null,null,"1月0日"]
[null,null,null,null,"1月0日"]
[null,null,null,null,"1月0日"]
[null,null,null,null,"1月0日"]
[null,null,null,null,"1月0日"]
[null,null,null,null,"1月0日"]
[null,null,null,null,"1月0日"]
[null,null,null,null,"1月0日"]
[null,null,null,null,"1月0日"]
[null,null,null,null,"1月0日"]
[null,null,null,null,"1月0日"]
[null,null,null,null,"1月0日"]
[null,null,null,null,"1月0日"]
[null,null,null,null,"1月0日"]
[null,null,null,null,"1月0日"]
[null,null,null,null,"1月0日"]
[null,null,null,null,"1月0日"]
[null,null,null,null,"1月0日"]
[null,null,null,null,"1月0日"]
[null,null,null,null,"1月0日"]
[null,null,null,null,"1月0日"]
[null,null,null,null,"1月0日"]
[null,null,null,null,"1月0日"]
[null,null,null,null,"1月0日"]
[null,null,null,null,"1月0日"]
[null,null,null,null,"1月0日"]
[null,null,null,null,"1月0日"]
[null,null,null,null,"1月0日"]
[null,null,null,null,"1月0日"]
[null,null,null,null,"1月0日"]
[null,null,null,null,"1月0日"]
[null,null,null,null,"1月0日"]
[null,null,null,null,"1月0日"]
[null,null,null,null,"1月0日"]
[null,null,null,null,{"$f":"IFERROR(TEXT(C132,\"m月d日\")&A132,\"\")","v":"1月0日"}]
[null,null,null,null,"1月0日"]
[null,null,null,null,"1月0日"]
[null,null,null,null,"1月0日"]
[null,null,null,null,"1月0日"]
[null,null,null,null,"1月0日"]
[null,null,null,null,"1月0日"]
[null,null,null,null,"1月0日"]
[null,null,null,null,"1月0日"]
[null,null,null,null,"1月0日"]
[null,null,null,null,"1月0日"]
[null,null,null,null,"1月0日"]
[null,null,null,null,"1月0日"]
[null,null,null,null,"1月0日"]
[null,null,null,null,"1月0日"]
[null,null,null,null,"1月0日"]
[null,null,null,null,"1月0日"]
[null,null,null,null,"1月0日"]
[null,null,null,null,"1月0日"]
[null,null,null,null,"1月0日"]
[null,null,null,null,"1月0日"]
[null,null,null,null,"1月0日"]
[null,null,null,null,"1月0日"]
[null,null,null,null,"1月0日"]
[null,null,null,null,"1月0日"]
[null,null,null,null,"1月0日"]
[null,null,null,null,"1月0日"]
[null,null,null,null,"1月0日"]
[null,null,null,null,"1月0日"]
[null,null,null,null,"1月0日"]
[null,null,null,null,"1月0日"]
[null,null,null,null,"1月0日"]
[null,null,null,null,"1月0日"]
[null,null,null,null,"1月0日"]
[null,null,null,null,"1月0日"]
[null,null,null,null,"1月0日"]
[null,null,null,null,"1月0日"]
[null,null,null,null,"1月0日"]
[null,null,null,null,"1月0日"]
[null,null,null,null,"1月0日"]
[null,null,null,null,"1月0日"]
[null,null,null,null,"1月0日"]
[null,null,null,null,"1月0日"]
[null,null,null,null,"1月0日"]
[null,null,null,null,"1月0日"]
[null,null,null,null,"1月0日"]
[null,null,null,null,"1月0日"]
[null,null,null,null,"1月0日"]
[null,null,null,null,"1月0日"]
[null,null,null,null,"1月0日"]
[null,null,null,null,"1月0日"]
[null,null,null,null,"1月0日"]
[null,null,null,null,"1月0日"]
[null,null,null,null,"1月0日"]
[null,null,null,null,"1月0日"]
[null,null,null,null,"1月0日"]
[null,null,null,null,"1月0日"]
[null,null,null,null,"1月0日"]
[null,null,null,null,"1月0日"]
[null,null,null,null,"1月0日"]
[null,null,null,null,"1月0日"]
[null,null,null,null,"1月0日"]
[null,null,null,null,"1月0日"]
[null,null,null,null,"1月0日"]
[null,null,null,null,{"$f":"IFERROR(TEXT(C196,\"m月d日\")&A196,\"\")","v":"1月0日"}]
[null,null,null,null,"1月0日"]
[null,null,null,null,"1月0日"]
[null,null,null,null,"1月0日"]
[null,null,null,null,"1月0日"]
[null,null,null,null,"1月0日"]
[null,null,null,null,"1月0日"]
[null,null,null,null,"1月0日"]

{"sheet":"勤怠管理出勤","index":4,"n_rows":203,"n_cols":6,"rows_kept":203,"cut":false,"hidden":false,"merged":[]}
["自動入力","自動入力","自動入力","数式コピー","数式コピー","数式コピー"]
["氏名","所属店","日時","日付","キー","出勤時間"]
["新宿 一夫","新宿店","2021-02-13T02:50:10",{"$f":"IFERROR(TEXT(C3,\"m月d日\"),\"\")","v":"2月13日"},{"$f":"IFERROR(D3&A3,\"\")","v":"2月13日新宿 一夫"},{"$f":"IFERROR(TEXT(C3,\"hh:mm\"),0)","v":"02:50"}]
["新宿 一夫","新宿店","2021-02-14T17:11:31",{"$f":"IFERROR(TEXT(C4,\"m月d日\"),\"\")","v":"2月14日"},{"$f":"IFERROR(D4&A4,\"\")","v":"2月14日新宿 一夫"},{"$f":"IFERROR(TEXT(C4,\"hh:mm\"),0)","v":"17:11"}]
["渋谷 二郎","渋谷店","2021-02-14T17:58:59","2月14日","2月14日渋谷 二郎","17:58"]
["新宿 一夫","新宿店","2021-02-14T18:26:23","2月14日","2月14日新宿 一夫","18:26"]
[null,null,null,"1月0日","1月0日","00:00"]
[null,null,null,"1月0日","1月0日","00:00"]
[null,null,null,"1月0日","1月0日","00:00"]
[null,null,null,"1月0日","1月0日","00:00"]
[null,null,null,"1月0日","1月0日","00:00"]
[null,null,null,"1月0日","1月0日","00:00"]
[null,null,null,"1月0日","1月0日","00:00"]
[null,null,null,"1月0日","1月0日","00:00"]
[null,null,null,"1月0日","1月0日","00:00"]
[null,null,null,"1月0日","1月0日","00:00"]
[null,null,null,"1月0日","1月0日","00:00"]
[null,null,null,"1月0日","1月0日","00:00"]
[null,null,null,"1月0日","1月0日","00:00"]
[null,null,null,"1月0日","1月0日","00:00"]
[null,null,null,"1月0日","1月0日","00:00"]
[null,null,null,"1月0日","1月0日","00:00"]
[null,null,null,"1月0日","1月0日","00:00"]
[null,null,null,"1月0日","1月0日","00:00"]
[null,null,null,"1月0日","1月0日","00:00"]
[null,null,null,"1月0日","1月0日","00:00"]
[null,null,null,"1月0日","1月0日","00:00"]
[null,null,null,"1月0日","1月0日","00:00"]
[null,null,null,"1月0日","1月0日","00:00"]
[null,null,null,"1月0日","1月0日","00:00"]
[null,null,null,"1月0日","1月0日","00:00"]
[null,null,null,"1月0日","1月0日","00:00"]
[null,null,null,"1月0日","1月0日","00:00"]
[null,null,null,"1月0日","1月0日","00:00"]
[null,null,null,"1月0日","1月0日","00:00"]
[null,null,null,"1月0日","1月0日","00:00"]
[null,null,null,"1月0日","1月0日","00:00"]
[null,null,null,"1月0日","1月0日","00:00"]
[null,null,null,"1月0日","1月0日","00:00"]
[null,null,null,"1月0日","1月0日","00:00"]
[null,null,null,"1月0日","1月0日","00:00"]
[null,null,null,"1月0日","1月0日","00:00"]
[null,null,null,"1月0日","1月0日","00:00"]
[null,null,null,"1月0日","1月0日","00:00"]
[null,null,null,"1月0日","1月0日","00:00"]
[null,null,null,"1月0日","1月0日","00:00"]
[null,null,null,"1月0日","1月0日","00:00"]
[null,null,null,"1月0日","1月0日","00:00"]
[null,null,null,"1月0日","1月0日","00:00"]
[null,null,null,"1月0日","1月0日","00:00"]
[null,null,null,"1月0日","1月0日","00:00"]
[null,null,null,"1月0日","1月0日","00:00"]
[null,null,null,"1月0日","1月0日","00:00"]
[null,null,null,"1月0日","1月0日","00:00"]
[null,null,null,"1月0日","1月0日","00:00"]
[null,null,null,"1月0日","1月0日","00:00"]
[null,null,null,"1月0日","1月0日","00:00"]
[null,null,null,"1月0日","1月0日","00:00"]
[null,null,null,"1月0日","1月0日","00:00"]
[null,null,null,"1月0日","1月0日","00:00"]
[null,null,null,"1月0日","1月0日","00:00"]
[null,null,null,"1月0日","1月0日","00:00"]
[null,null,null,"1月0日","1月0日","00:00"]
[null,null,null,"1月0日","1月0日","00:00"]
[null,null,null,"1月0日","1月0日","00:00"]
[null,null,null,"1月0日","1月0日","00:00"]
[null,null,null,"1月0日","1月0日","00:00"]
[null,null,null,{"$f":"IFERROR(TEXT(C68,\"m月d日\"),\"\")","v":"1月0日"},{"$f":"IFERROR(D68&A68,\"\")","v":"1月0日"},{"$f":"IFERROR(TEXT(C68,\"hh:mm\"),0)","v":"00:00"}]
[null,null,null,"1月0日","1月0日","00:00"]
[null,null,null,"1月0日","1月0日","00:00"]
[null,null,null,"1月0日","1月0日","00:00"]
[null,null,null,"1月0日","1月0日","00:00"]
[null,null,null,"1月0日","1月0日","00:00"]
[null,null,null,"1月0日","1月0日","00:00"]
[null,null,null,"1月0日","1月0日","00:00"]
[null,null,null,"1月0日","1月0日","00:00"]
[null,null,null,"1月0日","1月0日","00:00"]
[null,null,null,"1月0日","1月0日","00:00"]
[null,null,null,"1月0日","1月0日","00:00"]
[null,null,null,"1月0日","1月0日","00:00"]
[null,null,null,"1月0日","1月0日","00:00"]
[null,null,null,"1月0日","1月0日","00:00"]
[null,null,null,"1月0日","1月0日","00:00"]
[null,null,null,"1月0日","1月0日","00:00"]
[null,null,null,"1月0日","1月0日","00:00"]
[null,null,null,"1月0日","1月0日","00:00"]
[null,null,null,"1月0日","1月0日","00:00"]
[null,null,null,"1月0日","1月0日","00:00"]
[null,null,null,"1月0日","1月0日","00:00"]
[null,null,null,"1月0日","1月0日","00:00"]
[null,null,null,"1月0日","1月0日","00:00"]
[null,null,null,"1月0日","1月0日","00:00"]
[null,null,null,"1月0日","1月0日","00:00"]
[null,null,null,"1月0日","1月0日","00:00"]
[null,null,null,"1月0日","1月0日","00:00"]
[null,null,null,"1月0日","1月0日","00:00"]
[null,null,null,"1月0日","1月0日","00:00"]
[null,null,null,"1月0日","1月0日","00:00"]
[null,null,null,"1月0日","1月0日","00:00"]
[null,null,null,"1月0日","1月0日","00:00"]
[null,null,null,"1月0日","1月0日","00:00"]
[null,null,null,"1月0日","1月0日","00:00"]
[null,null,null,"1月0日","1月0日","00:00"]
[null,null,null,"1月0日","1月0日","00:00"]
[null,null,null,"1月0日","1月0日","00:00"]
[null,null,null,"1月0日","1月0日","00:00"]
[null,null,null,"1月0日","1月0日","00:00"]
[null,null,null,"1月0日","1月0日","00:00"]
[null,null,null,"1月0日","1月0日","00:00"]
[null,null,null,"1月0日","1月0日","00:00"]
[null,null,null,"1月0日","1月0日","00:00"]
[null,null,null,"1月0日","1月0日","00:00"]
[null,null,null,"1月0日","1月0日","00:00"]
[null,null,null,"1月0日","1月0日","00:00"]
[null,null,null,"1月0日","1月0日","00:00"]
[null,null,null,"1月0日","1月0日","00:00"]
[null,null,null,"1月0日","1月0日","00:00"]
[null,null,null,"1月0日","1月0日","00:00"]
[null,null,null,"1月0日","1月0日","00:00"]
[null,null,null,"1月0日","1月0日","00:00"]
[null,null,null,"1月0日","1月0日","00:00"]
[null,null,null,"1月0日","1月0日","00:00"]
[null,null,null,"1月0日","1月0日","00:00"]
[null,null,null,"1月0日","1月0日","00:00"]
[null,null,null,"1月0日","1月0日","00:00"]
[null,null,null,"1月0日","1月0日","00:00"]
[null,null,null,"1月0日","1月0日","00:00"]
[null,null,null,"1月0日","1月0日","00:00"]
[null,null,null,"1月0日","1月0日","00:00"]
[null,null,null,"1月0日","1月0日","00:00"]
[null,null,null,"1月0日","1月0日","00:00"]
[null,null,null,{"$f":"IFERROR(TEXT(C132,\"m月d日\"),\"\")","v":"1月0日"},{"$f":"IFERROR(D132&A132,\"\")","v":"1月0日"},{"$f":"IFERROR(TEXT(C132,\"hh:mm\"),0)","v":"00:00"}]
[null,null,null,"1月0日","1月0日","00:00"]
[null,null,null,"1月0日","1月0日","00:00"]
[null,null,null,"1月0日","1月0日","00:00"]
[null,null,null,"1月0日","1月0日","00:00"]
[null,null,null,"1月0日","1月0日","00:00"]
[null,null,null,"1月0日","1月0日","00:00"]
[null,null,null,"1月0日","1月0日","00:00"]
[null,null,null,"1月0日","1月0日","00:00"]
[null,null,null,"1月0日","1月0日","00:00"]
[null,null,null,"1月0日","1月0日","00:00"]
[null,null,null,"1月0日","1月0日","00:00"]
[null,null,null,"1月0日","1月0日","00:00"]
[null,null,null,"1月0日","1月0日","00:00"]
[null,null,null,"1月0日","1月0日","00:00"]
[null,null,null,"1月0日","1月0日","00:00"]
[null,null,null,"1月0日","1月0日","00:00"]
[null,null,null,"1月0日","1月0日","00:00"]
[null,null,null,"1月0日","1月0日","00:00"]
[null,null,null,"1月0日","1月0日","00:00"]
[null,null,null,"1月0日","1月0日","00:00"]
[null,null,null,"1月0日","1月0日","00:00"]
[null,null,null,"1月0日","1月0日","00:00"]
[null,null,null,"1月0日","1月0日","00:00"]
[null,null,null,"1月0日","1月0日","00:00"]
[null,null,null,"1月0日","1月0日","00:00"]
[null,null,null,"1月0日","1月0日","00:00"]
[null,null,null,"1月0日","1月0日","00:00"]
[null,null,null,"1月0日","1月0日","00:00"]
[null,null,null,"1月0日","1月0日","00:00"]
[null,null,null,"1月0日","1月0日","00:00"]
[null,null,null,"1月0日","1月0日","00:00"]
[null,null,null,"1月0日","1月0日","00:00"]
[null,null,null,"1月0日","1月0日","00:00"]
[null,null,null,"1月0日","1月0日","00:00"]
[null,null,null,"1月0日","1月0日","00:00"]
[null,null,null,"1月0日","1月0日","00:00"]
[null,null,null,"1月0日","1月0日","00:00"]
[null,null,null,"1月0日","1月0日","00:00"]
[null,null,null,"1月0日","1月0日","00:00"]
[null,null,null,"1月0日","1月0日","00:00"]
[null,null,null,"1月0日","1月0日","00:00"]
[null,null,null,"1月0日","1月0日","00:00"]
[null,null,null,"1月0日","1月0日","00:00"]
[null,null,null,"1月0日","1月0日","00:00"]
[null,null,null,"1月0日","1月0日","00:00"]
[null,null,null,"1月0日","1月0日","00:00"]
[null,null,null,"1月0日","1月0日","00:00"]
[null,null,null,"1月0日","1月0日","00:00"]
[null,null,null,"1月0日","1月0日","00:00"]
[null,null,null,"1月0日","1月0日","00:00"]
[null,null,null,"1月0日","1月0日","00:00"]
[null,null,null,"1月0日","1月0日","00:00"]
[null,null,null,"1月0日","1月0日","00:00"]
[null,null,null,"1月0日","1月0日","00:00"]
[null,null,null,"1月0日","1月0日","00:00"]
[null,null,null,"1月0日","1月0日","00:00"]
[null,null,null,"1月0日","1月0日","00:00"]
[null,null,null,"1月0日","1月0日","00:00"]
[null,null,null,"1月0日","1月0日","00:00"]
[null,null,null,"1月0日","1月0日","00:00"]
[null,null,null,"1月0日","1月0日","00:00"]
[null,null,null,"1月0日","1月0日","00:00"]
[null,null,null,"1月0日","1月0日","00:00"]
[null,null,null,{"$f":"IFERROR(TEXT(C196,\"m月d日\"),\"\")","v":"1月0日"},{"$f":"IFERROR(D196&A196,\"\")","v":"1月0日"},{"$f":"IFERROR(TEXT(C196,\"hh:mm\"),0)","v":"00:00"}]
[null,null,null,"1月0日","1月0日","00:00"]
[null,null,null,"1月0日","1月0日","00:00"]
[null,null,null,"1月0日","1月0日","00:00"]
[null,null,null,"1月0日","1月0日","00:00"]
[null,null,null,"1月0日","1月0日","00:00"]
[null,null,null,"1月0日","1月0日","00:00"]
[null,null,null,"1月0日",{"$f":"IFERROR(D203&A203,\"\")","v":"1月0日"},{"$f":"IFERROR(TEXT(C203,\"hh:mm\"),0)","v":"00:00"}]

{"sheet":"勤怠管理退勤","index":5,"n_rows":203,"n_cols":6,"rows_kept":203,"cut":false,"hidden":false,"merged":[]}
["自動入力","自動入力","自動入力","数式コピー","数式コピー","数式コピー"]
["氏名","所属店","日付","日付","キー","退勤時間"]
["新宿 一夫","新宿店","2021-02-13T22:07:25",{"$f":"IFERROR(TEXT(C3,\"m月d日\"),\"\")","v":"2月13日"},{"$f":"IFERROR(D3&A3,\"\")","v":"2月13日新宿 一夫"},{"$f":"IFERROR(TEXT(C3,\"hh:mm\"),\"\")","v":"22:07"}]
["新宿 一夫","新宿店","2021-02-14T17:13:41",{"$f":"IFERROR(TEXT(C4,\"m月d日\"),\"\")","v":"2月14日"},{"$f":"IFERROR(D4&A4,\"\")","v":"2月14日新宿 一夫"},{"$f":"IFERROR(TEXT(C4,\"hh:mm\"),\"\")","v":"17:13"}]
[null,null,null,"1月0日","1月0日","00:00"]
[null,null,null,"1月0日","1月0日","00:00"]
[null,null,null,"1月0日","1月0日","00:00"]
[null,null,null,"1月0日","1月0日","00:00"]
[null,null,null,"1月0日","1月0日","00:00"]
[null,null,null,"1月0日","1月0日","00:00"]
[null,null,null,"1月0日","1月0日","00:00"]
[null,null,null,"1月0日","1月0日","00:00"]
[null,null,null,"1月0日","1月0日","00:00"]
[null,null,null,"1月0日","1月0日","00:00"]
[null,null,null,"1月0日","1月0日","00:00"]
[null,null,null,"1月0日","1月0日","00:00"]
[null,null,null,"1月0日","1月0日","00:00"]
[null,null,null,"1月0日","1月0日","00:00"]
[null,null,null,"1月0日","1月0日","00:00"]
[null,null,null,"1月0日","1月0日","00:00"]
[null,null,null,"1月0日","1月0日","00:00"]
[null,null,null,"1月0日","1月0日","00:00"]
[null,null,null,"1月0日","1月0日","00:00"]
[null,null,null,"1月0日","1月0日","00:00"]
[null,null,null,"1月0日","1月0日","00:00"]
[null,null,null,"1月0日","1月0日","00:00"]
[null,null,null,"1月0日","1月0日","00:00"]
[null,null,null,"1月0日","1月0日","00:00"]
[null,null,null,"1月0日","1月0日","00:00"]
[null,null,null,"1月0日","1月0日","00:00"]
[null,null,null,"1月0日","1月0日","00:00"]
[null,null,null,"1月0日","1月0日","00:00"]
[null,null,null,"1月0日","1月0日","00:00"]
[null,null,null,"1月0日","1月0日","00:00"]
[null,null,null,"1月0日","1月0日","00:00"]
[null,null,null,"1月0日","1月0日","00:00"]
[null,null,null,"1月0日","1月0日","00:00"]
[null,null,null,"1月0日","1月0日","00:00"]
[null,null,null,"1月0日","1月0日","00:00"]
[null,null,null,"1月0日","1月0日","00:00"]
[null,null,null,"1月0日","1月0日","00:00"]
[null,null,null,"1月0日","1月0日","00:00"]
[null,null,null,"1月0日","1月0日","00:00"]
[null,null,null,"1月0日","1月0日","00:00"]
[null,null,null,"1月0日","1月0日","00:00"]
[null,null,null,"1月0日","1月0日","00:00"]
[null,null,null,"1月0日","1月0日","00:00"]
[null,null,null,"1月0日","1月0日","00:00"]
[null,null,null,"1月0日","1月0日","00:00"]
[null,null,null,"1月0日","1月0日","00:00"]
[null,null,null,"1月0日","1月0日","00:00"]
[null,null,null,"1月0日","1月0日","00:00"]
[null,null,null,"1月0日","1月0日","00:00"]
[null,null,null,"1月0日","1月0日","00:00"]
[null,null,null,"1月0日","1月0日","00:00"]
[null,null,null,"1月0日","1月0日","00:00"]
[null,null,null,"1月0日","1月0日","00:00"]
[null,null,null,"1月0日","1月0日","00:00"]
[null,null,null,"1月0日","1月0日","00:00"]
[null,null,null,"1月0日","1月0日","00:00"]
[null,null,null,"1月0日","1月0日","00:00"]
[null,null,null,"1月0日","1月0日","00:00"]
[null,null,null,"1月0日","1月0日","00:00"]
[null,null,null,"1月0日","1月0日","00:00"]
[null,null,null,"1月0日","1月0日","00:00"]
[null,null,null,"1月0日","1月0日","00:00"]
[null,null,null,"1月0日","1月0日","00:00"]
[null,null,null,{"$f":"IFERROR(TEXT(C68,\"m月d日\"),\"\")","v":"1月0日"},{"$f":"IFERROR(D68&A68,\"\")","v":"1月0日"},{"$f":"IFERROR(TEXT(C68,\"hh:mm\"),\"\")","v":"00:00"}]
[null,null,null,"1月0日","1月0日","00:00"]
[null,null,null,"1月0日","1月0日","00:00"]
[null,null,null,"1月0日","1月0日","00:00"]
[null,null,null,"1月0日","1月0日","00:00"]
[null,null,null,"1月0日","1月0日","00:00"]
[null,null,null,"1月0日","1月0日","00:00"]
[null,null,null,"1月0日","1月0日","00:00"]
[null,null,null,"1月0日","1月0日","00:00"]
[null,null,null,"1月0日","1月0日","00:00"]
[null,null,null,"1月0日","1月0日","00:00"]
[null,null,null,"1月0日","1月0日","00:00"]
[null,null,null,"1月0日","1月0日","00:00"]
[null,null,null,"1月0日","1月0日","00:00"]
[null,null,null,"1月0日","1月0日","00:00"]
[null,null,null,"1月0日","1月0日","00:00"]
[null,null,null,"1月0日","1月0日","00:00"]
[null,null,null,"1月0日","1月0日","00:00"]
[null,null,null,"1月0日","1月0日","00:00"]
[null,null,null,"1月0日","1月0日","00:00"]
[null,null,null,"1月0日","1月0日","00:00"]
[null,null,null,"1月0日","1月0日","00:00"]
[null,null,null,"1月0日","1月0日","00:00"]
[null,null,null,"1月0日","1月0日","00:00"]
[null,null,null,"1月0日","1月0日","00:00"]
[null,null,null,"1月0日","1月0日","00:00"]
[null,null,null,"1月0日","1月0日","00:00"]
[null,null,null,"1月0日","1月0日","00:00"]
[null,null,null,"1月0日","1月0日","00:00"]
[null,null,null,"1月0日","1月0日","00:00"]
[null,null,null,"1月0日","1月0日","00:00"]
[null,null,null,"1月0日","1月0日","00:00"]
[null,null,null,"1月0日","1月0日","00:00"]
[null,null,null,"1月0日","1月0日","00:00"]
[null,null,null,"1月0日","1月0日","00:00"]
[null,null,null,"1月0日","1月0日","00:00"]
[null,null,null,"1月0日","1月0日","00:00"]
[null,null,null,"1月0日","1月0日","00:00"]
[null,null,null,"1月0日","1月0日","00:00"]
[null,null,null,"1月0日","1月0日","00:00"]
[null,null,null,"1月0日","1月0日","00:00"]
[null,null,null,"1月0日","1月0日","00:00"]
[null,null,null,"1月0日","1月0日","00:00"]
[null,null,null,"1月0日","1月0日","00:00"]
[null,null,null,"1月0日","1月0日","00:00"]
[null,null,null,"1月0日","1月0日","00:00"]
[null,null,null,"1月0日","1月0日","00:00"]
[null,null,null,"1月0日","1月0日","00:00"]
[null,null,null,"1月0日","1月0日","00:00"]
[null,null,null,"1月0日","1月0日","00:00"]
[null,null,null,"1月0日","1月0日","00:00"]
[null,null,null,"1月0日","1月0日","00:00"]
[null,null,null,"1月0日","1月0日","00:00"]
[null,null,null,"1月0日","1月0日","00:00"]
[null,null,null,"1月0日","1月0日","00:00"]
[null,null,null,"1月0日","1月0日","00:00"]
[null,null,null,"1月0日","1月0日","00:00"]
[null,null,null,"1月0日","1月0日","00:00"]
[null,null,null,"1月0日","1月0日","00:00"]
[null,null,null,"1月0日","1月0日","00:00"]
[null,null,null,"1月0日","1月0日","00:00"]
[null,null,null,"1月0日","1月0日","00:00"]
[null,null,null,"1月0日","1月0日","00:00"]
[null,null,null,"1月0日","1月0日","00:00"]
[null,null,null,{"$f":"IFERROR(TEXT(C132,\"m月d日\"),\"\")","v":"1月0日"},{"$f":"IFERROR(D132&A132,\"\")","v":"1月0日"},{"$f":"IFERROR(TEXT(C132,\"hh:mm\"),\"\")","v":"00:00"}]
[null,null,null,"1月0日","1月0日","00:00"]
[null,null,null,"1月0日","1月0日","00:00"]
[null,null,null,"1月0日","1月0日","00:00"]
[null,null,null,"1月0日","1月0日","00:00"]
[null,null,null,"1月0日","1月0日","00:00"]
[null,null,null,"1月0日","1月0日","00:00"]
[null,null,null,"1月0日","1月0日","00:00"]
[null,null,null,"1月0日","1月0日","00:00"]
[null,null,null,"1月0日","1月0日","00:00"]
[null,null,null,"1月0日","1月0日","00:00"]
[null,null,null,"1月0日","1月0日","00:00"]
[null,null,null,"1月0日","1月0日","00:00"]
[null,null,null,"1月0日","1月0日","00:00"]
[null,null,null,"1月0日","1月0日","00:00"]
[null,null,null,"1月0日","1月0日","00:00"]
[null,null,null,"1月0日","1月0日","00:00"]
[null,null,null,"1月0日","1月0日","00:00"]
[null,null,null,"1月0日","1月0日","00:00"]
[null,null,null,"1月0日","1月0日","00:00"]
[null,null,null,"1月0日","1月0日","00:00"]
[null,null,null,"1月0日","1月0日","00:00"]
[null,null,null,"1月0日","1月0日","00:00"]
[null,null,null,"1月0日","1月0日","00:00"]
[null,null,null,"1月0日","1月0日","00:00"]
[null,null,null,"1月0日","1月0日","00:00"]
[null,null,null,"1月0日","1月0日","00:00"]
[null,null,null,"1月0日","1月0日","00:00"]
[null,null,null,"1月0日","1月0日","00:00"]
[null,null,null,"1月0日","1月0日","00:00"]
[null,null,null,"1月0日","1月0日","00:00"]
[null,null,null,"1月0日","1月0日","00:00"]
[null,null,null,"1月0日","1月0日","00:00"]
[null,null,null,"1月0日","1月0日","00:00"]
[null,null,null,"1月0日","1月0日","00:00"]
[null,null,null,"1月0日","1月0日","00:00"]
[null,null,null,"1月0日","1月0日","00:00"]
[null,null,null,"1月0日","1月0日","00:00"]
[null,null,null,"1月0日","1月0日","00:00"]
[null,null,null,"1月0日","1月0日","00:00"]
[null,null,null,"1月0日","1月0日","00:00"]
[null,null,null,"1月0日","1月0日","00:00"]
[null,null,null,"1月0日","1月0日","00:00"]
[null,null,null,"1月0日","1月0日","00:00"]
[null,null,null,"1月0日","1月0日","00:00"]
[null,null,null,"1月0日","1月0日","00:00"]
[null,null,null,"1月0日","1月0日","00:00"]
[null,null,null,"1月0日","1月0日","00:00"]
[null,null,null,"1月0日","1月0日","00:00"]
[null,null,null,"1月0日","1月0日","00:00"]
[null,null,null,"1月0日","1月0日","00:00"]
[null,null,null,"1月0日","1月0日","00:00"]
[null,null,null,"1月0日","1月0日","00:00"]
[null,null,null,"1月0日","1月0日","00:00"]
[null,null,null,"1月0日","1月0日","00:00"]
[null,null,null,"1月0日","1月0日","00:00"]
[null,null,null,"1月0日","1月0日","00:00"]
[null,null,null,"1月0日","1月0日","00:00"]
[null,null,null,"1月0日","1月0日","00:00"]
[null,null,null,"1月0日","1月0日","00:00"]
[null,null,null,"1月0日","1月0日","00:00"]
[null,null,null,"1月0日","1月0日","00:00"]
[null,null,null,"1月0日","1月0日","00:00"]
[null,null,null,"1月0日","1月0日","00:00"]
[null,null,null,{"$f":"IFERROR(TEXT(C196,\"m月d日\"),\"\")","v":"1月0日"},{"$f":"IFERROR(D196&A196,\"\")","v":"1月0日"},{"$f":"IFERROR(TEXT(C196,\"hh:mm\"),\"\")","v":"00:00"}]
[null,null,null,"1月0日","1月0日","00:00"]
[null,null,null,"1月0日","1月0日","00:00"]
[null,null,null,"1月0日","1月0日","00:00"]
[null,null,null,"1月0日","1月0日","00:00"]
[null,null,null,"1月0日","1月0日","00:00"]
[null,null,null,"1月0日","1月0日","00:00"]
[null,null,null,"1月0日",{"$f":"IFERROR(D203&A203,\"\")","v":"1月0日"},{"$f":"IFERROR(TEXT(C203,\"hh:mm\"),\"\")","v":"00:00"}]

{"sheet":"勤怠日報管理","index":6,"n_rows":203,"n_cols":7,"rows_kept":203,"cut":false,"hidden":false,"merged":[]}
["手入力","数式コピー","リストから選択","数式コピー","数式コピー","数式コピー","数式コピー"]
["日付","日付(加工用)","氏名","所属店","出勤時間","退勤時間","報告内容"]
["2021-02-13",{"$f":"TEXT(A3,\"m月d日\")","v":"2月13日"},"新宿 一夫",{"$f":"IFERROR(VLOOKUP($C3,OFFSET(管理者用シート!$C$2,0,0,COUNTA(管理者用シート!E:E)-1,3),3,FALSE),\"\")","v":"新宿店"},{"$f":"IFERROR(VLOOKUP(B3&C3,OFFSET(勤怠管理出勤!$E$3,0,0,COUNTA(勤怠管理出勤!F:F)-1,2),2,FALSE),\"\")","v":"02:50"},{"$f":"IFERROR(VLOOKUP(B3&C3,OFFSET(勤怠管理退勤!$E$3,0,0,COUNTA(勤怠管理退勤!F:F)-1,2),2,FALSE),\"\")","v":"22:07"},{"$f":"IFERROR(INDEX(OFFSET(業務日報!$D$3,0,0,COUNTA(業務日報!D:D)-2,1),MATCH(勤怠日報管理!B3&勤怠日報管理!C3,OFFSET(業務日報!$E$3,0,0,COUNTA(業務日報!E:E)-2,1),0)),\"\")","v":"aaa"}]
["2021-02-14",{"$f":"TEXT(A4,\"m月d日\")","v":"2月14日"},"新宿 一夫",{"$f":"IFERROR(VLOOKUP($C4,OFFSET(管理者用シート!$C$2,0,0,COUNTA(管理者用シート!E:E)-1,3),3,FALSE),\"\")","v":"新宿店"},{"$f":"IFERROR(VLOOKUP(B4&C4,OFFSET(勤怠管理出勤!$E$3,0,0,COUNTA(勤怠管理出勤!F:F)-1,2),2,FALSE),\"\")","v":"17:11"},{"$f":"IFERROR(VLOOKUP(B4&C4,OFFSET(勤怠管理退勤!$E$3,0,0,COUNTA(勤怠管理退勤!F:F)-1,2),2,FALSE),\"\")","v":"17:13"},{"$f":"IFERROR(INDEX(OFFSET(業務日報!$D$3,0,0,COUNTA(業務日報!D:D)-2,1),MATCH(勤怠日報管理!B4&勤怠日報管理!C4,OFFSET(業務日報!$E$3,0,0,COUNTA(業務日報!E:E)-2,1),0)),\"\")","v":"今日は業務管理システムについて勉強しました。"}]
["2021-02-14",{"$f":"TEXT(A5,\"m月d日\")","v":"2月14日"},"六本木 恵理子",{"$f":"IFERROR(VLOOKUP($C5,OFFSET(管理者用シート!$C$2,0,0,COUNTA(管理者用シート!E:E)-1,3),3,FALSE),\"\")","v":"六本木店"},{"$f":"IFERROR(VLOOKUP(B5&C5,OFFSET(勤怠管理出勤!$E$3,0,0,COUNTA(勤怠管理出勤!F:F)-1,2),2,FALSE),\"\")","v":""},{"$f":"IFERROR(VLOOKUP(B5&C5,OFFSET(勤怠管理退勤!$E$3,0,0,COUNTA(勤怠管理退勤!F:F)-1,2),2,FALSE),\"\")","v":""},{"$f":"IFERROR(INDEX(OFFSET(業務日報!$D$3,0,0,COUNTA(業務日報!D:D)-2,1),MATCH(勤怠日報管理!B5&勤怠日報管理!C5,OFFSET(業務日報!$E$3,0,0,COUNTA(業務日報!E:E)-2,1),0)),\"\")","v":"新規IDとPWの登録が完了しました。"}]
["2021-02-14","2月14日","渋谷 二郎",{"$f":"IFERROR(VLOOKUP($C6,OFFSET(管理者用シート!$C$2,0,0,COUNTA(管理者用シート!E:E)-1,3),3,FALSE),\"\")","v":"渋谷店"},{"$f":"IFERROR(VLOOKUP(B6&C6,OFFSET(勤怠管理出勤!$E$3,0,0,COUNTA(勤怠管理出勤!F:F)-1,2),2,FALSE),\"\")","v":"17:58"},{"$f":"IFERROR(VLOOKUP(B6&C6,OFFSET(勤怠管理退勤!$E$3,0,0,COUNTA(勤怠管理退勤!F:F)-1,2),2,FALSE),\"\")","v":""},{"$f":"IFERROR(INDEX(OFFSET(業務日報!$D$3,0,0,COUNTA(業務日報!D:D)-2,1),MATCH(勤怠日報管理!B6&勤怠日報管理!C6,OFFSET(業務日報!$E$3,0,0,COUNTA(業務日報!E:E)-2,1),0)),\"\")","v":"こちらはテスト入力です。"}]
[null,"1月0日",null,{"$f":"IFERROR(VLOOKUP($C7,OFFSET(管理者用シート!$C$2,0,0,COUNTA(管理者用シート!E:E)-1,3),3,FALSE),\"\")","v":""},{"$f":"IFERROR(VLOOKUP(B7&C7,OFFSET(勤怠管理出勤!$E$3,0,0,COUNTA(勤怠管理出勤!F:F)-1,2),2,FALSE),\"\")","v":"00:00"},{"$f":"IFERROR(VLOOKUP(B7&C7,OFFSET(勤怠管理退勤!$E$3,0,0,COUNTA(勤怠管理退勤!F:F)-1,2),2,FALSE),\"\")","v":"00:00"},{"$f":"IFERROR(INDEX(OFFSET(業務日報!$D$3,0,0,COUNTA(業務日報!D:D)-2,1),MATCH(勤怠日報管理!B7&勤怠日報管理!C7,OFFSET(業務日報!$E$3,0,0,COUNTA(業務日報!E:E)-2,1),0)),\"\")","v":""}]
[null,"1月0日",null,{"$f":"IFERROR(VLOOKUP($C8,OFFSET(管理者用シート!$C$2,0,0,COUNTA(管理者用シート!E:E)-1,3),3,FALSE),\"\")","v":""},{"$f":"IFERROR(VLOOKUP(B8&C8,OFFSET(勤怠管理出勤!$E$3,0,0,COUNTA(勤怠管理出勤!F:F)-1,2),2,FALSE),\"\")","v":"00:00"},{"$f":"IFERROR(VLOOKUP(B8&C8,OFFSET(勤怠管理退勤!$E$3,0,0,COUNTA(勤怠管理退勤!F:F)-1,2),2,FALSE),\"\")","v":"00:00"},{"$f":"IFERROR(INDEX(OFFSET(業務日報!$D$3,0,0,COUNTA(業務日報!D:D)-2,1),MATCH(勤怠日報管理!B8&勤怠日報管理!C8,OFFSET(業務日報!$E$3,0,0,COUNTA(業務日報!E:E)-2,1),0)),\"\")","v":""}]
[null,"1月0日",null,{"$f":"IFERROR(VLOOKUP($C9,OFFSET(管理者用シート!$C$2,0,0,COUNTA(管理者用シート!E:E)-1,3),3,FALSE),\"\")","v":""},{"$f":"IFERROR(VLOOKUP(B9&C9,OFFSET(勤怠管理出勤!$E$3,0,0,COUNTA(勤怠管理出勤!F:F)-1,2),2,FALSE),\"\")","v":"00:00"},{"$f":"IFERROR(VLOOKUP(B9&C9,OFFSET(勤怠管理退勤!$E$3,0,0,COUNTA(勤怠管理退勤!F:F)-1,2),2,FALSE),\"\")","v":"00:00"},{"$f":"IFERROR(INDEX(OFFSET(業務日報!$D$3,0,0,COUNTA(業務日報!D:D)-2,1),MATCH(勤怠日報管理!B9&勤怠日報管理!C9,OFFSET(業務日報!$E$3,0,0,COUNTA(業務日報!E:E)-2,1),0)),\"\")","v":""}]
[null,"1月0日",null,{"$f":"IFERROR(VLOOKUP($C10,OFFSET(管理者用シート!$C$2,0,0,COUNTA(管理者用シート!E:E)-1,3),3,FALSE),\"\")","v":""},{"$f":"IFERROR(VLOOKUP(B10&C10,OFFSET(勤怠管理出勤!$E$3,0,0,COUNTA(勤怠管理出勤!F:F)-1,2),2,FALSE),\"\")","v":"00:00"},{"$f":"IFERROR(VLOOKUP(B10&C10,OFFSET(勤怠管理退勤!$E$3,0,0,COUNTA(勤怠管理退勤!F:F)-1,2),2,FALSE),\"\")","v":"00:00"},{"$f":"IFERROR(INDEX(OFFSET(業務日報!$D$3,0,0,COUNTA(業務日報!D:D)-2,1),MATCH(勤怠日報管理!B10&勤怠日報管理!C10,OFFSET(業務日報!$E$3,0,0,COUNTA(業務日報!E:E)-2,1),0)),\"\")","v":""}]
[null,"1月0日",null,{"$f":"IFERROR(VLOOKUP($C11,OFFSET(管理者用シート!$C$2,0,0,COUNTA(管理者用シート!E:E)-1,3),3,FALSE),\"\")","v":""},{"$f":"IFERROR(VLOOKUP(B11&C11,OFFSET(勤怠管理出勤!$E$3,0,0,COUNTA(勤怠管理出勤!F:F)-1,2),2,FALSE),\"\")","v":"00:00"},{"$f":"IFERROR(VLOOKUP(B11&C11,OFFSET(勤怠管理退勤!$E$3,0,0,COUNTA(勤怠管理退勤!F:F)-1,2),2,FALSE),\"\")","v":"00:00"},{"$f":"IFERROR(INDEX(OFFSET(業務日報!$D$3,0,0,COUNTA(業務日報!D:D)-2,1),MATCH(勤怠日報管理!B11&勤怠日報管理!C11,OFFSET(業務日報!$E$3,0,0,COUNTA(業務日報!E:E)-2,1),0)),\"\")","v":""}]
[null,"1月0日",null,{"$f":"IFERROR(VLOOKUP($C12,OFFSET(管理者用シート!$C$2,0,0,COUNTA(管理者用シート!E:E)-1,3),3,FALSE),\"\")","v":""},{"$f":"IFERROR(VLOOKUP(B12&C12,OFFSET(勤怠管理出勤!$E$3,0,0,COUNTA(勤怠管理出勤!F:F)-1,2),2,FALSE),\"\")","v":"00:00"},{"$f":"IFERROR(VLOOKUP(B12&C12,OFFSET(勤怠管理退勤!$E$3,0,0,COUNTA(勤怠管理退勤!F:F)-1,2),2,FALSE),\"\")","v":"00:00"},{"$f":"IFERROR(INDEX(OFFSET(業務日報!$D$3,0,0,COUNTA(業務日報!D:D)-2,1),MATCH(勤怠日報管理!B12&勤怠日報管理!C12,OFFSET(業務日報!$E$3,0,0,COUNTA(業務日報!E:E)-2,1),0)),\"\")","v":""}]
[null,"1月0日",null,{"$f":"IFERROR(VLOOKUP($C13,OFFSET(管理者用シート!$C$2,0,0,COUNTA(管理者用シート!E:E)-1,3),3,FALSE),\"\")","v":""},{"$f":"IFERROR(VLOOKUP(B13&C13,OFFSET(勤怠管理出勤!$E$3,0,0,COUNTA(勤怠管理出勤!F:F)-1,2),2,FALSE),\"\")","v":"00:00"},{"$f":"IFERROR(VLOOKUP(B13&C13,OFFSET(勤怠管理退勤!$E$3,0,0,COUNTA(勤怠管理退勤!F:F)-1,2),2,FALSE),\"\")","v":"00:00"},{"$f":"IFERROR(INDEX(OFFSET(業務日報!$D$3,0,0,COUNTA(業務日報!D:D)-2,1),MATCH(勤怠日報管理!B13&勤怠日報管理!C13,OFFSET(業務日報!$E$3,0,0,COUNTA(業務日報!E:E)-2,1),0)),\"\")","v":""}]
[null,"1月0日",null,{"$f":"IFERROR(VLOOKUP($C14,OFFSET(管理者用シート!$C$2,0,0,COUNTA(管理者用シート!E:E)-1,3),3,FALSE),\"\")","v":""},{"$f":"IFERROR(VLOOKUP(B14&C14,OFFSET(勤怠管理出勤!$E$3,0,0,COUNTA(勤怠管理出勤!F:F)-1,2),2,FALSE),\"\")","v":"00:00"},{"$f":"IFERROR(VLOOKUP(B14&C14,OFFSET(勤怠管理退勤!$E$3,0,0,COUNTA(勤怠管理退勤!F:F)-1,2),2,FALSE),\"\")","v":"00:00"},{"$f":"IFERROR(INDEX(OFFSET(業務日報!$D$3,0,0,COUNTA(業務日報!D:D)-2,1),MATCH(勤怠日報管理!B14&勤怠日報管理!C14,OFFSET(業務日報!$E$3,0,0,COUNTA(業務日報!E:E)-2,1),0)),\"\")","v":""}]
[null,"1月0日",null,{"$f":"IFERROR(VLOOKUP($C15,OFFSET(管理者用シート!$C$2,0,0,COUNTA(管理者用シート!E:E)-1,3),3,FALSE),\"\")","v":""},{"$f":"IFERROR(VLOOKUP(B15&C15,OFFSET(勤怠管理出勤!$E$3,0,0,COUNTA(勤怠管理出勤!F:F)-1,2),2,FALSE),\"\")","v":"00:00"},{"$f":"IFERROR(VLOOKUP(B15&C15,OFFSET(勤怠管理退勤!$E$3,0,0,COUNTA(勤怠管理退勤!F:F)-1,2),2,FALSE),\"\")","v":"00:00"},{"$f":"IFERROR(INDEX(OFFSET(業務日報!$D$3,0,0,COUNTA(業務日報!D:D)-2,1),MATCH(勤怠日報管理!B15&勤怠日報管理!C15,OFFSET(業務日報!$E$3,0,0,COUNTA(業務日報!E:E)-2,1),0)),\"\")","v":""}]
[null,"1月0日",null,{"$f":"IFERROR(VLOOKUP($C16,OFFSET(管理者用シート!$C$2,0,0,COUNTA(管理者用シート!E:E)-1,3),3,FALSE),\"\")","v":""},{"$f":"IFERROR(VLOOKUP(B16&C16,OFFSET(勤怠管理出勤!$E$3,0,0,COUNTA(勤怠管理出勤!F:F)-1,2),2,FALSE),\"\")","v":"00:00"},{"$f":"IFERROR(VLOOKUP(B16&C16,OFFSET(勤怠管理退勤!$E$3,0,0,COUNTA(勤怠管理退勤!F:F)-1,2),2,FALSE),\"\")","v":"00:00"},{"$f":"IFERROR(INDEX(OFFSET(業務日報!$D$3,0,0,COUNTA(業務日報!D:D)-2,1),MATCH(勤怠日報管理!B16&勤怠日報管理!C16,OFFSET(業務日報!$E$3,0,0,COUNTA(業務日報!E:E)-2,1),0)),\"\")","v":""}]
[null,"1月0日",null,{"$f":"IFERROR(VLOOKUP($C17,OFFSET(管理者用シート!$C$2,0,0,COUNTA(管理者用シート!E:E)-1,3),3,FALSE),\"\")","v":""},{"$f":"IFERROR(VLOOKUP(B17&C17,OFFSET(勤怠管理出勤!$E$3,0,0,COUNTA(勤怠管理出勤!F:F)-1,2),2,FALSE),\"\")","v":"00:00"},{"$f":"IFERROR(VLOOKUP(B17&C17,OFFSET(勤怠管理退勤!$E$3,0,0,COUNTA(勤怠管理退勤!F:F)-1,2),2,FALSE),\"\")","v":"00:00"},{"$f":"IFERROR(INDEX(OFFSET(業務日報!$D$3,0,0,COUNTA(業務日報!D:D)-2,1),MATCH(勤怠日報管理!B17&勤怠日報管理!C17,OFFSET(業務日報!$E$3,0,0,COUNTA(業務日報!E:E)-2,1),0)),\"\")","v":""}]
[null,"1月0日",null,{"$f":"IFERROR(VLOOKUP($C18,OFFSET(管理者用シート!$C$2,0,0,COUNTA(管理者用シート!E:E)-1,3),3,FALSE),\"\")","v":""},{"$f":"IFERROR(VLOOKUP(B18&C18,OFFSET(勤怠管理出勤!$E$3,0,0,COUNTA(勤怠管理出勤!F:F)-1,2),2,FALSE),\"\")","v":"00:00"},{"$f":"IFERROR(VLOOKUP(B18&C18,OFFSET(勤怠管理退勤!$E$3,0,0,COUNTA(勤怠管理退勤!F:F)-1,2),2,FALSE),\"\")","v":"00:00"},{"$f":"IFERROR(INDEX(OFFSET(業務日報!$D$3,0,0,COUNTA(業務日報!D:D)-2,1),MATCH(勤怠日報管理!B18&勤怠日報管理!C18,OFFSET(業務日報!$E$3,0,0,COUNTA(業務日報!E:E)-2,1),0)),\"\")","v":""}]
[null,"1月0日",null,{"$f":"IFERROR(VLOOKUP($C19,OFFSET(管理者用シート!$C$2,0,0,COUNTA(管理者用シート!E:E)-1,3),3,FALSE),\"\")","v":""},{"$f":"IFERROR(VLOOKUP(B19&C19,OFFSET(勤怠管理出勤!$E$3,0,0,COUNTA(勤怠管理出勤!F:F)-1,2),2,FALSE),\"\")","v":"00:00"},{"$f":"IFERROR(VLOOKUP(B19&C19,OFFSET(勤怠管理退勤!$E$3,0,0,COUNTA(勤怠管理退勤!F:F)-1,2),2,FALSE),\"\")","v":"00:00"},{"$f":"IFERROR(INDEX(OFFSET(業務日報!$D$3,0,0,COUNTA(業務日報!D:D)-2,1),MATCH(勤怠日報管理!B19&勤怠日報管理!C19,OFFSET(業務日報!$E$3,0,0,COUNTA(業務日報!E:E)-2,1),0)),\"\")","v":""}]
[null,"1月0日",null,{"$f":"IFERROR(VLOOKUP($C20,OFFSET(管理者用シート!$C$2,0,0,COUNTA(管理者用シート!E:E)-1,3),3,FALSE),\"\")","v":""},{"$f":"IFERROR(VLOOKUP(B20&C20,OFFSET(勤怠管理出勤!$E$3,0,0,COUNTA(勤怠管理出勤!F:F)-1,2),2,FALSE),\"\")","v":"00:00"},{"$f":"IFERROR(VLOOKUP(B20&C20,OFFSET(勤怠管理退勤!$E$3,0,0,COUNTA(勤怠管理退勤!F:F)-1,2),2,FALSE),\"\")","v":"00:00"},{"$f":"IFERROR(INDEX(OFFSET(業務日報!$D$3,0,0,COUNTA(業務日報!D:D)-2,1),MATCH(勤怠日報管理!B20&勤怠日報管理!C20,OFFSET(業務日報!$E$3,0,0,COUNTA(業務日報!E:E)-2,1),0)),\"\")","v":""}]
[null,"1月0日",null,{"$f":"IFERROR(VLOOKUP($C21,OFFSET(管理者用シート!$C$2,0,0,COUNTA(管理者用シート!E:E)-1,3),3,FALSE),\"\")","v":""},{"$f":"IFERROR(VLOOKUP(B21&C21,OFFSET(勤怠管理出勤!$E$3,0,0,COUNTA(勤怠管理出勤!F:F)-1,2),2,FALSE),\"\")","v":"00:00"},{"$f":"IFERROR(VLOOKUP(B21&C21,OFFSET(勤怠管理退勤!$E$3,0,0,COUNTA(勤怠管理退勤!F:F)-1,2),2,FALSE),\"\")","v":"00:00"},{"$f":"IFERROR(INDEX(OFFSET(業務日報!$D$3,0,0,COUNTA(業務日報!D:D)-2,1),MATCH(勤怠日報管理!B21&勤怠日報管理!C21,OFFSET(業務日報!$E$3,0,0,COUNTA(業務日報!E:E)-2,1),0)),\"\")","v":""}]
[null,"1月0日",null,{"$f":"IFERROR(VLOOKUP($C22,OFFSET(管理者用シート!$C$2,0,0,COUNTA(管理者用シート!E:E)-1,3),3,FALSE),\"\")","v":""},{"$f":"IFERROR(VLOOKUP(B22&C22,OFFSET(勤怠管理出勤!$E$3,0,0,COUNTA(勤怠管理出勤!F:F)-1,2),2,FALSE),\"\")","v":"00:00"},{"$f":"IFERROR(VLOOKUP(B22&C22,OFFSET(勤怠管理退勤!$E$3,0,0,COUNTA(勤怠管理退勤!F:F)-1,2),2,FALSE),\"\")","v":"00:00"},{"$f":"IFERROR(INDEX(OFFSET(業務日報!$D$3,0,0,COUNTA(業務日報!D:D)-2,1),MATCH(勤怠日報管理!B22&勤怠日報管理!C22,OFFSET(業務日報!$E$3,0,0,COUNTA(業務日報!E:E)-2,1),0)),\"\")","v":""}]
[null,"1月0日",null,{"$f":"IFERROR(VLOOKUP($C23,OFFSET(管理者用シート!$C$2,0,0,COUNTA(管理者用シート!E:E)-1,3),3,FALSE),\"\")","v":""},{"$f":"IFERROR(VLOOKUP(B23&C23,OFFSET(勤怠管理出勤!$E$3,0,0,COUNTA(勤怠管理出勤!F:F)-1,2),2,FALSE),\"\")","v":"00:00"},{"$f":"IFERROR(VLOOKUP(B23&C23,OFFSET(勤怠管理退勤!$E$3,0,0,COUNTA(勤怠管理退勤!F:F)-1,2),2,FALSE),\"\")","v":"00:00"},{"$f":"IFERROR(INDEX(OFFSET(業務日報!$D$3,0,0,COUNTA(業務日報!D:D)-2,1),MATCH(勤怠日報管理!B23&勤怠日報管理!C23,OFFSET(業務日報!$E$3,0,0,COUNTA(業務日報!E:E)-2,1),0)),\"\")","v":""}]
[null,"1月0日",null,{"$f":"IFERROR(VLOOKUP($C24,OFFSET(管理者用シート!$C$2,0,0,COUNTA(管理者用シート!E:E)-1,3),3,FALSE),\"\")","v":""},{"$f":"IFERROR(VLOOKUP(B24&C24,OFFSET(勤怠管理出勤!$E$3,0,0,COUNTA(勤怠管理出勤!F:F)-1,2),2,FALSE),\"\")","v":"00:00"},{"$f":"IFERROR(VLOOKUP(B24&C24,OFFSET(勤怠管理退勤!$E$3,0,0,COUNTA(勤怠管理退勤!F:F)-1,2),2,FALSE),\"\")","v":"00:00"},{"$f":"IFERROR(INDEX(OFFSET(業務日報!$D$3,0,0,COUNTA(業務日報!D:D)-2,1),MATCH(勤怠日報管理!B24&勤怠日報管理!C24,OFFSET(業務日報!$E$3,0,0,COUNTA(業務日報!E:E)-2,1),0)),\"\")","v":""}]
[null,"1月0日",null,{"$f":"IFERROR(VLOOKUP($C25,OFFSET(管理者用シート!$C$2,0,0,COUNTA(管理者用シート!E:E)-1,3),3,FALSE),\"\")","v":""},{"$f":"IFERROR(VLOOKUP(B25&C25,OFFSET(勤怠管理出勤!$E$3,0,0,COUNTA(勤怠管理出勤!F:F)-1,2),2,FALSE),\"\")","v":"00:00"},{"$f":"IFERROR(VLOOKUP(B25&C25,OFFSET(勤怠管理退勤!$E$3,0,0,COUNTA(勤怠管理退勤!F:F)-1,2),2,FALSE),\"\")","v":"00:00"},{"$f":"IFERROR(INDEX(OFFSET(業務日報!$D$3,0,0,COUNTA(業務日報!D:D)-2,1),MATCH(勤怠日報管理!B25&勤怠日報管理!C25,OFFSET(業務日報!$E$3,0,0,COUNTA(業務日報!E:E)-2,1),0)),\"\")","v":""}]
[null,"1月0日",null,{"$f":"IFERROR(VLOOKUP($C26,OFFSET(管理者用シート!$C$2,0,0,COUNTA(管理者用シート!E:E)-1,3),3,FALSE),\"\")","v":""},{"$f":"IFERROR(VLOOKUP(B26&C26,OFFSET(勤怠管理出勤!$E$3,0,0,COUNTA(勤怠管理出勤!F:F)-1,2),2,FALSE),\"\")","v":"00:00"},{"$f":"IFERROR(VLOOKUP(B26&C26,OFFSET(勤怠管理退勤!$E$3,0,0,COUNTA(勤怠管理退勤!F:F)-1,2),2,FALSE),\"\")","v":"00:00"},{"$f":"IFERROR(INDEX(OFFSET(業務日報!$D$3,0,0,COUNTA(業務日報!D:D)-2,1),MATCH(勤怠日報管理!B26&勤怠日報管理!C26,OFFSET(業務日報!$E$3,0,0,COUNTA(業務日報!E:E)-2,1),0)),\"\")","v":""}]
[null,"1月0日",null,{"$f":"IFERROR(VLOOKUP($C27,OFFSET(管理者用シート!$C$2,0,0,COUNTA(管理者用シート!E:E)-1,3),3,FALSE),\"\")","v":""},{"$f":"IFERROR(VLOOKUP(B27&C27,OFFSET(勤怠管理出勤!$E$3,0,0,COUNTA(勤怠管理出勤!F:F)-1,2),2,FALSE),\"\")","v":"00:00"},{"$f":"IFERROR(VLOOKUP(B27&C27,OFFSET(勤怠管理退勤!$E$3,0,0,COUNTA(勤怠管理退勤!F:F)-1,2),2,FALSE),\"\")","v":"00:00"},{"$f":"IFERROR(INDEX(OFFSET(業務日報!$D$3,0,0,COUNTA(業務日報!D:D)-2,1),MATCH(勤怠日報管理!B27&勤怠日報管理!C27,OFFSET(業務日報!$E$3,0,0,COUNTA(業務日報!E:E)-2,1),0)),\"\")","v":""}]
[null,"1月0日",null,{"$f":"IFERROR(VLOOKUP($C28,OFFSET(管理者用シート!$C$2,0,0,COUNTA(管理者用シート!E:E)-1,3),3,FALSE),\"\")","v":""},{"$f":"IFERROR(VLOOKUP(B28&C28,OFFSET(勤怠管理出勤!$E$3,0,0,COUNTA(勤怠管理出勤!F:F)-1,2),2,FALSE),\"\")","v":"00:00"},{"$f":"IFERROR(VLOOKUP(B28&C28,OFFSET(勤怠管理退勤!$E$3,0,0,COUNTA(勤怠管理退勤!F:F)-1,2),2,FALSE),\"\")","v":"00:00"},{"$f":"IFERROR(INDEX(OFFSET(業務日報!$D$3,0,0,COUNTA(業務日報!D:D)-2,1),MATCH(勤怠日報管理!B28&勤怠日報管理!C28,OFFSET(業務日報!$E$3,0,0,COUNTA(業務日報!E:E)-2,1),0)),\"\")","v":""}]
[null,"1月0日",null,{"$f":"IFERROR(VLOOKUP($C29,OFFSET(管理者用シート!$C$2,0,0,COUNTA(管理者用シート!E:E)-1,3),3,FALSE),\"\")","v":""},{"$f":"IFERROR(VLOOKUP(B29&C29,OFFSET(勤怠管理出勤!$E$3,0,0,COUNTA(勤怠管理出勤!F:F)-1,2),2,FALSE),\"\")","v":"00:00"},{"$f":"IFERROR(VLOOKUP(B29&C29,OFFSET(勤怠管理退勤!$E$3,0,0,COUNTA(勤怠管理退勤!F:F)-1,2),2,FALSE),\"\")","v":"00:00"},{"$f":"IFERROR(INDEX(OFFSET(業務日報!$D$3,0,0,COUNTA(業務日報!D:D)-2,1),MATCH(勤怠日報管理!B29&勤怠日報管理!C29,OFFSET(業務日報!$E$3,0,0,COUNTA(業務日報!E:E)-2,1),0)),\"\")","v":""}]
[null,"1月0日",null,{"$f":"IFERROR(VLOOKUP($C30,OFFSET(管理者用シート!$C$2,0,0,COUNTA(管理者用シート!E:E)-1,3),3,FALSE),\"\")","v":""},{"$f":"IFERROR(VLOOKUP(B30&C30,OFFSET(勤怠管理出勤!$E$3,0,0,COUNTA(勤怠管理出勤!F:F)-1,2),2,FALSE),\"\")","v":"00:00"},{"$f":"IFERROR(VLOOKUP(B30&C30,OFFSET(勤怠管理退勤!$E$3,0,0,COUNTA(勤怠管理退勤!F:F)-1,2),2,FALSE),\"\")","v":"00:00"},{"$f":"IFERROR(INDEX(OFFSET(業務日報!$D$3,0,0,COUNTA(業務日報!D:D)-2,1),MATCH(勤怠日報管理!B30&勤怠日報管理!C30,OFFSET(業務日報!$E$3,0,0,COUNTA(業務日報!E:E)-2,1),0)),\"\")","v":""}]
[null,"1月0日",null,{"$f":"IFERROR(VLOOKUP($C31,OFFSET(管理者用シート!$C$2,0,0,COUNTA(管理者用シート!E:E)-1,3),3,FALSE),\"\")","v":""},{"$f":"IFERROR(VLOOKUP(B31&C31,OFFSET(勤怠管理出勤!$E$3,0,0,COUNTA(勤怠管理出勤!F:F)-1,2),2,FALSE),\"\")","v":"00:00"},{"$f":"IFERROR(VLOOKUP(B31&C31,OFFSET(勤怠管理退勤!$E$3,0,0,COUNTA(勤怠管理退勤!F:F)-1,2),2,FALSE),\"\")","v":"00:00"},{"$f":"IFERROR(INDEX(OFFSET(業務日報!$D$3,0,0,COUNTA(業務日報!D:D)-2,1),MATCH(勤怠日報管理!B31&勤怠日報管理!C31,OFFSET(業務日報!$E$3,0,0,COUNTA(業務日報!E:E)-2,1),0)),\"\")","v":""}]
[null,"1月0日",null,{"$f":"IFERROR(VLOOKUP($C32,OFFSET(管理者用シート!$C$2,0,0,COUNTA(管理者用シート!E:E)-1,3),3,FALSE),\"\")","v":""},{"$f":"IFERROR(VLOOKUP(B32&C32,OFFSET(勤怠管理出勤!$E$3,0,0,COUNTA(勤怠管理出勤!F:F)-1,2),2,FALSE),\"\")","v":"00:00"},{"$f":"IFERROR(VLOOKUP(B32&C32,OFFSET(勤怠管理退勤!$E$3,0,0,COUNTA(勤怠管理退勤!F:F)-1,2),2,FALSE),\"\")","v":"00:00"},{"$f":"IFERROR(INDEX(OFFSET(業務日報!$D$3,0,0,COUNTA(業務日報!D:D)-2,1),MATCH(勤怠日報管理!B32&勤怠日報管理!C32,OFFSET(業務日報!$E$3,0,0,COUNTA(業務日報!E:E)-2,1),0)),\"\")","v":""}]
[null,"1月0日",null,{"$f":"IFERROR(VLOOKUP($C33,OFFSET(管理者用シート!$C$2,0,0,COUNTA(管理者用シート!E:E)-1,3),3,FALSE),\"\")","v":""},{"$f":"IFERROR(VLOOKUP(B33&C33,OFFSET(勤怠管理出勤!$E$3,0,0,COUNTA(勤怠管理出勤!F:F)-1,2),2,FALSE),\"\")","v":"00:00"},{"$f":"IFERROR(VLOOKUP(B33&C33,OFFSET(勤怠管理退勤!$E$3,0,0,COUNTA(勤怠管理退勤!F:F)-1,2),2,FALSE),\"\")","v":"00:00"},{"$f":"IFERROR(INDEX(OFFSET(業務日報!$D$3,0,0,COUNTA(業務日報!D:D)-2,1),MATCH(勤怠日報管理!B33&勤怠日報管理!C33,OFFSET(業務日報!$E$3,0,0,COUNTA(業務日報!E:E)-2,1),0)),\"\")","v":""}]
[null,"1月0日",null,{"$f":"IFERROR(VLOOKUP($C34,OFFSET(管理者用シート!$C$2,0,0,COUNTA(管理者用シート!E:E)-1,3),3,FALSE),\"\")","v":""},{"$f":"IFERROR(VLOOKUP(B34&C34,OFFSET(勤怠管理出勤!$E$3,0,0,COUNTA(勤怠管理出勤!F:F)-1,2),2,FALSE),\"\")","v":"00:00"},{"$f":"IFERROR(VLOOKUP(B34&C34,OFFSET(勤怠管理退勤!$E$3,0,0,COUNTA(勤怠管理退勤!F:F)-1,2),2,FALSE),\"\")","v":"00:00"},{"$f":"IFERROR(INDEX(OFFSET(業務日報!$D$3,0,0,COUNTA(業務日報!D:D)-2,1),MATCH(勤怠日報管理!B34&勤怠日報管理!C34,OFFSET(業務日報!$E$3,0,0,COUNTA(業務日報!E:E)-2,1),0)),\"\")","v":""}]
[null,"1月0日",null,{"$f":"IFERROR(VLOOKUP($C35,OFFSET(管理者用シート!$C$2,0,0,COUNTA(管理者用シート!E:E)-1,3),3,FALSE),\"\")","v":""},{"$f":"IFERROR(VLOOKUP(B35&C35,OFFSET(勤怠管理出勤!$E$3,0,0,COUNTA(勤怠管理出勤!F:F)-1,2),2,FALSE),\"\")","v":"00:00"},{"$f":"IFERROR(VLOOKUP(B35&C35,OFFSET(勤怠管理退勤!$E$3,0,0,COUNTA(勤怠管理退勤!F:F)-1,2),2,FALSE),\"\")","v":"00:00"},{"$f":"IFERROR(INDEX(OFFSET(業務日報!$D$3,0,0,COUNTA(業務日報!D:D)-2,1),MATCH(勤怠日報管理!B35&勤怠日報管理!C35,OFFSET(業務日報!$E$3,0,0,COUNTA(業務日報!E:E)-2,1),0)),\"\")","v":""}]
[null,"1月0日",null,{"$f":"IFERROR(VLOOKUP($C36,OFFSET(管理者用シート!$C$2,0,0,COUNTA(管理者用シート!E:E)-1,3),3,FALSE),\"\")","v":""},{"$f":"IFERROR(VLOOKUP(B36&C36,OFFSET(勤怠管理出勤!$E$3,0,0,COUNTA(勤怠管理出勤!F:F)-1,2),2,FALSE),\"\")","v":"00:00"},{"$f":"IFERROR(VLOOKUP(B36&C36,OFFSET(勤怠管理退勤!$E$3,0,0,COUNTA(勤怠管理退勤!F:F)-1,2),2,FALSE),\"\")","v":"00:00"},{"$f":"IFERROR(INDEX(OFFSET(業務日報!$D$3,0,0,COUNTA(業務日報!D:D)-2,1),MATCH(勤怠日報管理!B36&勤怠日報管理!C36,OFFSET(業務日報!$E$3,0,0,COUNTA(業務日報!E:E)-2,1),0)),\"\")","v":""}]
[null,"1月0日",null,{"$f":"IFERROR(VLOOKUP($C37,OFFSET(管理者用シート!$C$2,0,0,COUNTA(管理者用シート!E:E)-1,3),3,FALSE),\"\")","v":""},{"$f":"IFERROR(VLOOKUP(B37&C37,OFFSET(勤怠管理出勤!$E$3,0,0,COUNTA(勤怠管理出勤!F:F)-1,2),2,FALSE),\"\")","v":"00:00"},{"$f":"IFERROR(VLOOKUP(B37&C37,OFFSET(勤怠管理退勤!$E$3,0,0,COUNTA(勤怠管理退勤!F:F)-1,2),2,FALSE),\"\")","v":"00:00"},{"$f":"IFERROR(INDEX(OFFSET(業務日報!$D$3,0,0,COUNTA(業務日報!D:D)-2,1),MATCH(勤怠日報管理!B37&勤怠日報管理!C37,OFFSET(業務日報!$E$3,0,0,COUNTA(業務日報!E:E)-2,1),0)),\"\")","v":""}]
[null,"1月0日",null,{"$f":"IFERROR(VLOOKUP($C38,OFFSET(管理者用シート!$C$2,0,0,COUNTA(管理者用シート!E:E)-1,3),3,FALSE),\"\")","v":""},{"$f":"IFERROR(VLOOKUP(B38&C38,OFFSET(勤怠管理出勤!$E$3,0,0,COUNTA(勤怠管理出勤!F:F)-1,2),2,FALSE),\"\")","v":"00:00"},{"$f":"IFERROR(VLOOKUP(B38&C38,OFFSET(勤怠管理退勤!$E$3,0,0,COUNTA(勤怠管理退勤!F:F)-1,2),2,FALSE),\"\")","v":"00:00"},{"$f":"IFERROR(INDEX(OFFSET(業務日報!$D$3,0,0,COUNTA(業務日報!D:D)-2,1),MATCH(勤怠日報管理!B38&勤怠日報管理!C38,OFFSET(業務日報!$E$3,0,0,COUNTA(業務日報!E:E)-2,1),0)),\"\")","v":""}]
[null,"1月0日",null,{"$f":"IFERROR(VLOOKUP($C39,OFFSET(管理者用シート!$C$2,0,0,COUNTA(管理者用シート!E:E)-1,3),3,FALSE),\"\")","v":""},{"$f":"IFERROR(VLOOKUP(B39&C39,OFFSET(勤怠管理出勤!$E$3,0,0,COUNTA(勤怠管理出勤!F:F)-1,2),2,FALSE),\"\")","v":"00:00"},{"$f":"IFERROR(VLOOKUP(B39&C39,OFFSET(勤怠管理退勤!$E$3,0,0,COUNTA(勤怠管理退勤!F:F)-1,2),2,FALSE),\"\")","v":"00:00"},{"$f":"IFERROR(INDEX(OFFSET(業務日報!$D$3,0,0,COUNTA(業務日報!D:D)-2,1),MATCH(勤怠日報管理!B39&勤怠日報管理!C39,OFFSET(業務日報!$E$3,0,0,COUNTA(業務日報!E:E)-2,1),0)),\"\")","v":""}]
[null,"1月0日",null,{"$f":"IFERROR(VLOOKUP($C40,OFFSET(管理者用シート!$C$2,0,0,COUNTA(管理者用シート!E:E)-1,3),3,FALSE),\"\")","v":""},{"$f":"IFERROR(VLOOKUP(B40&C40,OFFSET(勤怠管理出勤!$E$3,0,0,COUNTA(勤怠管理出勤!F:F)-1,2),2,FALSE),\"\")","v":"00:00"},{"$f":"IFERROR(VLOOKUP(B40&C40,OFFSET(勤怠管理退勤!$E$3,0,0,COUNTA(勤怠管理退勤!F:F)-1,2),2,FALSE),\"\")","v":"00:00"},{"$f":"IFERROR(INDEX(OFFSET(業務日報!$D$3,0,0,COUNTA(業務日報!D:D)-2,1),MATCH(勤怠日報管理!B40&勤怠日報管理!C40,OFFSET(業務日報!$E$3,0,0,COUNTA(業務日報!E:E)-2,1),0)),\"\")","v":""}]
[null,"1月0日",null,{"$f":"IFERROR(VLOOKUP($C41,OFFSET(管理者用シート!$C$2,0,0,COUNTA(管理者用シート!E:E)-1,3),3,FALSE),\"\")","v":""},{"$f":"IFERROR(VLOOKUP(B41&C41,OFFSET(勤怠管理出勤!$E$3,0,0,COUNTA(勤怠管理出勤!F:F)-1,2),2,FALSE),\"\")","v":"00:00"},{"$f":"IFERROR(VLOOKUP(B41&C41,OFFSET(勤怠管理退勤!$E$3,0,0,COUNTA(勤怠管理退勤!F:F)-1,2),2,FALSE),\"\")","v":"00:00"},{"$f":"IFERROR(INDEX(OFFSET(業務日報!$D$3,0,0,COUNTA(業務日報!D:D)-2,1),MATCH(勤怠日報管理!B41&勤怠日報管理!C41,OFFSET(業務日報!$E$3,0,0,COUNTA(業務日報!E:E)-2,1),0)),\"\")","v":""}]
[null,"1月0日",null,{"$f":"IFERROR(VLOOKUP($C42,OFFSET(管理者用シート!$C$2,0,0,COUNTA(管理者用シート!E:E)-1,3),3,FALSE),\"\")","v":""},{"$f":"IFERROR(VLOOKUP(B42&C42,OFFSET(勤怠管理出勤!$E$3,0,0,COUNTA(勤怠管理出勤!F:F)-1,2),2,FALSE),\"\")","v":"00:00"},{"$f":"IFERROR(VLOOKUP(B42&C42,OFFSET(勤怠管理退勤!$E$3,0,0,COUNTA(勤怠管理退勤!F:F)-1,2),2,FALSE),\"\")","v":"00:00"},{"$f":"IFERROR(INDEX(OFFSET(業務日報!$D$3,0,0,COUNTA(業務日報!D:D)-2,1),MATCH(勤怠日報管理!B42&勤怠日報管理!C42,OFFSET(業務日報!$E$3,0,0,COUNTA(業務日報!E:E)-2,1),0)),\"\")","v":""}]
[null,"1月0日",null,{"$f":"IFERROR(VLOOKUP($C43,OFFSET(管理者用シート!$C$2,0,0,COUNTA(管理者用シート!E:E)-1,3),3,FALSE),\"\")","v":""},{"$f":"IFERROR(VLOOKUP(B43&C43,OFFSET(勤怠管理出勤!$E$3,0,0,COUNTA(勤怠管理出勤!F:F)-1,2),2,FALSE),\"\")","v":"00:00"},{"$f":"IFERROR(VLOOKUP(B43&C43,OFFSET(勤怠管理退勤!$E$3,0,0,COUNTA(勤怠管理退勤!F:F)-1,2),2,FALSE),\"\")","v":"00:00"},{"$f":"IFERROR(INDEX(OFFSET(業務日報!$D$3,0,0,COUNTA(業務日報!D:D)-2,1),MATCH(勤怠日報管理!B43&勤怠日報管理!C43,OFFSET(業務日報!$E$3,0,0,COUNTA(業務日報!E:E)-2,1),0)),\"\")","v":""}]
[null,"1月0日",null,{"$f":"IFERROR(VLOOKUP($C44,OFFSET(管理者用シート!$C$2,0,0,COUNTA(管理者用シート!E:E)-1,3),3,FALSE),\"\")","v":""},{"$f":"IFERROR(VLOOKUP(B44&C44,OFFSET(勤怠管理出勤!$E$3,0,0,COUNTA(勤怠管理出勤!F:F)-1,2),2,FALSE),\"\")","v":"00:00"},{"$f":"IFERROR(VLOOKUP(B44&C44,OFFSET(勤怠管理退勤!$E$3,0,0,COUNTA(勤怠管理退勤!F:F)-1,2),2,FALSE),\"\")","v":"00:00"},{"$f":"IFERROR(INDEX(OFFSET(業務日報!$D$3,0,0,COUNTA(業務日報!D:D)-2,1),MATCH(勤怠日報管理!B44&勤怠日報管理!C44,OFFSET(業務日報!$E$3,0,0,COUNTA(業務日報!E:E)-2,1),0)),\"\")","v":""}]
[null,"1月0日",null,{"$f":"IFERROR(VLOOKUP($C45,OFFSET(管理者用シート!$C$2,0,0,COUNTA(管理者用シート!E:E)-1,3),3,FALSE),\"\")","v":""},{"$f":"IFERROR(VLOOKUP(B45&C45,OFFSET(勤怠管理出勤!$E$3,0,0,COUNTA(勤怠管理出勤!F:F)-1,2),2,FALSE),\"\")","v":"00:00"},{"$f":"IFERROR(VLOOKUP(B45&C45,OFFSET(勤怠管理退勤!$E$3,0,0,COUNTA(勤怠管理退勤!F:F)-1,2),2,FALSE),\"\")","v":"00:00"},{"$f":"IFERROR(INDEX(OFFSET(業務日報!$D$3,0,0,COUNTA(業務日報!D:D)-2,1),MATCH(勤怠日報管理!B45&勤怠日報管理!C45,OFFSET(業務日報!$E$3,0,0,COUNTA(業務日報!E:E)-2,1),0)),\"\")","v":""}]
[null,"1月0日",null,{"$f":"IFERROR(VLOOKUP($C46,OFFSET(管理者用シート!$C$2,0,0,COUNTA(管理者用シート!E:E)-1,3),3,FALSE),\"\")","v":""},{"$f":"IFERROR(VLOOKUP(B46&C46,OFFSET(勤怠管理出勤!$E$3,0,0,COUNTA(勤怠管理出勤!F:F)-1,2),2,FALSE),\"\")","v":"00:00"},{"$f":"IFERROR(VLOOKUP(B46&C46,OFFSET(勤怠管理退勤!$E$3,0,0,COUNTA(勤怠管理退勤!F:F)-1,2),2,FALSE),\"\")","v":"00:00"},{"$f":"IFERROR(INDEX(OFFSET(業務日報!$D$3,0,0,COUNTA(業務日報!D:D)-2,1),MATCH(勤怠日報管理!B46&勤怠日報管理!C46,OFFSET(業務日報!$E$3,0,0,COUNTA(業務日報!E:E)-2,1),0)),\"\")","v":""}]
[null,"1月0日",null,{"$f":"IFERROR(VLOOKUP($C47,OFFSET(管理者用シート!$C$2,0,0,COUNTA(管理者用シート!E:E)-1,3),3,FALSE),\"\")","v":""},{"$f":"IFERROR(VLOOKUP(B47&C47,OFFSET(勤怠管理出勤!$E$3,0,0,COUNTA(勤怠管理出勤!F:F)-1,2),2,FALSE),\"\")","v":"00:00"},{"$f":"IFERROR(VLOOKUP(B47&C47,OFFSET(勤怠管理退勤!$E$3,0,0,COUNTA(勤怠管理退勤!F:F)-1,2),2,FALSE),\"\")","v":"00:00"},{"$f":"IFERROR(INDEX(OFFSET(業務日報!$D$3,0,0,COUNTA(業務日報!D:D)-2,1),MATCH(勤怠日報管理!B47&勤怠日報管理!C47,OFFSET(業務日報!$E$3,0,0,COUNTA(業務日報!E:E)-2,1),0)),\"\")","v":""}]
[null,"1月0日",null,{"$f":"IFERROR(VLOOKUP($C48,OFFSET(管理者用シート!$C$2,0,0,COUNTA(管理者用シート!E:E)-1,3),3,FALSE),\"\")","v":""},{"$f":"IFERROR(VLOOKUP(B48&C48,OFFSET(勤怠管理出勤!$E$3,0,0,COUNTA(勤怠管理出勤!F:F)-1,2),2,FALSE),\"\")","v":"00:00"},{"$f":"IFERROR(VLOOKUP(B48&C48,OFFSET(勤怠管理退勤!$E$3,0,0,COUNTA(勤怠管理退勤!F:F)-1,2),2,FALSE),\"\")","v":"00:00"},{"$f":"IFERROR(INDEX(OFFSET(業務日報!$D$3,0,0,COUNTA(業務日報!D:D)-2,1),MATCH(勤怠日報管理!B48&勤怠日報管理!C48,OFFSET(業務日報!$E$3,0,0,COUNTA(業務日報!E:E)-2,1),0)),\"\")","v":""}]
[null,"1月0日",null,{"$f":"IFERROR(VLOOKUP($C49,OFFSET(管理者用シート!$C$2,0,0,COUNTA(管理者用シート!E:E)-1,3),3,FALSE),\"\")","v":""},{"$f":"IFERROR(VLOOKUP(B49&C49,OFFSET(勤怠管理出勤!$E$3,0,0,COUNTA(勤怠管理出勤!F:F)-1,2),2,FALSE),\"\")","v":"00:00"},{"$f":"IFERROR(VLOOKUP(B49&C49,OFFSET(勤怠管理退勤!$E$3,0,0,COUNTA(勤怠管理退勤!F:F)-1,2),2,FALSE),\"\")","v":"00:00"},{"$f":"IFERROR(INDEX(OFFSET(業務日報!$D$3,0,0,COUNTA(業務日報!D:D)-2,1),MATCH(勤怠日報管理!B49&勤怠日報管理!C49,OFFSET(業務日報!$E$3,0,0,COUNTA(業務日報!E:E)-2,1),0)),\"\")","v":""}]
[null,"1月0日",null,{"$f":"IFERROR(VLOOKUP($C50,OFFSET(管理者用シート!$C$2,0,0,COUNTA(管理者用シート!E:E)-1,3),3,FALSE),\"\")","v":""},{"$f":"IFERROR(VLOOKUP(B50&C50,OFFSET(勤怠管理出勤!$E$3,0,0,COUNTA(勤怠管理出勤!F:F)-1,2),2,FALSE),\"\")","v":"00:00"},{"$f":"IFERROR(VLOOKUP(B50&C50,OFFSET(勤怠管理退勤!$E$3,0,0,COUNTA(勤怠管理退勤!F:F)-1,2),2,FALSE),\"\")","v":"00:00"},{"$f":"IFERROR(INDEX(OFFSET(業務日報!$D$3,0,0,COUNTA(業務日報!D:D)-2,1),MATCH(勤怠日報管理!B50&勤怠日報管理!C50,OFFSET(業務日報!$E$3,0,0,COUNTA(業務日報!E:E)-2,1),0)),\"\")","v":""}]
[null,"1月0日",null,{"$f":"IFERROR(VLOOKUP($C51,OFFSET(管理者用シート!$C$2,0,0,COUNTA(管理者用シート!E:E)-1,3),3,FALSE),\"\")","v":""},{"$f":"IFERROR(VLOOKUP(B51&C51,OFFSET(勤怠管理出勤!$E$3,0,0,COUNTA(勤怠管理出勤!F:F)-1,2),2,FALSE),\"\")","v":"00:00"},{"$f":"IFERROR(VLOOKUP(B51&C51,OFFSET(勤怠管理退勤!$E$3,0,0,COUNTA(勤怠管理退勤!F:F)-1,2),2,FALSE),\"\")","v":"00:00"},{"$f":"IFERROR(INDEX(OFFSET(業務日報!$D$3,0,0,COUNTA(業務日報!D:D)-2,1),MATCH(勤怠日報管理!B51&勤怠日報管理!C51,OFFSET(業務日報!$E$3,0,0,COUNTA(業務日報!E:E)-2,1),0)),\"\")","v":""}]
[null,"1月0日",null,{"$f":"IFERROR(VLOOKUP($C52,OFFSET(管理者用シート!$C$2,0,0,COUNTA(管理者用シート!E:E)-1,3),3,FALSE),\"\")","v":""},{"$f":"IFERROR(VLOOKUP(B52&C52,OFFSET(勤怠管理出勤!$E$3,0,0,COUNTA(勤怠管理出勤!F:F)-1,2),2,FALSE),\"\")","v":"00:00"},{"$f":"IFERROR(VLOOKUP(B52&C52,OFFSET(勤怠管理退勤!$E$3,0,0,COUNTA(勤怠管理退勤!F:F)-1,2),2,FALSE),\"\")","v":"00:00"},{"$f":"IFERROR(INDEX(OFFSET(業務日報!$D$3,0,0,COUNTA(業務日報!D:D)-2,1),MATCH(勤怠日報管理!B52&勤怠日報管理!C52,OFFSET(業務日報!$E$3,0,0,COUNTA(業務日報!E:E)-2,1),0)),\"\")","v":""}]
[null,"1月0日",null,{"$f":"IFERROR(VLOOKUP($C53,OFFSET(管理者用シート!$C$2,0,0,COUNTA(管理者用シート!E:E)-1,3),3,FALSE),\"\")","v":""},{"$f":"IFERROR(VLOOKUP(B53&C53,OFFSET(勤怠管理出勤!$E$3,0,0,COUNTA(勤怠管理出勤!F:F)-1,2),2,FALSE),\"\")","v":"00:00"},{"$f":"IFERROR(VLOOKUP(B53&C53,OFFSET(勤怠管理退勤!$E$3,0,0,COUNTA(勤怠管理退勤!F:F)-1,2),2,FALSE),\"\")","v":"00:00"},{"$f":"IFERROR(INDEX(OFFSET(業務日報!$D$3,0,0,COUNTA(業務日報!D:D)-2,1),MATCH(勤怠日報管理!B53&勤怠日報管理!C53,OFFSET(業務日報!$E$3,0,0,COUNTA(業務日報!E:E)-2,1),0)),\"\")","v":""}]
[null,"1月0日",null,{"$f":"IFERROR(VLOOKUP($C54,OFFSET(管理者用シート!$C$2,0,0,COUNTA(管理者用シート!E:E)-1,3),3,FALSE),\"\")","v":""},{"$f":"IFERROR(VLOOKUP(B54&C54,OFFSET(勤怠管理出勤!$E$3,0,0,COUNTA(勤怠管理出勤!F:F)-1,2),2,FALSE),\"\")","v":"00:00"},{"$f":"IFERROR(VLOOKUP(B54&C54,OFFSET(勤怠管理退勤!$E$3,0,0,COUNTA(勤怠管理退勤!F:F)-1,2),2,FALSE),\"\")","v":"00:00"},{"$f":"IFERROR(INDEX(OFFSET(業務日報!$D$3,0,0,COUNTA(業務日報!D:D)-2,1),MATCH(勤怠日報管理!B54&勤怠日報管理!C54,OFFSET(業務日報!$E$3,0,0,COUNTA(業務日報!E:E)-2,1),0)),\"\")","v":""}]
[null,"1月0日",null,{"$f":"IFERROR(VLOOKUP($C55,OFFSET(管理者用シート!$C$2,0,0,COUNTA(管理者用シート!E:E)-1,3),3,FALSE),\"\")","v":""},{"$f":"IFERROR(VLOOKUP(B55&C55,OFFSET(勤怠管理出勤!$E$3,0,0,COUNTA(勤怠管理出勤!F:F)-1,2),2,FALSE),\"\")","v":"00:00"},{"$f":"IFERROR(VLOOKUP(B55&C55,OFFSET(勤怠管理退勤!$E$3,0,0,COUNTA(勤怠管理退勤!F:F)-1,2),2,FALSE),\"\")","v":"00:00"},{"$f":"IFERROR(INDEX(OFFSET(業務日報!$D$3,0,0,COUNTA(業務日報!D:D)-2,1),MATCH(勤怠日報管理!B55&勤怠日報管理!C55,OFFSET(業務日報!$E$3,0,0,COUNTA(業務日報!E:E)-2,1),0)),\"\")","v":""}]
[null,"1月0日",null,{"$f":"IFERROR(VLOOKUP($C56,OFFSET(管理者用シート!$C$2,0,0,COUNTA(管理者用シート!E:E)-1,3),3,FALSE),\"\")","v":""},{"$f":"IFERROR(VLOOKUP(B56&C56,OFFSET(勤怠管理出勤!$E$3,0,0,COUNTA(勤怠管理出勤!F:F)-1,2),2,FALSE),\"\")","v":"00:00"},{"$f":"IFERROR(VLOOKUP(B56&C56,OFFSET(勤怠管理退勤!$E$3,0,0,COUNTA(勤怠管理退勤!F:F)-1,2),2,FALSE),\"\")","v":"00:00"},{"$f":"IFERROR(INDEX(OFFSET(業務日報!$D$3,0,0,COUNTA(業務日報!D:D)-2,1),MATCH(勤怠日報管理!B56&勤怠日報管理!C56,OFFSET(業務日報!$E$3,0,0,COUNTA(業務日報!E:E)-2,1),0)),\"\")","v":""}]
[null,"1月0日",null,{"$f":"IFERROR(VLOOKUP($C57,OFFSET(管理者用シート!$C$2,0,0,COUNTA(管理者用シート!E:E)-1,3),3,FALSE),\"\")","v":""},{"$f":"IFERROR(VLOOKUP(B57&C57,OFFSET(勤怠管理出勤!$E$3,0,0,COUNTA(勤怠管理出勤!F:F)-1,2),2,FALSE),\"\")","v":"00:00"},{"$f":"IFERROR(VLOOKUP(B57&C57,OFFSET(勤怠管理退勤!$E$3,0,0,COUNTA(勤怠管理退勤!F:F)-1,2),2,FALSE),\"\")","v":"00:00"},{"$f":"IFERROR(INDEX(OFFSET(業務日報!$D$3,0,0,COUNTA(業務日報!D:D)-2,1),MATCH(勤怠日報管理!B57&勤怠日報管理!C57,OFFSET(業務日報!$E$3,0,0,COUNTA(業務日報!E:E)-2,1),0)),\"\")","v":""}]
[null,"1月0日",null,{"$f":"IFERROR(VLOOKUP($C58,OFFSET(管理者用シート!$C$2,0,0,COUNTA(管理者用シート!E:E)-1,3),3,FALSE),\"\")","v":""},{"$f":"IFERROR(VLOOKUP(B58&C58,OFFSET(勤怠管理出勤!$E$3,0,0,COUNTA(勤怠管理出勤!F:F)-1,2),2,FALSE),\"\")","v":"00:00"},{"$f":"IFERROR(VLOOKUP(B58&C58,OFFSET(勤怠管理退勤!$E$3,0,0,COUNTA(勤怠管理退勤!F:F)-1,2),2,FALSE),\"\")","v":"00:00"},{"$f":"IFERROR(INDEX(OFFSET(業務日報!$D$3,0,0,COUNTA(業務日報!D:D)-2,1),MATCH(勤怠日報管理!B58&勤怠日報管理!C58,OFFSET(業務日報!$E$3,0,0,COUNTA(業務日報!E:E)-2,1),0)),\"\")","v":""}]
[null,"1月0日",null,{"$f":"IFERROR(VLOOKUP($C59,OFFSET(管理者用シート!$C$2,0,0,COUNTA(管理者用シート!E:E)-1,3),3,FALSE),\"\")","v":""},{"$f":"IFERROR(VLOOKUP(B59&C59,OFFSET(勤怠管理出勤!$E$3,0,0,COUNTA(勤怠管理出勤!F:F)-1,2),2,FALSE),\"\")","v":"00:00"},{"$f":"IFERROR(VLOOKUP(B59&C59,OFFSET(勤怠管理退勤!$E$3,0,0,COUNTA(勤怠管理退勤!F:F)-1,2),2,FALSE),\"\")","v":"00:00"},{"$f":"IFERROR(INDEX(OFFSET(業務日報!$D$3,0,0,COUNTA(業務日報!D:D)-2,1),MATCH(勤怠日報管理!B59&勤怠日報管理!C59,OFFSET(業務日報!$E$3,0,0,COUNTA(業務日報!E:E)-2,1),0)),\"\")","v":""}]
[null,"1月0日",null,{"$f":"IFERROR(VLOOKUP($C60,OFFSET(管理者用シート!$C$2,0,0,COUNTA(管理者用シート!E:E)-1,3),3,FALSE),\"\")","v":""},{"$f":"IFERROR(VLOOKUP(B60&C60,OFFSET(勤怠管理出勤!$E$3,0,0,COUNTA(勤怠管理出勤!F:F)-1,2),2,FALSE),\"\")","v":"00:00"},{"$f":"IFERROR(VLOOKUP(B60&C60,OFFSET(勤怠管理退勤!$E$3,0,0,COUNTA(勤怠管理退勤!F:F)-1,2),2,FALSE),\"\")","v":"00:00"},{"$f":"IFERROR(INDEX(OFFSET(業務日報!$D$3,0,0,COUNTA(業務日報!D:D)-2,1),MATCH(勤怠日報管理!B60&勤怠日報管理!C60,OFFSET(業務日報!$E$3,0,0,COUNTA(業務日報!E:E)-2,1),0)),\"\")","v":""}]
[null,"1月0日",null,{"$f":"IFERROR(VLOOKUP($C61,OFFSET(管理者用シート!$C$2,0,0,COUNTA(管理者用シート!E:E)-1,3),3,FALSE),\"\")","v":""},{"$f":"IFERROR(VLOOKUP(B61&C61,OFFSET(勤怠管理出勤!$E$3,0,0,COUNTA(勤怠管理出勤!F:F)-1,2),2,FALSE),\"\")","v":"00:00"},{"$f":"IFERROR(VLOOKUP(B61&C61,OFFSET(勤怠管理退勤!$E$3,0,0,COUNTA(勤怠管理退勤!F:F)-1,2),2,FALSE),\"\")","v":"00:00"},{"$f":"IFERROR(INDEX(OFFSET(業務日報!$D$3,0,0,COUNTA(業務日報!D:D)-2,1),MATCH(勤怠日報管理!B61&勤怠日報管理!C61,OFFSET(業務日報!$E$3,0,0,COUNTA(業務日報!E:E)-2,1),0)),\"\")","v":""}]
[null,"1月0日",null,{"$f":"IFERROR(VLOOKUP($C62,OFFSET(管理者用シート!$C$2,0,0,COUNTA(管理者用シート!E:E)-1,3),3,FALSE),\"\")","v":""},{"$f":"IFERROR(VLOOKUP(B62&C62,OFFSET(勤怠管理出勤!$E$3,0,0,COUNTA(勤怠管理出勤!F:F)-1,2),2,FALSE),\"\")","v":"00:00"},{"$f":"IFERROR(VLOOKUP(B62&C62,OFFSET(勤怠管理退勤!$E$3,0,0,COUNTA(勤怠管理退勤!F:F)-1,2),2,FALSE),\"\")","v":"00:00"},{"$f":"IFERROR(INDEX(OFFSET(業務日報!$D$3,0,0,COUNTA(業務日報!D:D)-2,1),MATCH(勤怠日報管理!B62&勤怠日報管理!C62,OFFSET(業務日報!$E$3,0,0,COUNTA(業務日報!E:E)-2,1),0)),\"\")","v":""}]
[null,"1月0日",null,{"$f":"IFERROR(VLOOKUP($C63,OFFSET(管理者用シート!$C$2,0,0,COUNTA(管理者用シート!E:E)-1,3),3,FALSE),\"\")","v":""},{"$f":"IFERROR(VLOOKUP(B63&C63,OFFSET(勤怠管理出勤!$E$3,0,0,COUNTA(勤怠管理出勤!F:F)-1,2),2,FALSE),\"\")","v":"00:00"},{"$f":"IFERROR(VLOOKUP(B63&C63,OFFSET(勤怠管理退勤!$E$3,0,0,COUNTA(勤怠管理退勤!F:F)-1,2),2,FALSE),\"\")","v":"00:00"},{"$f":"IFERROR(INDEX(OFFSET(業務日報!$D$3,0,0,COUNTA(業務日報!D:D)-2,1),MATCH(勤怠日報管理!B63&勤怠日報管理!C63,OFFSET(業務日報!$E$3,0,0,COUNTA(業務日報!E:E)-2,1),0)),\"\")","v":""}]
[null,"1月0日",null,{"$f":"IFERROR(VLOOKUP($C64,OFFSET(管理者用シート!$C$2,0,0,COUNTA(管理者用シート!E:E)-1,3),3,FALSE),\"\")","v":""},{"$f":"IFERROR(VLOOKUP(B64&C64,OFFSET(勤怠管理出勤!$E$3,0,0,COUNTA(勤怠管理出勤!F:F)-1,2),2,FALSE),\"\")","v":"00:00"},{"$f":"IFERROR(VLOOKUP(B64&C64,OFFSET(勤怠管理退勤!$E$3,0,0,COUNTA(勤怠管理退勤!F:F)-1,2),2,FALSE),\"\")","v":"00:00"},{"$f":"IFERROR(INDEX(OFFSET(業務日報!$D$3,0,0,COUNTA(業務日報!D:D)-2,1),MATCH(勤怠日報管理!B64&勤怠日報管理!C64,OFFSET(業務日報!$E$3,0,0,COUNTA(業務日報!E:E)-2,1),0)),\"\")","v":""}]
[null,"1月0日",null,{"$f":"IFERROR(VLOOKUP($C65,OFFSET(管理者用シート!$C$2,0,0,COUNTA(管理者用シート!E:E)-1,3),3,FALSE),\"\")","v":""},{"$f":"IFERROR(VLOOKUP(B65&C65,OFFSET(勤怠管理出勤!$E$3,0,0,COUNTA(勤怠管理出勤!F:F)-1,2),2,FALSE),\"\")","v":"00:00"},{"$f":"IFERROR(VLOOKUP(B65&C65,OFFSET(勤怠管理退勤!$E$3,0,0,COUNTA(勤怠管理退勤!F:F)-1,2),2,FALSE),\"\")","v":"00:00"},{"$f":"IFERROR(INDEX(OFFSET(業務日報!$D$3,0,0,COUNTA(業務日報!D:D)-2,1),MATCH(勤怠日報管理!B65&勤怠日報管理!C65,OFFSET(業務日報!$E$3,0,0,COUNTA(業務日報!E:E)-2,1),0)),\"\")","v":""}]
[null,"1月0日",null,{"$f":"IFERROR(VLOOKUP($C66,OFFSET(管理者用シート!$C$2,0,0,COUNTA(管理者用シート!E:E)-1,3),3,FALSE),\"\")","v":""},{"$f":"IFERROR(VLOOKUP(B66&C66,OFFSET(勤怠管理出勤!$E$3,0,0,COUNTA(勤怠管理出勤!F:F)-1,2),2,FALSE),\"\")","v":"00:00"},{"$f":"IFERROR(VLOOKUP(B66&C66,OFFSET(勤怠管理退勤!$E$3,0,0,COUNTA(勤怠管理退勤!F:F)-1,2),2,FALSE),\"\")","v":"00:00"},{"$f":"IFERROR(INDEX(OFFSET(業務日報!$D$3,0,0,COUNTA(業務日報!D:D)-2,1),MATCH(勤怠日報管理!B66&勤怠日報管理!C66,OFFSET(業務日報!$E$3,0,0,COUNTA(業務日報!E:E)-2,1),0)),\"\")","v":""}]
[null,"1月0日",null,{"$f":"IFERROR(VLOOKUP($C67,OFFSET(管理者用シート!$C$2,0,0,COUNTA(管理者用シート!E:E)-1,3),3,FALSE),\"\")","v":""},{"$f":"IFERROR(VLOOKUP(B67&C67,OFFSET(勤怠管理出勤!$E$3,0,0,COUNTA(勤怠管理出勤!F:F)-1,2),2,FALSE),\"\")","v":"00:00"},{"$f":"IFERROR(VLOOKUP(B67&C67,OFFSET(勤怠管理退勤!$E$3,0,0,COUNTA(勤怠管理退勤!F:F)-1,2),2,FALSE),\"\")","v":"00:00"},{"$f":"IFERROR(INDEX(OFFSET(業務日報!$D$3,0,0,COUNTA(業務日報!D:D)-2,1),MATCH(勤怠日報管理!B67&勤怠日報管理!C67,OFFSET(業務日報!$E$3,0,0,COUNTA(業務日報!E:E)-2,1),0)),\"\")","v":""}]
[null,"1月0日",null,{"$f":"IFERROR(VLOOKUP($C68,OFFSET(管理者用シート!$C$2,0,0,COUNTA(管理者用シート!E:E)-1,3),3,FALSE),\"\")","v":""},{"$f":"IFERROR(VLOOKUP(B68&C68,OFFSET(勤怠管理出勤!$E$3,0,0,COUNTA(勤怠管理出勤!F:F)-1,2),2,FALSE),\"\")","v":"00:00"},{"$f":"IFERROR(VLOOKUP(B68&C68,OFFSET(勤怠管理退勤!$E$3,0,0,COUNTA(勤怠管理退勤!F:F)-1,2),2,FALSE),\"\")","v":"00:00"},{"$f":"IFERROR(INDEX(OFFSET(業務日報!$D$3,0,0,COUNTA(業務日報!D:D)-2,1),MATCH(勤怠日報管理!B68&勤怠日報管理!C68,OFFSET(業務日報!$E$3,0,0,COUNTA(業務日報!E:E)-2,1),0)),\"\")","v":""}]
[null,{"$f":"TEXT(A69,\"m月d日\")","v":"1月0日"},null,{"$f":"IFERROR(VLOOKUP($C69,OFFSET(管理者用シート!$C$2,0,0,COUNTA(管理者用シート!E:E)-1,3),3,FALSE),\"\")","v":""},{"$f":"IFERROR(VLOOKUP(B69&C69,OFFSET(勤怠管理出勤!$E$3,0,0,COUNTA(勤怠管理出勤!F:F)-1,2),2,FALSE),\"\")","v":"00:00"},{"$f":"IFERROR(VLOOKUP(B69&C69,OFFSET(勤怠管理退勤!$E$3,0,0,COUNTA(勤怠管理退勤!F:F)-1,2),2,FALSE),\"\")","v":"00:00"},{"$f":"IFERROR(INDEX(OFFSET(業務日報!$D$3,0,0,COUNTA(業務日報!D:D)-2,1),MATCH(勤怠日報管理!B69&勤怠日報管理!C69,OFFSET(業務日報!$E$3,0,0,COUNTA(業務日報!E:E)-2,1),0)),\"\")","v":""}]
[null,"1月0日",null,{"$f":"IFERROR(VLOOKUP($C70,OFFSET(管理者用シート!$C$2,0,0,COUNTA(管理者用シート!E:E)-1,3),3,FALSE),\"\")","v":""},{"$f":"IFERROR(VLOOKUP(B70&C70,OFFSET(勤怠管理出勤!$E$3,0,0,COUNTA(勤怠管理出勤!F:F)-1,2),2,FALSE),\"\")","v":"00:00"},{"$f":"IFERROR(VLOOKUP(B70&C70,OFFSET(勤怠管理退勤!$E$3,0,0,COUNTA(勤怠管理退勤!F:F)-1,2),2,FALSE),\"\")","v":"00:00"},{"$f":"IFERROR(INDEX(OFFSET(業務日報!$D$3,0,0,COUNTA(業務日報!D:D)-2,1),MATCH(勤怠日報管理!B70&勤怠日報管理!C70,OFFSET(業務日報!$E$3,0,0,COUNTA(業務日報!E:E)-2,1),0)),\"\")","v":""}]
[null,"1月0日",null,{"$f":"IFERROR(VLOOKUP($C71,OFFSET(管理者用シート!$C$2,0,0,COUNTA(管理者用シート!E:E)-1,3),3,FALSE),\"\")","v":""},{"$f":"IFERROR(VLOOKUP(B71&C71,OFFSET(勤怠管理出勤!$E$3,0,0,COUNTA(勤怠管理出勤!F:F)-1,2),2,FALSE),\"\")","v":"00:00"},{"$f":"IFERROR(VLOOKUP(B71&C71,OFFSET(勤怠管理退勤!$E$3,0,0,COUNTA(勤怠管理退勤!F:F)-1,2),2,FALSE),\"\")","v":"00:00"},{"$f":"IFERROR(INDEX(OFFSET(業務日報!$D$3,0,0,COUNTA(業務日報!D:D)-2,1),MATCH(勤怠日報管理!B71&勤怠日報管理!C71,OFFSET(業務日報!$E$3,0,0,COUNTA(業務日報!E:E)-2,1),0)),\"\")","v":""}]
[null,"1月0日",null,{"$f":"IFERROR(VLOOKUP($C72,OFFSET(管理者用シート!$C$2,0,0,COUNTA(管理者用シート!E:E)-1,3),3,FALSE),\"\")","v":""},{"$f":"IFERROR(VLOOKUP(B72&C72,OFFSET(勤怠管理出勤!$E$3,0,0,COUNTA(勤怠管理出勤!F:F)-1,2),2,FALSE),\"\")","v":"00:00"},{"$f":"IFERROR(VLOOKUP(B72&C72,OFFSET(勤怠管理退勤!$E$3,0,0,COUNTA(勤怠管理退勤!F:F)-1,2),2,FALSE),\"\")","v":"00:00"},{"$f":"IFERROR(INDEX(OFFSET(業務日報!$D$3,0,0,COUNTA(業務日報!D:D)-2,1),MATCH(勤怠日報管理!B72&勤怠日報管理!C72,OFFSET(業務日報!$E$3,0,0,COUNTA(業務日報!E:E)-2,1),0)),\"\")","v":""}]
[null,"1月0日",null,{"$f":"IFERROR(VLOOKUP($C73,OFFSET(管理者用シート!$C$2,0,0,COUNTA(管理者用シート!E:E)-1,3),3,FALSE),\"\")","v":""},{"$f":"IFERROR(VLOOKUP(B73&C73,OFFSET(勤怠管理出勤!$E$3,0,0,COUNTA(勤怠管理出勤!F:F)-1,2),2,FALSE),\"\")","v":"00:00"},{"$f":"IFERROR(VLOOKUP(B73&C73,OFFSET(勤怠管理退勤!$E$3,0,0,COUNTA(勤怠管理退勤!F:F)-1,2),2,FALSE),\"\")","v":"00:00"},{"$f":"IFERROR(INDEX(OFFSET(業務日報!$D$3,0,0,COUNTA(業務日報!D:D)-2,1),MATCH(勤怠日報管理!B73&勤怠日報管理!C73,OFFSET(業務日報!$E$3,0,0,COUNTA(業務日報!E:E)-2,1),0)),\"\")","v":""}]
[null,"1月0日",null,{"$f":"IFERROR(VLOOKUP($C74,OFFSET(管理者用シート!$C$2,0,0,COUNTA(管理者用シート!E:E)-1,3),3,FALSE),\"\")","v":""},{"$f":"IFERROR(VLOOKUP(B74&C74,OFFSET(勤怠管理出勤!$E$3,0,0,COUNTA(勤怠管理出勤!F:F)-1,2),2,FALSE),\"\")","v":"00:00"},{"$f":"IFERROR(VLOOKUP(B74&C74,OFFSET(勤怠管理退勤!$E$3,0,0,COUNTA(勤怠管理退勤!F:F)-1,2),2,FALSE),\"\")","v":"00:00"},{"$f":"IFERROR(INDEX(OFFSET(業務日報!$D$3,0,0,COUNTA(業務日報!D:D)-2,1),MATCH(勤怠日報管理!B74&勤怠日報管理!C74,OFFSET(業務日報!$E$3,0,0,COUNTA(業務日報!E:E)-2,1),0)),\"\")","v":""}]
[null,"1月0日",null,{"$f":"IFERROR(VLOOKUP($C75,OFFSET(管理者用シート!$C$2,0,0,COUNTA(管理者用シート!E:E)-1,3),3,FALSE),\"\")","v":""},{"$f":"IFERROR(VLOOKUP(B75&C75,OFFSET(勤怠管理出勤!$E$3,0,0,COUNTA(勤怠管理出勤!F:F)-1,2),2,FALSE),\"\")","v":"00:00"},{"$f":"IFERROR(VLOOKUP(B75&C75,OFFSET(勤怠管理退勤!$E$3,0,0,COUNTA(勤怠管理退勤!F:F)-1,2),2,FALSE),\"\")","v":"00:00"},{"$f":"IFERROR(INDEX(OFFSET(業務日報!$D$3,0,0,COUNTA(業務日報!D:D)-2,1),MATCH(勤怠日報管理!B75&勤怠日報管理!C75,OFFSET(業務日報!$E$3,0,0,COUNTA(業務日報!E:E)-2,1),0)),\"\")","v":""}]
[null,"1月0日",null,{"$f":"IFERROR(VLOOKUP($C76,OFFSET(管理者用シート!$C$2,0,0,COUNTA(管理者用シート!E:E)-1,3),3,FALSE),\"\")","v":""},{"$f":"IFERROR(VLOOKUP(B76&C76,OFFSET(勤怠管理出勤!$E$3,0,0,COUNTA(勤怠管理出勤!F:F)-1,2),2,FALSE),\"\")","v":"00:00"},{"$f":"IFERROR(VLOOKUP(B76&C76,OFFSET(勤怠管理退勤!$E$3,0,0,COUNTA(勤怠管理退勤!F:F)-1,2),2,FALSE),\"\")","v":"00:00"},{"$f":"IFERROR(INDEX(OFFSET(業務日報!$D$3,0,0,COUNTA(業務日報!D:D)-2,1),MATCH(勤怠日報管理!B76&勤怠日報管理!C76,OFFSET(業務日報!$E$3,0,0,COUNTA(業務日報!E:E)-2,1),0)),\"\")","v":""}]
[null,"1月0日",null,{"$f":"IFERROR(VLOOKUP($C77,OFFSET(管理者用シート!$C$2,0,0,COUNTA(管理者用シート!E:E)-1,3),3,FALSE),\"\")","v":""},{"$f":"IFERROR(VLOOKUP(B77&C77,OFFSET(勤怠管理出勤!$E$3,0,0,COUNTA(勤怠管理出勤!F:F)-1,2),2,FALSE),\"\")","v":"00:00"},{"$f":"IFERROR(VLOOKUP(B77&C77,OFFSET(勤怠管理退勤!$E$3,0,0,COUNTA(勤怠管理退勤!F:F)-1,2),2,FALSE),\"\")","v":"00:00"},{"$f":"IFERROR(INDEX(OFFSET(業務日報!$D$3,0,0,COUNTA(業務日報!D:D)-2,1),MATCH(勤怠日報管理!B77&勤怠日報管理!C77,OFFSET(業務日報!$E$3,0,0,COUNTA(業務日報!E:E)-2,1),0)),\"\")","v":""}]
[null,"1月0日",null,{"$f":"IFERROR(VLOOKUP($C78,OFFSET(管理者用シート!$C$2,0,0,COUNTA(管理者用シート!E:E)-1,3),3,FALSE),\"\")","v":""},{"$f":"IFERROR(VLOOKUP(B78&C78,OFFSET(勤怠管理出勤!$E$3,0,0,COUNTA(勤怠管理出勤!F:F)-1,2),2,FALSE),\"\")","v":"00:00"},{"$f":"IFERROR(VLOOKUP(B78&C78,OFFSET(勤怠管理退勤!$E$3,0,0,COUNTA(勤怠管理退勤!F:F)-1,2),2,FALSE),\"\")","v":"00:00"},{"$f":"IFERROR(INDEX(OFFSET(業務日報!$D$3,0,0,COUNTA(業務日報!D:D)-2,1),MATCH(勤怠日報管理!B78&勤怠日報管理!C78,OFFSET(業務日報!$E$3,0,0,COUNTA(業務日報!E:E)-2,1),0)),\"\")","v":""}]
[null,"1月0日",null,{"$f":"IFERROR(VLOOKUP($C79,OFFSET(管理者用シート!$C$2,0,0,COUNTA(管理者用シート!E:E)-1,3),3,FALSE),\"\")","v":""},{"$f":"IFERROR(VLOOKUP(B79&C79,OFFSET(勤怠管理出勤!$E$3,0,0,COUNTA(勤怠管理出勤!F:F)-1,2),2,FALSE),\"\")","v":"00:00"},{"$f":"IFERROR(VLOOKUP(B79&C79,OFFSET(勤怠管理退勤!$E$3,0,0,COUNTA(勤怠管理退勤!F:F)-1,2),2,FALSE),\"\")","v":"00:00"},{"$f":"IFERROR(INDEX(OFFSET(業務日報!$D$3,0,0,COUNTA(業務日報!D:D)-2,1),MATCH(勤怠日報管理!B79&勤怠日報管理!C79,OFFSET(業務日報!$E$3,0,0,COUNTA(業務日報!E:E)-2,1),0)),\"\")","v":""}]
[null,"1月0日",null,{"$f":"IFERROR(VLOOKUP($C80,OFFSET(管理者用シート!$C$2,0,0,COUNTA(管理者用シート!E:E)-1,3),3,FALSE),\"\")","v":""},{"$f":"IFERROR(VLOOKUP(B80&C80,OFFSET(勤怠管理出勤!$E$3,0,0,COUNTA(勤怠管理出勤!F:F)-1,2),2,FALSE),\"\")","v":"00:00"},{"$f":"IFERROR(VLOOKUP(B80&C80,OFFSET(勤怠管理退勤!$E$3,0,0,COUNTA(勤怠管理退勤!F:F)-1,2),2,FALSE),\"\")","v":"00:00"},{"$f":"IFERROR(INDEX(OFFSET(業務日報!$D$3,0,0,COUNTA(業務日報!D:D)-2,1),MATCH(勤怠日報管理!B80&勤怠日報管理!C80,OFFSET(業務日報!$E$3,0,0,COUNTA(業務日報!E:E)-2,1),0)),\"\")","v":""}]
[null,"1月0日",null,{"$f":"IFERROR(VLOOKUP($C81,OFFSET(管理者用シート!$C$2,0,0,COUNTA(管理者用シート!E:E)-1,3),3,FALSE),\"\")","v":""},{"$f":"IFERROR(VLOOKUP(B81&C81,OFFSET(勤怠管理出勤!$E$3,0,0,COUNTA(勤怠管理出勤!F:F)-1,2),2,FALSE),\"\")","v":"00:00"},{"$f":"IFERROR(VLOOKUP(B81&C81,OFFSET(勤怠管理退勤!$E$3,0,0,COUNTA(勤怠管理退勤!F:F)-1,2),2,FALSE),\"\")","v":"00:00"},{"$f":"IFERROR(INDEX(OFFSET(業務日報!$D$3,0,0,COUNTA(業務日報!D:D)-2,1),MATCH(勤怠日報管理!B81&勤怠日報管理!C81,OFFSET(業務日報!$E$3,0,0,COUNTA(業務日報!E:E)-2,1),0)),\"\")","v":""}]
[null,"1月0日",null,{"$f":"IFERROR(VLOOKUP($C82,OFFSET(管理者用シート!$C$2,0,0,COUNTA(管理者用シート!E:E)-1,3),3,FALSE),\"\")","v":""},{"$f":"IFERROR(VLOOKUP(B82&C82,OFFSET(勤怠管理出勤!$E$3,0,0,COUNTA(勤怠管理出勤!F:F)-1,2),2,FALSE),\"\")","v":"00:00"},{"$f":"IFERROR(VLOOKUP(B82&C82,OFFSET(勤怠管理退勤!$E$3,0,0,COUNTA(勤怠管理退勤!F:F)-1,2),2,FALSE),\"\")","v":"00:00"},{"$f":"IFERROR(INDEX(OFFSET(業務日報!$D$3,0,0,COUNTA(業務日報!D:D)-2,1),MATCH(勤怠日報管理!B82&勤怠日報管理!C82,OFFSET(業務日報!$E$3,0,0,COUNTA(業務日報!E:E)-2,1),0)),\"\")","v":""}]
[null,"1月0日",null,{"$f":"IFERROR(VLOOKUP($C83,OFFSET(管理者用シート!$C$2,0,0,COUNTA(管理者用シート!E:E)-1,3),3,FALSE),\"\")","v":""},{"$f":"IFERROR(VLOOKUP(B83&C83,OFFSET(勤怠管理出勤!$E$3,0,0,COUNTA(勤怠管理出勤!F:F)-1,2),2,FALSE),\"\")","v":"00:00"},{"$f":"IFERROR(VLOOKUP(B83&C83,OFFSET(勤怠管理退勤!$E$3,0,0,COUNTA(勤怠管理退勤!F:F)-1,2),2,FALSE),\"\")","v":"00:00"},{"$f":"IFERROR(INDEX(OFFSET(業務日報!$D$3,0,0,COUNTA(業務日報!D:D)-2,1),MATCH(勤怠日報管理!B83&勤怠日報管理!C83,OFFSET(業務日報!$E$3,0,0,COUNTA(業務日報!E:E)-2,1),0)),\"\")","v":""}]
[null,"1月0日",null,{"$f":"IFERROR(VLOOKUP($C84,OFFSET(管理者用シート!$C$2,0,0,COUNTA(管理者用シート!E:E)-1,3),3,FALSE),\"\")","v":""},{"$f":"IFERROR(VLOOKUP(B84&C84,OFFSET(勤怠管理出勤!$E$3,0,0,COUNTA(勤怠管理出勤!F:F)-1,2),2,FALSE),\"\")","v":"00:00"},{"$f":"IFERROR(VLOOKUP(B84&C84,OFFSET(勤怠管理退勤!$E$3,0,0,COUNTA(勤怠管理退勤!F:F)-1,2),2,FALSE),\"\")","v":"00:00"},{"$f":"IFERROR(INDEX(OFFSET(業務日報!$D$3,0,0,COUNTA(業務日報!D:D)-2,1),MATCH(勤怠日報管理!B84&勤怠日報管理!C84,OFFSET(業務日報!$E$3,0,0,COUNTA(業務日報!E:E)-2,1),0)),\"\")","v":""}]
[null,"1月0日",null,{"$f":"IFERROR(VLOOKUP($C85,OFFSET(管理者用シート!$C$2,0,0,COUNTA(管理者用シート!E:E)-1,3),3,FALSE),\"\")","v":""},{"$f":"IFERROR(VLOOKUP(B85&C85,OFFSET(勤怠管理出勤!$E$3,0,0,COUNTA(勤怠管理出勤!F:F)-1,2),2,FALSE),\"\")","v":"00:00"},{"$f":"IFERROR(VLOOKUP(B85&C85,OFFSET(勤怠管理退勤!$E$3,0,0,COUNTA(勤怠管理退勤!F:F)-1,2),2,FALSE),\"\")","v":"00:00"},{"$f":"IFERROR(INDEX(OFFSET(業務日報!$D$3,0,0,COUNTA(業務日報!D:D)-2,1),MATCH(勤怠日報管理!B85&勤怠日報管理!C85,OFFSET(業務日報!$E$3,0,0,COUNTA(業務日報!E:E)-2,1),0)),\"\")","v":""}]
[null,"1月0日",null,{"$f":"IFERROR(VLOOKUP($C86,OFFSET(管理者用シート!$C$2,0,0,COUNTA(管理者用シート!E:E)-1,3),3,FALSE),\"\")","v":""},{"$f":"IFERROR(VLOOKUP(B86&C86,OFFSET(勤怠管理出勤!$E$3,0,0,COUNTA(勤怠管理出勤!F:F)-1,2),2,FALSE),\"\")","v":"00:00"},{"$f":"IFERROR(VLOOKUP(B86&C86,OFFSET(勤怠管理退勤!$E$3,0,0,COUNTA(勤怠管理退勤!F:F)-1,2),2,FALSE),\"\")","v":"00:00"},{"$f":"IFERROR(INDEX(OFFSET(業務日報!$D$3,0,0,COUNTA(業務日報!D:D)-2,1),MATCH(勤怠日報管理!B86&勤怠日報管理!C86,OFFSET(業務日報!$E$3,0,0,COUNTA(業務日報!E:E)-2,1),0)),\"\")","v":""}]
[null,"1月0日",null,{"$f":"IFERROR(VLOOKUP($C87,OFFSET(管理者用シート!$C$2,0,0,COUNTA(管理者用シート!E:E)-1,3),3,FALSE),\"\")","v":""},{"$f":"IFERROR(VLOOKUP(B87&C87,OFFSET(勤怠管理出勤!$E$3,0,0,COUNTA(勤怠管理出勤!F:F)-1,2),2,FALSE),\"\")","v":"00:00"},{"$f":"IFERROR(VLOOKUP(B87&C87,OFFSET(勤怠管理退勤!$E$3,0,0,COUNTA(勤怠管理退勤!F:F)-1,2),2,FALSE),\"\")","v":"00:00"},{"$f":"IFERROR(INDEX(OFFSET(業務日報!$D$3,0,0,COUNTA(業務日報!D:D)-2,1),MATCH(勤怠日報管理!B87&勤怠日報管理!C87,OFFSET(業務日報!$E$3,0,0,COUNTA(業務日報!E:E)-2,1),0)),\"\")","v":""}]
[null,"1月0日",null,{"$f":"IFERROR(VLOOKUP($C88,OFFSET(管理者用シート!$C$2,0,0,COUNTA(管理者用シート!E:E)-1,3),3,FALSE),\"\")","v":""},{"$f":"IFERROR(VLOOKUP(B88&C88,OFFSET(勤怠管理出勤!$E$3,0,0,COUNTA(勤怠管理出勤!F:F)-1,2),2,FALSE),\"\")","v":"00:00"},{"$f":"IFERROR(VLOOKUP(B88&C88,OFFSET(勤怠管理退勤!$E$3,0,0,COUNTA(勤怠管理退勤!F:F)-1,2),2,FALSE),\"\")","v":"00:00"},{"$f":"IFERROR(INDEX(OFFSET(業務日報!$D$3,0,0,COUNTA(業務日報!D:D)-2,1),MATCH(勤怠日報管理!B88&勤怠日報管理!C88,OFFSET(業務日報!$E$3,0,0,COUNTA(業務日報!E:E)-2,1),0)),\"\")","v":""}]
[null,"1月0日",null,{"$f":"IFERROR(VLOOKUP($C89,OFFSET(管理者用シート!$C$2,0,0,COUNTA(管理者用シート!E:E)-1,3),3,FALSE),\"\")","v":""},{"$f":"IFERROR(VLOOKUP(B89&C89,OFFSET(勤怠管理出勤!$E$3,0,0,COUNTA(勤怠管理出勤!F:F)-1,2),2,FALSE),\"\")","v":"00:00"},{"$f":"IFERROR(VLOOKUP(B89&C89,OFFSET(勤怠管理退勤!$E$3,0,0,COUNTA(勤怠管理退勤!F:F)-1,2),2,FALSE),\"\")","v":"00:00"},{"$f":"IFERROR(INDEX(OFFSET(業務日報!$D$3,0,0,COUNTA(業務日報!D:D)-2,1),MATCH(勤怠日報管理!B89&勤怠日報管理!C89,OFFSET(業務日報!$E$3,0,0,COUNTA(業務日報!E:E)-2,1),0)),\"\")","v":""}]
[null,"1月0日",null,{"$f":"IFERROR(VLOOKUP($C90,OFFSET(管理者用シート!$C$2,0,0,COUNTA(管理者用シート!E:E)-1,3),3,FALSE),\"\")","v":""},{"$f":"IFERROR(VLOOKUP(B90&C90,OFFSET(勤怠管理出勤!$E$3,0,0,COUNTA(勤怠管理出勤!F:F)-1,2),2,FALSE),\"\")","v":"00:00"},{"$f":"IFERROR(VLOOKUP(B90&C90,OFFSET(勤怠管理退勤!$E$3,0,0,COUNTA(勤怠管理退勤!F:F)-1,2),2,FALSE),\"\")","v":"00:00"},{"$f":"IFERROR(INDEX(OFFSET(業務日報!$D$3,0,0,COUNTA(業務日報!D:D)-2,1),MATCH(勤怠日報管理!B90&勤怠日報管理!C90,OFFSET(業務日報!$E$3,0,0,COUNTA(業務日報!E:E)-2,1),0)),\"\")","v":""}]
[null,"1月0日",null,{"$f":"IFERROR(VLOOKUP($C91,OFFSET(管理者用シート!$C$2,0,0,COUNTA(管理者用シート!E:E)-1,3),3,FALSE),\"\")","v":""},{"$f":"IFERROR(VLOOKUP(B91&C91,OFFSET(勤怠管理出勤!$E$3,0,0,COUNTA(勤怠管理出勤!F:F)-1,2),2,FALSE),\"\")","v":"00:00"},{"$f":"IFERROR(VLOOKUP(B91&C91,OFFSET(勤怠管理退勤!$E$3,0,0,COUNTA(勤怠管理退勤!F:F)-1,2),2,FALSE),\"\")","v":"00:00"},{"$f":"IFERROR(INDEX(OFFSET(業務日報!$D$3,0,0,COUNTA(業務日報!D:D)-2,1),MATCH(勤怠日報管理!B91&勤怠日報管理!C91,OFFSET(業務日報!$E$3,0,0,COUNTA(業務日報!E:E)-2,1),0)),\"\")","v":""}]
[null,"1月0日",null,{"$f":"IFERROR(VLOOKUP($C92,OFFSET(管理者用シート!$C$2,0,0,COUNTA(管理者用シート!E:E)-1,3),3,FALSE),\"\")","v":""},{"$f":"IFERROR(VLOOKUP(B92&C92,OFFSET(勤怠管理出勤!$E$3,0,0,COUNTA(勤怠管理出勤!F:F)-1,2),2,FALSE),\"\")","v":"00:00"},{"$f":"IFERROR(VLOOKUP(B92&C92,OFFSET(勤怠管理退勤!$E$3,0,0,COUNTA(勤怠管理退勤!F:F)-1,2),2,FALSE),\"\")","v":"00:00"},{"$f":"IFERROR(INDEX(OFFSET(業務日報!$D$3,0,0,COUNTA(業務日報!D:D)-2,1),MATCH(勤怠日報管理!B92&勤怠日報管理!C92,OFFSET(業務日報!$E$3,0,0,COUNTA(業務日報!E:E)-2,1),0)),\"\")","v":""}]
[null,"1月0日",null,{"$f":"IFERROR(VLOOKUP($C93,OFFSET(管理者用シート!$C$2,0,0,COUNTA(管理者用シート!E:E)-1,3),3,FALSE),\"\")","v":""},{"$f":"IFERROR(VLOOKUP(B93&C93,OFFSET(勤怠管理出勤!$E$3,0,0,COUNTA(勤怠管理出勤!F:F)-1,2),2,FALSE),\"\")","v":"00:00"},{"$f":"IFERROR(VLOOKUP(B93&C93,OFFSET(勤怠管理退勤!$E$3,0,0,COUNTA(勤怠管理退勤!F:F)-1,2),2,FALSE),\"\")","v":"00:00"},{"$f":"IFERROR(INDEX(OFFSET(業務日報!$D$3,0,0,COUNTA(業務日報!D:D)-2,1),MATCH(勤怠日報管理!B93&勤怠日報管理!C93,OFFSET(業務日報!$E$3,0,0,COUNTA(業務日報!E:E)-2,1),0)),\"\")","v":""}]
[null,"1月0日",null,{"$f":"IFERROR(VLOOKUP($C94,OFFSET(管理者用シート!$C$2,0,0,COUNTA(管理者用シート!E:E)-1,3),3,FALSE),\"\")","v":""},{"$f":"IFERROR(VLOOKUP(B94&C94,OFFSET(勤怠管理出勤!$E$3,0,0,COUNTA(勤怠管理出勤!F:F)-1,2),2,FALSE),\"\")","v":"00:00"},{"$f":"IFERROR(VLOOKUP(B94&C94,OFFSET(勤怠管理退勤!$E$3,0,0,COUNTA(勤怠管理退勤!F:F)-1,2),2,FALSE),\"\")","v":"00:00"},{"$f":"IFERROR(INDEX(OFFSET(業務日報!$D$3,0,0,COUNTA(業務日報!D:D)-2,1),MATCH(勤怠日報管理!B94&勤怠日報管理!C94,OFFSET(業務日報!$E$3,0,0,COUNTA(業務日報!E:E)-2,1),0)),\"\")","v":""}]
[null,"1月0日",null,{"$f":"IFERROR(VLOOKUP($C95,OFFSET(管理者用シート!$C$2,0,0,COUNTA(管理者用シート!E:E)-1,3),3,FALSE),\"\")","v":""},{"$f":"IFERROR(VLOOKUP(B95&C95,OFFSET(勤怠管理出勤!$E$3,0,0,COUNTA(勤怠管理出勤!F:F)-1,2),2,FALSE),\"\")","v":"00:00"},{"$f":"IFERROR(VLOOKUP(B95&C95,OFFSET(勤怠管理退勤!$E$3,0,0,COUNTA(勤怠管理退勤!F:F)-1,2),2,FALSE),\"\")","v":"00:00"},{"$f":"IFERROR(INDEX(OFFSET(業務日報!$D$3,0,0,COUNTA(業務日報!D:D)-2,1),MATCH(勤怠日報管理!B95&勤怠日報管理!C95,OFFSET(業務日報!$E$3,0,0,COUNTA(業務日報!E:E)-2,1),0)),\"\")","v":""}]
[null,"1月0日",null,{"$f":"IFERROR(VLOOKUP($C96,OFFSET(管理者用シート!$C$2,0,0,COUNTA(管理者用シート!E:E)-1,3),3,FALSE),\"\")","v":""},{"$f":"IFERROR(VLOOKUP(B96&C96,OFFSET(勤怠管理出勤!$E$3,0,0,COUNTA(勤怠管理出勤!F:F)-1,2),2,FALSE),\"\")","v":"00:00"},{"$f":"IFERROR(VLOOKUP(B96&C96,OFFSET(勤怠管理退勤!$E$3,0,0,COUNTA(勤怠管理退勤!F:F)-1,2),2,FALSE),\"\")","v":"00:00"},{"$f":"IFERROR(INDEX(OFFSET(業務日報!$D$3,0,0,COUNTA(業務日報!D:D)-2,1),MATCH(勤怠日報管理!B96&勤怠日報管理!C96,OFFSET(業務日報!$E$3,0,0,COUNTA(業務日報!E:E)-2,1),0)),\"\")","v":""}]
[null,"1月0日",null,{"$f":"IFERROR(VLOOKUP($C97,OFFSET(管理者用シート!$C$2,0,0,COUNTA(管理者用シート!E:E)-1,3),3,FALSE),\"\")","v":""},{"$f":"IFERROR(VLOOKUP(B97&C97,OFFSET(勤怠管理出勤!$E$3,0,0,COUNTA(勤怠管理出勤!F:F)-1,2),2,FALSE),\"\")","v":"00:00"},{"$f":"IFERROR(VLOOKUP(B97&C97,OFFSET(勤怠管理退勤!$E$3,0,0,COUNTA(勤怠管理退勤!F:F)-1,2),2,FALSE),\"\")","v":"00:00"},{"$f":"IFERROR(INDEX(OFFSET(業務日報!$D$3,0,0,COUNTA(業務日報!D:D)-2,1),MATCH(勤怠日報管理!B97&勤怠日報管理!C97,OFFSET(業務日報!$E$3,0,0,COUNTA(業務日報!E:E)-2,1),0)),\"\")","v":""}]
[null,"1月0日",null,{"$f":"IFERROR(VLOOKUP($C98,OFFSET(管理者用シート!$C$2,0,0,COUNTA(管理者用シート!E:E)-1,3),3,FALSE),\"\")","v":""},{"$f":"IFERROR(VLOOKUP(B98&C98,OFFSET(勤怠管理出勤!$E$3,0,0,COUNTA(勤怠管理出勤!F:F)-1,2),2,FALSE),\"\")","v":"00:00"},{"$f":"IFERROR(VLOOKUP(B98&C98,OFFSET(勤怠管理退勤!$E$3,0,0,COUNTA(勤怠管理退勤!F:F)-1,2),2,FALSE),\"\")","v":"00:00"},{"$f":"IFERROR(INDEX(OFFSET(業務日報!$D$3,0,0,COUNTA(業務日報!D:D)-2,1),MATCH(勤怠日報管理!B98&勤怠日報管理!C98,OFFSET(業務日報!$E$3,0,0,COUNTA(業務日報!E:E)-2,1),0)),\"\")","v":""}]
[null,"1月0日",null,{"$f":"IFERROR(VLOOKUP($C99,OFFSET(管理者用シート!$C$2,0,0,COUNTA(管理者用シート!E:E)-1,3),3,FALSE),\"\")","v":""},{"$f":"IFERROR(VLOOKUP(B99&C99,OFFSET(勤怠管理出勤!$E$3,0,0,COUNTA(勤怠管理出勤!F:F)-1,2),2,FALSE),\"\")","v":"00:00"},{"$f":"IFERROR(VLOOKUP(B99&C99,OFFSET(勤怠管理退勤!$E$3,0,0,COUNTA(勤怠管理退勤!F:F)-1,2),2,FALSE),\"\")","v":"00:00"},{"$f":"IFERROR(INDEX(OFFSET(業務日報!$D$3,0,0,COUNTA(業務日報!D:D)-2,1),MATCH(勤怠日報管理!B99&勤怠日報管理!C99,OFFSET(業務日報!$E$3,0,0,COUNTA(業務日報!E:E)-2,1),0)),\"\")","v":""}]
[null,"1月0日",null,{"$f":"IFERROR(VLOOKUP($C100,OFFSET(管理者用シート!$C$2,0,0,COUNTA(管理者用シート!E:E)-1,3),3,FALSE),\"\")","v":""},{"$f":"IFERROR(VLOOKUP(B100&C100,OFFSET(勤怠管理出勤!$E$3,0,0,COUNTA(勤怠管理出勤!F:F)-1,2),2,FALSE),\"\")","v":"00:00"},{"$f":"IFERROR(VLOOKUP(B100&C100,OFFSET(勤怠管理退勤!$E$3,0,0,COUNTA(勤怠管理退勤!F:F)-1,2),2,FALSE),\"\")","v":"00:00"},{"$f":"IFERROR(INDEX(OFFSET(業務日報!$D$3,0,0,COUNTA(業務日報!D:D)-2,1),MATCH(勤怠日報管理!B100&勤怠日報管理!C100,OFFSET(業務日報!$E$3,0,0,COUNTA(業務日報!E:E)-2,1),0)),\"\")","v":""}]
[null,"1月0日",null,{"$f":"IFERROR(VLOOKUP($C101,OFFSET(管理者用シート!$C$2,0,0,COUNTA(管理者用シート!E:E)-1,3),3,FALSE),\"\")","v":""},{"$f":"IFERROR(VLOOKUP(B101&C101,OFFSET(勤怠管理出勤!$E$3,0,0,COUNTA(勤怠管理出勤!F:F)-1,2),2,FALSE),\"\")","v":"00:00"},{"$f":"IFERROR(VLOOKUP(B101&C101,OFFSET(勤怠管理退勤!$E$3,0,0,COUNTA(勤怠管理退勤!F:F)-1,2),2,FALSE),\"\")","v":"00:00"},{"$f":"IFERROR(INDEX(OFFSET(業務日報!$D$3,0,0,COUNTA(業務日報!D:D)-2,1),MATCH(勤怠日報管理!B101&勤怠日報管理!C101,OFFSET(業務日報!$E$3,0,0,COUNTA(業務日報!E:E)-2,1),0)),\"\")","v":""}]
[null,"1月0日",null,{"$f":"IFERROR(VLOOKUP($C102,OFFSET(管理者用シート!$C$2,0,0,COUNTA(管理者用シート!E:E)-1,3),3,FALSE),\"\")","v":""},{"$f":"IFERROR(VLOOKUP(B102&C102,OFFSET(勤怠管理出勤!$E$3,0,0,COUNTA(勤怠管理出勤!F:F)-1,2),2,FALSE),\"\")","v":"00:00"},{"$f":"IFERROR(VLOOKUP(B102&C102,OFFSET(勤怠管理退勤!$E$3,0,0,COUNTA(勤怠管理退勤!F:F)-1,2),2,FALSE),\"\")","v":"00:00"},{"$f":"IFERROR(INDEX(OFFSET(業務日報!$D$3,0,0,COUNTA(業務日報!D:D)-2,1),MATCH(勤怠日報管理!B102&勤怠日報管理!C102,OFFSET(業務日報!$E$3,0,0,COUNTA(業務日報!E:E)-2,1),0)),\"\")","v":""}]
[null,"1月0日",null,{"$f":"IFERROR(VLOOKUP($C103,OFFSET(管理者用シート!$C$2,0,0,COUNTA(管理者用シート!E:E)-1,3),3,FALSE),\"\")","v":""},{"$f":"IFERROR(VLOOKUP(B103&C103,OFFSET(勤怠管理出勤!$E$3,0,0,COUNTA(勤怠管理出勤!F:F)-1,2),2,FALSE),\"\")","v":"00:00"},{"$f":"IFERROR(VLOOKUP(B103&C103,OFFSET(勤怠管理退勤!$E$3,0,0,COUNTA(勤怠管理退勤!F:F)-1,2),2,FALSE),\"\")","v":"00:00"},{"$f":"IFERROR(INDEX(OFFSET(業務日報!$D$3,0,0,COUNTA(業務日報!D:D)-2,1),MATCH(勤怠日報管理!B103&勤怠日報管理!C103,OFFSET(業務日報!$E$3,0,0,COUNTA(業務日報!E:E)-2,1),0)),\"\")","v":""}]
[null,"1月0日",null,{"$f":"IFERROR(VLOOKUP($C104,OFFSET(管理者用シート!$C$2,0,0,COUNTA(管理者用シート!E:E)-1,3),3,FALSE),\"\")","v":""},{"$f":"IFERROR(VLOOKUP(B104&C104,OFFSET(勤怠管理出勤!$E$3,0,0,COUNTA(勤怠管理出勤!F:F)-1,2),2,FALSE),\"\")","v":"00:00"},{"$f":"IFERROR(VLOOKUP(B104&C104,OFFSET(勤怠管理退勤!$E$3,0,0,COUNTA(勤怠管理退勤!F:F)-1,2),2,FALSE),\"\")","v":"00:00"},{"$f":"IFERROR(INDEX(OFFSET(業務日報!$D$3,0,0,COUNTA(業務日報!D:D)-2,1),MATCH(勤怠日報管理!B104&勤怠日報管理!C104,OFFSET(業務日報!$E$3,0,0,COUNTA(業務日報!E:E)-2,1),0)),\"\")","v":""}]
[null,"1月0日",null,{"$f":"IFERROR(VLOOKUP($C105,OFFSET(管理者用シート!$C$2,0,0,COUNTA(管理者用シート!E:E)-1,3),3,FALSE),\"\")","v":""},{"$f":"IFERROR(VLOOKUP(B105&C105,OFFSET(勤怠管理出勤!$E$3,0,0,COUNTA(勤怠管理出勤!F:F)-1,2),2,FALSE),\"\")","v":"00:00"},{"$f":"IFERROR(VLOOKUP(B105&C105,OFFSET(勤怠管理退勤!$E$3,0,0,COUNTA(勤怠管理退勤!F:F)-1,2),2,FALSE),\"\")","v":"00:00"},{"$f":"IFERROR(INDEX(OFFSET(業務日報!$D$3,0,0,COUNTA(業務日報!D:D)-2,1),MATCH(勤怠日報管理!B105&勤怠日報管理!C105,OFFSET(業務日報!$E$3,0,0,COUNTA(業務日報!E:E)-2,1),0)),\"\")","v":""}]
[null,"1月0日",null,{"$f":"IFERROR(VLOOKUP($C106,OFFSET(管理者用シート!$C$2,0,0,COUNTA(管理者用シート!E:E)-1,3),3,FALSE),\"\")","v":""},{"$f":"IFERROR(VLOOKUP(B106&C106,OFFSET(勤怠管理出勤!$E$3,0,0,COUNTA(勤怠管理出勤!F:F)-1,2),2,FALSE),\"\")","v":"00:00"},{"$f":"IFERROR(VLOOKUP(B106&C106,OFFSET(勤怠管理退勤!$E$3,0,0,COUNTA(勤怠管理退勤!F:F)-1,2),2,FALSE),\"\")","v":"00:00"},{"$f":"IFERROR(INDEX(OFFSET(業務日報!$D$3,0,0,COUNTA(業務日報!D:D)-2,1),MATCH(勤怠日報管理!B106&勤怠日報管理!C106,OFFSET(業務日報!$E$3,0,0,COUNTA(業務日報!E:E)-2,1),0)),\"\")","v":""}]
[null,"1月0日",null,{"$f":"IFERROR(VLOOKUP($C107,OFFSET(管理者用シート!$C$2,0,0,COUNTA(管理者用シート!E:E)-1,3),3,FALSE),\"\")","v":""},{"$f":"IFERROR(VLOOKUP(B107&C107,OFFSET(勤怠管理出勤!$E$3,0,0,COUNTA(勤怠管理出勤!F:F)-1,2),2,FALSE),\"\")","v":"00:00"},{"$f":"IFERROR(VLOOKUP(B107&C107,OFFSET(勤怠管理退勤!$E$3,0,0,COUNTA(勤怠管理退勤!F:F)-1,2),2,FALSE),\"\")","v":"00:00"},{"$f":"IFERROR(INDEX(OFFSET(業務日報!$D$3,0,0,COUNTA(業務日報!D:D)-2,1),MATCH(勤怠日報管理!B107&勤怠日報管理!C107,OFFSET(業務日報!$E$3,0,0,COUNTA(業務日報!E:E)-2,1),0)),\"\")","v":""}]
[null,"1月0日",null,{"$f":"IFERROR(VLOOKUP($C108,OFFSET(管理者用シート!$C$2,0,0,COUNTA(管理者用シート!E:E)-1,3),3,FALSE),\"\")","v":""},{"$f":"IFERROR(VLOOKUP(B108&C108,OFFSET(勤怠管理出勤!$E$3,0,0,COUNTA(勤怠管理出勤!F:F)-1,2),2,FALSE),\"\")","v":"00:00"},{"$f":"IFERROR(VLOOKUP(B108&C108,OFFSET(勤怠管理退勤!$E$3,0,0,COUNTA(勤怠管理退勤!F:F)-1,2),2,FALSE),\"\")","v":"00:00"},{"$f":"IFERROR(INDEX(OFFSET(業務日報!$D$3,0,0,COUNTA(業務日報!D:D)-2,1),MATCH(勤怠日報管理!B108&勤怠日報管理!C108,OFFSET(業務日報!$E$3,0,0,COUNTA(業務日報!E:E)-2,1),0)),\"\")","v":""}]
[null,"1月0日",null,{"$f":"IFERROR(VLOOKUP($C109,OFFSET(管理者用シート!$C$2,0,0,COUNTA(管理者用シート!E:E)-1,3),3,FALSE),\"\")","v":""},{"$f":"IFERROR(VLOOKUP(B109&C109,OFFSET(勤怠管理出勤!$E$3,0,0,COUNTA(勤怠管理出勤!F:F)-1,2),2,FALSE),\"\")","v":"00:00"},{"$f":"IFERROR(VLOOKUP(B109&C109,OFFSET(勤怠管理退勤!$E$3,0,0,COUNTA(勤怠管理退勤!F:F)-1,2),2,FALSE),\"\")","v":"00:00"},{"$f":"IFERROR(INDEX(OFFSET(業務日報!$D$3,0,0,COUNTA(業務日報!D:D)-2,1),MATCH(勤怠日報管理!B109&勤怠日報管理!C109,OFFSET(業務日報!$E$3,0,0,COUNTA(業務日報!E:E)-2,1),0)),\"\")","v":""}]
[null,"1月0日",null,{"$f":"IFERROR(VLOOKUP($C110,OFFSET(管理者用シート!$C$2,0,0,COUNTA(管理者用シート!E:E)-1,3),3,FALSE),\"\")","v":""},{"$f":"IFERROR(VLOOKUP(B110&C110,OFFSET(勤怠管理出勤!$E$3,0,0,COUNTA(勤怠管理出勤!F:F)-1,2),2,FALSE),\"\")","v":"00:00"},{"$f":"IFERROR(VLOOKUP(B110&C110,OFFSET(勤怠管理退勤!$E$3,0,0,COUNTA(勤怠管理退勤!F:F)-1,2),2,FALSE),\"\")","v":"00:00"},{"$f":"IFERROR(INDEX(OFFSET(業務日報!$D$3,0,0,COUNTA(業務日報!D:D)-2,1),MATCH(勤怠日報管理!B110&勤怠日報管理!C110,OFFSET(業務日報!$E$3,0,0,COUNTA(業務日報!E:E)-2,1),0)),\"\")","v":""}]
[null,"1月0日",null,{"$f":"IFERROR(VLOOKUP($C111,OFFSET(管理者用シート!$C$2,0,0,COUNTA(管理者用シート!E:E)-1,3),3,FALSE),\"\")","v":""},{"$f":"IFERROR(VLOOKUP(B111&C111,OFFSET(勤怠管理出勤!$E$3,0,0,COUNTA(勤怠管理出勤!F:F)-1,2),2,FALSE),\"\")","v":"00:00"},{"$f":"IFERROR(VLOOKUP(B111&C111,OFFSET(勤怠管理退勤!$E$3,0,0,COUNTA(勤怠管理退勤!F:F)-1,2),2,FALSE),\"\")","v":"00:00"},{"$f":"IFERROR(INDEX(OFFSET(業務日報!$D$3,0,0,COUNTA(業務日報!D:D)-2,1),MATCH(勤怠日報管理!B111&勤怠日報管理!C111,OFFSET(業務日報!$E$3,0,0,COUNTA(業務日報!E:E)-2,1),0)),\"\")","v":""}]
[null,"1月0日",null,{"$f":"IFERROR(VLOOKUP($C112,OFFSET(管理者用シート!$C$2,0,0,COUNTA(管理者用シート!E:E)-1,3),3,FALSE),\"\")","v":""},{"$f":"IFERROR(VLOOKUP(B112&C112,OFFSET(勤怠管理出勤!$E$3,0,0,COUNTA(勤怠管理出勤!F:F)-1,2),2,FALSE),\"\")","v":"00:00"},{"$f":"IFERROR(VLOOKUP(B112&C112,OFFSET(勤怠管理退勤!$E$3,0,0,COUNTA(勤怠管理退勤!F:F)-1,2),2,FALSE),\"\")","v":"00:00"},{"$f":"IFERROR(INDEX(OFFSET(業務日報!$D$3,0,0,COUNTA(業務日報!D:D)-2,1),MATCH(勤怠日報管理!B112&勤怠日報管理!C112,OFFSET(業務日報!$E$3,0,0,COUNTA(業務日報!E:E)-2,1),0)),\"\")","v":""}]
[null,"1月0日",null,{"$f":"IFERROR(VLOOKUP($C113,OFFSET(管理者用シート!$C$2,0,0,COUNTA(管理者用シート!E:E)-1,3),3,FALSE),\"\")","v":""},{"$f":"IFERROR(VLOOKUP(B113&C113,OFFSET(勤怠管理出勤!$E$3,0,0,COUNTA(勤怠管理出勤!F:F)-1,2),2,FALSE),\"\")","v":"00:00"},{"$f":"IFERROR(VLOOKUP(B113&C113,OFFSET(勤怠管理退勤!$E$3,0,0,COUNTA(勤怠管理退勤!F:F)-1,2),2,FALSE),\"\")","v":"00:00"},{"$f":"IFERROR(INDEX(OFFSET(業務日報!$D$3,0,0,COUNTA(業務日報!D:D)-2,1),MATCH(勤怠日報管理!B113&勤怠日報管理!C113,OFFSET(業務日報!$E$3,0,0,COUNTA(業務日報!E:E)-2,1),0)),\"\")","v":""}]
[null,"1月0日",null,{"$f":"IFERROR(VLOOKUP($C114,OFFSET(管理者用シート!$C$2,0,0,COUNTA(管理者用シート!E:E)-1,3),3,FALSE),\"\")","v":""},{"$f":"IFERROR(VLOOKUP(B114&C114,OFFSET(勤怠管理出勤!$E$3,0,0,COUNTA(勤怠管理出勤!F:F)-1,2),2,FALSE),\"\")","v":"00:00"},{"$f":"IFERROR(VLOOKUP(B114&C114,OFFSET(勤怠管理退勤!$E$3,0,0,COUNTA(勤怠管理退勤!F:F)-1,2),2,FALSE),\"\")","v":"00:00"},{"$f":"IFERROR(INDEX(OFFSET(業務日報!$D$3,0,0,COUNTA(業務日報!D:D)-2,1),MATCH(勤怠日報管理!B114&勤怠日報管理!C114,OFFSET(業務日報!$E$3,0,0,COUNTA(業務日報!E:E)-2,1),0)),\"\")","v":""}]
[null,"1月0日",null,{"$f":"IFERROR(VLOOKUP($C115,OFFSET(管理者用シート!$C$2,0,0,COUNTA(管理者用シート!E:E)-1,3),3,FALSE),\"\")","v":""},{"$f":"IFERROR(VLOOKUP(B115&C115,OFFSET(勤怠管理出勤!$E$3,0,0,COUNTA(勤怠管理出勤!F:F)-1,2),2,FALSE),\"\")","v":"00:00"},{"$f":"IFERROR(VLOOKUP(B115&C115,OFFSET(勤怠管理退勤!$E$3,0,0,COUNTA(勤怠管理退勤!F:F)-1,2),2,FALSE),\"\")","v":"00:00"},{"$f":"IFERROR(INDEX(OFFSET(業務日報!$D$3,0,0,COUNTA(業務日報!D:D)-2,1),MATCH(勤怠日報管理!B115&勤怠日報管理!C115,OFFSET(業務日報!$E$3,0,0,COUNTA(業務日報!E:E)-2,1),0)),\"\")","v":""}]
[null,"1月0日",null,{"$f":"IFERROR(VLOOKUP($C116,OFFSET(管理者用シート!$C$2,0,0,COUNTA(管理者用シート!E:E)-1,3),3,FALSE),\"\")","v":""},{"$f":"IFERROR(VLOOKUP(B116&C116,OFFSET(勤怠管理出勤!$E$3,0,0,COUNTA(勤怠管理出勤!F:F)-1,2),2,FALSE),\"\")","v":"00:00"},{"$f":"IFERROR(VLOOKUP(B116&C116,OFFSET(勤怠管理退勤!$E$3,0,0,COUNTA(勤怠管理退勤!F:F)-1,2),2,FALSE),\"\")","v":"00:00"},{"$f":"IFERROR(INDEX(OFFSET(業務日報!$D$3,0,0,COUNTA(業務日報!D:D)-2,1),MATCH(勤怠日報管理!B116&勤怠日報管理!C116,OFFSET(業務日報!$E$3,0,0,COUNTA(業務日報!E:E)-2,1),0)),\"\")","v":""}]
[null,"1月0日",null,{"$f":"IFERROR(VLOOKUP($C117,OFFSET(管理者用シート!$C$2,0,0,COUNTA(管理者用シート!E:E)-1,3),3,FALSE),\"\")","v":""},{"$f":"IFERROR(VLOOKUP(B117&C117,OFFSET(勤怠管理出勤!$E$3,0,0,COUNTA(勤怠管理出勤!F:F)-1,2),2,FALSE),\"\")","v":"00:00"},{"$f":"IFERROR(VLOOKUP(B117&C117,OFFSET(勤怠管理退勤!$E$3,0,0,COUNTA(勤怠管理退勤!F:F)-1,2),2,FALSE),\"\")","v":"00:00"},{"$f":"IFERROR(INDEX(OFFSET(業務日報!$D$3,0,0,COUNTA(業務日報!D:D)-2,1),MATCH(勤怠日報管理!B117&勤怠日報管理!C117,OFFSET(業務日報!$E$3,0,0,COUNTA(業務日報!E:E)-2,1),0)),\"\")","v":""}]
[null,"1月0日",null,{"$f":"IFERROR(VLOOKUP($C118,OFFSET(管理者用シート!$C$2,0,0,COUNTA(管理者用シート!E:E)-1,3),3,FALSE),\"\")","v":""},{"$f":"IFERROR(VLOOKUP(B118&C118,OFFSET(勤怠管理出勤!$E$3,0,0,COUNTA(勤怠管理出勤!F:F)-1,2),2,FALSE),\"\")","v":"00:00"},{"$f":"IFERROR(VLOOKUP(B118&C118,OFFSET(勤怠管理退勤!$E$3,0,0,COUNTA(勤怠管理退勤!F:F)-1,2),2,FALSE),\"\")","v":"00:00"},{"$f":"IFERROR(INDEX(OFFSET(業務日報!$D$3,0,0,COUNTA(業務日報!D:D)-2,1),MATCH(勤怠日報管理!B118&勤怠日報管理!C118,OFFSET(業務日報!$E$3,0,0,COUNTA(業務日報!E:E)-2,1),0)),\"\")","v":""}]
[null,"1月0日",null,{"$f":"IFERROR(VLOOKUP($C119,OFFSET(管理者用シート!$C$2,0,0,COUNTA(管理者用シート!E:E)-1,3),3,FALSE),\"\")","v":""},{"$f":"IFERROR(VLOOKUP(B119&C119,OFFSET(勤怠管理出勤!$E$3,0,0,COUNTA(勤怠管理出勤!F:F)-1,2),2,FALSE),\"\")","v":"00:00"},{"$f":"IFERROR(VLOOKUP(B119&C119,OFFSET(勤怠管理退勤!$E$3,0,0,COUNTA(勤怠管理退勤!F:F)-1,2),2,FALSE),\"\")","v":"00:00"},{"$f":"IFERROR(INDEX(OFFSET(業務日報!$D$3,0,0,COUNTA(業務日報!D:D)-2,1),MATCH(勤怠日報管理!B119&勤怠日報管理!C119,OFFSET(業務日報!$E$3,0,0,COUNTA(業務日報!E:E)-2,1),0)),\"\")","v":""}]
[null,"1月0日",null,{"$f":"IFERROR(VLOOKUP($C120,OFFSET(管理者用シート!$C$2,0,0,COUNTA(管理者用シート!E:E)-1,3),3,FALSE),\"\")","v":""},{"$f":"IFERROR(VLOOKUP(B120&C120,OFFSET(勤怠管理出勤!$E$3,0,0,COUNTA(勤怠管理出勤!F:F)-1,2),2,FALSE),\"\")","v":"00:00"},{"$f":"IFERROR(VLOOKUP(B120&C120,OFFSET(勤怠管理退勤!$E$3,0,0,COUNTA(勤怠管理退勤!F:F)-1,2),2,FALSE),\"\")","v":"00:00"},{"$f":"IFERROR(INDEX(OFFSET(業務日報!$D$3,0,0,COUNTA(業務日報!D:D)-2,1),MATCH(勤怠日報管理!B120&勤怠日報管理!C120,OFFSET(業務日報!$E$3,0,0,COUNTA(業務日報!E:E)-2,1),0)),\"\")","v":""}]
[null,"1月0日",null,{"$f":"IFERROR(VLOOKUP($C121,OFFSET(管理者用シート!$C$2,0,0,COUNTA(管理者用シート!E:E)-1,3),3,FALSE),\"\")","v":""},{"$f":"IFERROR(VLOOKUP(B121&C121,OFFSET(勤怠管理出勤!$E$3,0,0,COUNTA(勤怠管理出勤!F:F)-1,2),2,FALSE),\"\")","v":"00:00"},{"$f":"IFERROR(VLOOKUP(B121&C121,OFFSET(勤怠管理退勤!$E$3,0,0,COUNTA(勤怠管理退勤!F:F)-1,2),2,FALSE),\"\")","v":"00:00"},{"$f":"IFERROR(INDEX(OFFSET(業務日報!$D$3,0,0,COUNTA(業務日報!D:D)-2,1),MATCH(勤怠日報管理!B121&勤怠日報管理!C121,OFFSET(業務日報!$E$3,0,0,COUNTA(業務日報!E:E)-2,1),0)),\"\")","v":""}]
[null,"1月0日",null,{"$f":"IFERROR(VLOOKUP($C122,OFFSET(管理者用シート!$C$2,0,0,COUNTA(管理者用シート!E:E)-1,3),3,FALSE),\"\")","v":""},{"$f":"IFERROR(VLOOKUP(B122&C122,OFFSET(勤怠管理出勤!$E$3,0,0,COUNTA(勤怠管理出勤!F:F)-1,2),2,FALSE),\"\")","v":"00:00"},{"$f":"IFERROR(VLOOKUP(B122&C122,OFFSET(勤怠管理退勤!$E$3,0,0,COUNTA(勤怠管理退勤!F:F)-1,2),2,FALSE),\"\")","v":"00:00"},{"$f":"IFERROR(INDEX(OFFSET(業務日報!$D$3,0,0,COUNTA(業務日報!D:D)-2,1),MATCH(勤怠日報管理!B122&勤怠日報管理!C122,OFFSET(業務日報!$E$3,0,0,COUNTA(業務日報!E:E)-2,1),0)),\"\")","v":""}]
[null,"1月0日",null,{"$f":"IFERROR(VLOOKUP($C123,OFFSET(管理者用シート!$C$2,0,0,COUNTA(管理者用シート!E:E)-1,3),3,FALSE),\"\")","v":""},{"$f":"IFERROR(VLOOKUP(B123&C123,OFFSET(勤怠管理出勤!$E$3,0,0,COUNTA(勤怠管理出勤!F:F)-1,2),2,FALSE),\"\")","v":"00:00"},{"$f":"IFERROR(VLOOKUP(B123&C123,OFFSET(勤怠管理退勤!$E$3,0,0,COUNTA(勤怠管理退勤!F:F)-1,2),2,FALSE),\"\")","v":"00:00"},{"$f":"IFERROR(INDEX(OFFSET(業務日報!$D$3,0,0,COUNTA(業務日報!D:D)-2,1),MATCH(勤怠日報管理!B123&勤怠日報管理!C123,OFFSET(業務日報!$E$3,0,0,COUNTA(業務日報!E:E)-2,1),0)),\"\")","v":""}]
[null,"1月0日",null,{"$f":"IFERROR(VLOOKUP($C124,OFFSET(管理者用シート!$C$2,0,0,COUNTA(管理者用シート!E:E)-1,3),3,FALSE),\"\")","v":""},{"$f":"IFERROR(VLOOKUP(B124&C124,OFFSET(勤怠管理出勤!$E$3,0,0,COUNTA(勤怠管理出勤!F:F)-1,2),2,FALSE),\"\")","v":"00:00"},{"$f":"IFERROR(VLOOKUP(B124&C124,OFFSET(勤怠管理退勤!$E$3,0,0,COUNTA(勤怠管理退勤!F:F)-1,2),2,FALSE),\"\")","v":"00:00"},{"$f":"IFERROR(INDEX(OFFSET(業務日報!$D$3,0,0,COUNTA(業務日報!D:D)-2,1),MATCH(勤怠日報管理!B124&勤怠日報管理!C124,OFFSET(業務日報!$E$3,0,0,COUNTA(業務日報!E:E)-2,1),0)),\"\")","v":""}]
[null,"1月0日",null,{"$f":"IFERROR(VLOOKUP($C125,OFFSET(管理者用シート!$C$2,0,0,COUNTA(管理者用シート!E:E)-1,3),3,FALSE),\"\")","v":""},{"$f":"IFERROR(VLOOKUP(B125&C125,OFFSET(勤怠管理出勤!$E$3,0,0,COUNTA(勤怠管理出勤!F:F)-1,2),2,FALSE),\"\")","v":"00:00"},{"$f":"IFERROR(VLOOKUP(B125&C125,OFFSET(勤怠管理退勤!$E$3,0,0,COUNTA(勤怠管理退勤!F:F)-1,2),2,FALSE),\"\")","v":"00:00"},{"$f":"IFERROR(INDEX(OFFSET(業務日報!$D$3,0,0,COUNTA(業務日報!D:D)-2,1),MATCH(勤怠日報管理!B125&勤怠日報管理!C125,OFFSET(業務日報!$E$3,0,0,COUNTA(業務日報!E:E)-2,1),0)),\"\")","v":""}]
[null,"1月0日",null,{"$f":"IFERROR(VLOOKUP($C126,OFFSET(管理者用シート!$C$2,0,0,COUNTA(管理者用シート!E:E)-1,3),3,FALSE),\"\")","v":""},{"$f":"IFERROR(VLOOKUP(B126&C126,OFFSET(勤怠管理出勤!$E$3,0,0,COUNTA(勤怠管理出勤!F:F)-1,2),2,FALSE),\"\")","v":"00:00"},{"$f":"IFERROR(VLOOKUP(B126&C126,OFFSET(勤怠管理退勤!$E$3,0,0,COUNTA(勤怠管理退勤!F:F)-1,2),2,FALSE),\"\")","v":"00:00"},{"$f":"IFERROR(INDEX(OFFSET(業務日報!$D$3,0,0,COUNTA(業務日報!D:D)-2,1),MATCH(勤怠日報管理!B126&勤怠日報管理!C126,OFFSET(業務日報!$E$3,0,0,COUNTA(業務日報!E:E)-2,1),0)),\"\")","v":""}]
[null,"1月0日",null,{"$f":"IFERROR(VLOOKUP($C127,OFFSET(管理者用シート!$C$2,0,0,COUNTA(管理者用シート!E:E)-1,3),3,FALSE),\"\")","v":""},{"$f":"IFERROR(VLOOKUP(B127&C127,OFFSET(勤怠管理出勤!$E$3,0,0,COUNTA(勤怠管理出勤!F:F)-1,2),2,FALSE),\"\")","v":"00:00"},{"$f":"IFERROR(VLOOKUP(B127&C127,OFFSET(勤怠管理退勤!$E$3,0,0,COUNTA(勤怠管理退勤!F:F)-1,2),2,FALSE),\"\")","v":"00:00"},{"$f":"IFERROR(INDEX(OFFSET(業務日報!$D$3,0,0,COUNTA(業務日報!D:D)-2,1),MATCH(勤怠日報管理!B127&勤怠日報管理!C127,OFFSET(業務日報!$E$3,0,0,COUNTA(業務日報!E:E)-2,1),0)),\"\")","v":""}]
[null,"1月0日",null,{"$f":"IFERROR(VLOOKUP($C128,OFFSET(管理者用シート!$C$2,0,0,COUNTA(管理者用シート!E:E)-1,3),3,FALSE),\"\")","v":""},{"$f":"IFERROR(VLOOKUP(B128&C128,OFFSET(勤怠管理出勤!$E$3,0,0,COUNTA(勤怠管理出勤!F:F)-1,2),2,FALSE),\"\")","v":"00:00"},{"$f":"IFERROR(VLOOKUP(B128&C128,OFFSET(勤怠管理退勤!$E$3,0,0,COUNTA(勤怠管理退勤!F:F)-1,2),2,FALSE),\"\")","v":"00:00"},{"$f":"IFERROR(INDEX(OFFSET(業務日報!$D$3,0,0,COUNTA(業務日報!D:D)-2,1),MATCH(勤怠日報管理!B128&勤怠日報管理!C128,OFFSET(業務日報!$E$3,0,0,COUNTA(業務日報!E:E)-2,1),0)),\"\")","v":""}]
[null,"1月0日",null,{"$f":"IFERROR(VLOOKUP($C129,OFFSET(管理者用シート!$C$2,0,0,COUNTA(管理者用シート!E:E)-1,3),3,FALSE),\"\")","v":""},{"$f":"IFERROR(VLOOKUP(B129&C129,OFFSET(勤怠管理出勤!$E$3,0,0,COUNTA(勤怠管理出勤!F:F)-1,2),2,FALSE),\"\")","v":"00:00"},{"$f":"IFERROR(VLOOKUP(B129&C129,OFFSET(勤怠管理退勤!$E$3,0,0,COUNTA(勤怠管理退勤!F:F)-1,2),2,FALSE),\"\")","v":"00:00"},{"$f":"IFERROR(INDEX(OFFSET(業務日報!$D$3,0,0,COUNTA(業務日報!D:D)-2,1),MATCH(勤怠日報管理!B129&勤怠日報管理!C129,OFFSET(業務日報!$E$3,0,0,COUNTA(業務日報!E:E)-2,1),0)),\"\")","v":""}]
[null,"1月0日",null,{"$f":"IFERROR(VLOOKUP($C130,OFFSET(管理者用シート!$C$2,0,0,COUNTA(管理者用シート!E:E)-1,3),3,FALSE),\"\")","v":""},{"$f":"IFERROR(VLOOKUP(B130&C130,OFFSET(勤怠管理出勤!$E$3,0,0,COUNTA(勤怠管理出勤!F:F)-1,2),2,FALSE),\"\")","v":"00:00"},{"$f":"IFERROR(VLOOKUP(B130&C130,OFFSET(勤怠管理退勤!$E$3,0,0,COUNTA(勤怠管理退勤!F:F)-1,2),2,FALSE),\"\")","v":"00:00"},{"$f":"IFERROR(INDEX(OFFSET(業務日報!$D$3,0,0,COUNTA(業務日報!D:D)-2,1),MATCH(勤怠日報管理!B130&勤怠日報管理!C130,OFFSET(業務日報!$E$3,0,0,COUNTA(業務日報!E:E)-2,1),0)),\"\")","v":""}]
[null,"1月0日",null,{"$f":"IFERROR(VLOOKUP($C131,OFFSET(管理者用シート!$C$2,0,0,COUNTA(管理者用シート!E:E)-1,3),3,FALSE),\"\")","v":""},{"$f":"IFERROR(VLOOKUP(B131&C131,OFFSET(勤怠管理出勤!$E$3,0,0,COUNTA(勤怠管理出勤!F:F)-1,2),2,FALSE),\"\")","v":"00:00"},{"$f":"IFERROR(VLOOKUP(B131&C131,OFFSET(勤怠管理退勤!$E$3,0,0,COUNTA(勤怠管理退勤!F:F)-1,2),2,FALSE),\"\")","v":"00:00"},{"$f":"IFERROR(INDEX(OFFSET(業務日報!$D$3,0,0,COUNTA(業務日報!D:D)-2,1),MATCH(勤怠日報管理!B131&勤怠日報管理!C131,OFFSET(業務日報!$E$3,0,0,COUNTA(業務日報!E:E)-2,1),0)),\"\")","v":""}]
[null,"1月0日",null,{"$f":"IFERROR(VLOOKUP($C132,OFFSET(管理者用シート!$C$2,0,0,COUNTA(管理者用シート!E:E)-1,3),3,FALSE),\"\")","v":""},{"$f":"IFERROR(VLOOKUP(B132&C132,OFFSET(勤怠管理出勤!$E$3,0,0,COUNTA(勤怠管理出勤!F:F)-1,2),2,FALSE),\"\")","v":"00:00"},{"$f":"IFERROR(VLOOKUP(B132&C132,OFFSET(勤怠管理退勤!$E$3,0,0,COUNTA(勤怠管理退勤!F:F)-1,2),2,FALSE),\"\")","v":"00:00"},{"$f":"IFERROR(INDEX(OFFSET(業務日報!$D$3,0,0,COUNTA(業務日報!D:D)-2,1),MATCH(勤怠日報管理!B132&勤怠日報管理!C132,OFFSET(業務日報!$E$3,0,0,COUNTA(業務日報!E:E)-2,1),0)),\"\")","v":""}]
[null,{"$f":"TEXT(A133,\"m月d日\")","v":"1月0日"},null,{"$f":"IFERROR(VLOOKUP($C133,OFFSET(管理者用シート!$C$2,0,0,COUNTA(管理者用シート!E:E)-1,3),3,FALSE),\"\")","v":""},{"$f":"IFERROR(VLOOKUP(B133&C133,OFFSET(勤怠管理出勤!$E$3,0,0,COUNTA(勤怠管理出勤!F:F)-1,2),2,FALSE),\"\")","v":"00:00"},{"$f":"IFERROR(VLOOKUP(B133&C133,OFFSET(勤怠管理退勤!$E$3,0,0,COUNTA(勤怠管理退勤!F:F)-1,2),2,FALSE),\"\")","v":"00:00"},{"$f":"IFERROR(INDEX(OFFSET(業務日報!$D$3,0,0,COUNTA(業務日報!D:D)-2,1),MATCH(勤怠日報管理!B133&勤怠日報管理!C133,OFFSET(業務日報!$E$3,0,0,COUNTA(業務日報!E:E)-2,1),0)),\"\")","v":""}]
[null,"1月0日",null,{"$f":"IFERROR(VLOOKUP($C134,OFFSET(管理者用シート!$C$2,0,0,COUNTA(管理者用シート!E:E)-1,3),3,FALSE),\"\")","v":""},{"$f":"IFERROR(VLOOKUP(B134&C134,OFFSET(勤怠管理出勤!$E$3,0,0,COUNTA(勤怠管理出勤!F:F)-1,2),2,FALSE),\"\")","v":"00:00"},{"$f":"IFERROR(VLOOKUP(B134&C134,OFFSET(勤怠管理退勤!$E$3,0,0,COUNTA(勤怠管理退勤!F:F)-1,2),2,FALSE),\"\")","v":"00:00"},{"$f":"IFERROR(INDEX(OFFSET(業務日報!$D$3,0,0,COUNTA(業務日報!D:D)-2,1),MATCH(勤怠日報管理!B134&勤怠日報管理!C134,OFFSET(業務日報!$E$3,0,0,COUNTA(業務日報!E:E)-2,1),0)),\"\")","v":""}]
[null,"1月0日",null,{"$f":"IFERROR(VLOOKUP($C135,OFFSET(管理者用シート!$C$2,0,0,COUNTA(管理者用シート!E:E)-1,3),3,FALSE),\"\")","v":""},{"$f":"IFERROR(VLOOKUP(B135&C135,OFFSET(勤怠管理出勤!$E$3,0,0,COUNTA(勤怠管理出勤!F:F)-1,2),2,FALSE),\"\")","v":"00:00"},{"$f":"IFERROR(VLOOKUP(B135&C135,OFFSET(勤怠管理退勤!$E$3,0,0,COUNTA(勤怠管理退勤!F:F)-1,2),2,FALSE),\"\")","v":"00:00"},{"$f":"IFERROR(INDEX(OFFSET(業務日報!$D$3,0,0,COUNTA(業務日報!D:D)-2,1),MATCH(勤怠日報管理!B135&勤怠日報管理!C135,OFFSET(業務日報!$E$3,0,0,COUNTA(業務日報!E:E)-2,1),0)),\"\")","v":""}]
[null,"1月0日",null,{"$f":"IFERROR(VLOOKUP($C136,OFFSET(管理者用シート!$C$2,0,0,COUNTA(管理者用シート!E:E)-1,3),3,FALSE),\"\")","v":""},{"$f":"IFERROR(VLOOKUP(B136&C136,OFFSET(勤怠管理出勤!$E$3,0,0,COUNTA(勤怠管理出勤!F:F)-1,2),2,FALSE),\"\")","v":"00:00"},{"$f":"IFERROR(VLOOKUP(B136&C136,OFFSET(勤怠管理退勤!$E$3,0,0,COUNTA(勤怠管理退勤!F:F)-1,2),2,FALSE),\"\")","v":"00:00"},{"$f":"IFERROR(INDEX(OFFSET(業務日報!$D$3,0,0,COUNTA(業務日報!D:D)-2,1),MATCH(勤怠日報管理!B136&勤怠日報管理!C136,OFFSET(業務日報!$E$3,0,0,COUNTA(業務日報!E:E)-2,1),0)),\"\")","v":""}]
[null,"1月0日",null,{"$f":"IFERROR(VLOOKUP($C137,OFFSET(管理者用シート!$C$2,0,0,COUNTA(管理者用シート!E:E)-1,3),3,FALSE),\"\")","v":""},{"$f":"IFERROR(VLOOKUP(B137&C137,OFFSET(勤怠管理出勤!$E$3,0,0,COUNTA(勤怠管理出勤!F:F)-1,2),2,FALSE),\"\")","v":"00:00"},{"$f":"IFERROR(VLOOKUP(B137&C137,OFFSET(勤怠管理退勤!$E$3,0,0,COUNTA(勤怠管理退勤!F:F)-1,2),2,FALSE),\"\")","v":"00:00"},{"$f":"IFERROR(INDEX(OFFSET(業務日報!$D$3,0,0,COUNTA(業務日報!D:D)-2,1),MATCH(勤怠日報管理!B137&勤怠日報管理!C137,OFFSET(業務日報!$E$3,0,0,COUNTA(業務日報!E:E)-2,1),0)),\"\")","v":""}]
[null,"1月0日",null,{"$f":"IFERROR(VLOOKUP($C138,OFFSET(管理者用シート!$C$2,0,0,COUNTA(管理者用シート!E:E)-1,3),3,FALSE),\"\")","v":""},{"$f":"IFERROR(VLOOKUP(B138&C138,OFFSET(勤怠管理出勤!$E$3,0,0,COUNTA(勤怠管理出勤!F:F)-1,2),2,FALSE),\"\")","v":"00:00"},{"$f":"IFERROR(VLOOKUP(B138&C138,OFFSET(勤怠管理退勤!$E$3,0,0,COUNTA(勤怠管理退勤!F:F)-1,2),2,FALSE),\"\")","v":"00:00"},{"$f":"IFERROR(INDEX(OFFSET(業務日報!$D$3,0,0,COUNTA(業務日報!D:D)-2,1),MATCH(勤怠日報管理!B138&勤怠日報管理!C138,OFFSET(業務日報!$E$3,0,0,COUNTA(業務日報!E:E)-2,1),0)),\"\")","v":""}]
[null,"1月0日",null,{"$f":"IFERROR(VLOOKUP($C139,OFFSET(管理者用シート!$C$2,0,0,COUNTA(管理者用シート!E:E)-1,3),3,FALSE),\"\")","v":""},{"$f":"IFERROR(VLOOKUP(B139&C139,OFFSET(勤怠管理出勤!$E$3,0,0,COUNTA(勤怠管理出勤!F:F)-1,2),2,FALSE),\"\")","v":"00:00"},{"$f":"IFERROR(VLOOKUP(B139&C139,OFFSET(勤怠管理退勤!$E$3,0,0,COUNTA(勤怠管理退勤!F:F)-1,2),2,FALSE),\"\")","v":"00:00"},{"$f":"IFERROR(INDEX(OFFSET(業務日報!$D$3,0,0,COUNTA(業務日報!D:D)-2,1),MATCH(勤怠日報管理!B139&勤怠日報管理!C139,OFFSET(業務日報!$E$3,0,0,COUNTA(業務日報!E:E)-2,1),0)),\"\")","v":""}]
[null,"1月0日",null,{"$f":"IFERROR(VLOOKUP($C140,OFFSET(管理者用シート!$C$2,0,0,COUNTA(管理者用シート!E:E)-1,3),3,FALSE),\"\")","v":""},{"$f":"IFERROR(VLOOKUP(B140&C140,OFFSET(勤怠管理出勤!$E$3,0,0,COUNTA(勤怠管理出勤!F:F)-1,2),2,FALSE),\"\")","v":"00:00"},{"$f":"IFERROR(VLOOKUP(B140&C140,OFFSET(勤怠管理退勤!$E$3,0,0,COUNTA(勤怠管理退勤!F:F)-1,2),2,FALSE),\"\")","v":"00:00"},{"$f":"IFERROR(INDEX(OFFSET(業務日報!$D$3,0,0,COUNTA(業務日報!D:D)-2,1),MATCH(勤怠日報管理!B140&勤怠日報管理!C140,OFFSET(業務日報!$E$3,0,0,COUNTA(業務日報!E:E)-2,1),0)),\"\")","v":""}]
[null,"1月0日",null,{"$f":"IFERROR(VLOOKUP($C141,OFFSET(管理者用シート!$C$2,0,0,COUNTA(管理者用シート!E:E)-1,3),3,FALSE),\"\")","v":""},{"$f":"IFERROR(VLOOKUP(B141&C141,OFFSET(勤怠管理出勤!$E$3,0,0,COUNTA(勤怠管理出勤!F:F)-1,2),2,FALSE),\"\")","v":"00:00"},{"$f":"IFERROR(VLOOKUP(B141&C141,OFFSET(勤怠管理退勤!$E$3,0,0,COUNTA(勤怠管理退勤!F:F)-1,2),2,FALSE),\"\")","v":"00:00"},{"$f":"IFERROR(INDEX(OFFSET(業務日報!$D$3,0,0,COUNTA(業務日報!D:D)-2,1),MATCH(勤怠日報管理!B141&勤怠日報管理!C141,OFFSET(業務日報!$E$3,0,0,COUNTA(業務日報!E:E)-2,1),0)),\"\")","v":""}]
[null,"1月0日",null,{"$f":"IFERROR(VLOOKUP($C142,OFFSET(管理者用シート!$C$2,0,0,COUNTA(管理者用シート!E:E)-1,3),3,FALSE),\"\")","v":""},{"$f":"IFERROR(VLOOKUP(B142&C142,OFFSET(勤怠管理出勤!$E$3,0,0,COUNTA(勤怠管理出勤!F:F)-1,2),2,FALSE),\"\")","v":"00:00"},{"$f":"IFERROR(VLOOKUP(B142&C142,OFFSET(勤怠管理退勤!$E$3,0,0,COUNTA(勤怠管理退勤!F:F)-1,2),2,FALSE),\"\")","v":"00:00"},{"$f":"IFERROR(INDEX(OFFSET(業務日報!$D$3,0,0,COUNTA(業務日報!D:D)-2,1),MATCH(勤怠日報管理!B142&勤怠日報管理!C142,OFFSET(業務日報!$E$3,0,0,COUNTA(業務日報!E:E)-2,1),0)),\"\")","v":""}]
[null,"1月0日",null,{"$f":"IFERROR(VLOOKUP($C143,OFFSET(管理者用シート!$C$2,0,0,COUNTA(管理者用シート!E:E)-1,3),3,FALSE),\"\")","v":""},{"$f":"IFERROR(VLOOKUP(B143&C143,OFFSET(勤怠管理出勤!$E$3,0,0,COUNTA(勤怠管理出勤!F:F)-1,2),2,FALSE),\"\")","v":"00:00"},{"$f":"IFERROR(VLOOKUP(B143&C143,OFFSET(勤怠管理退勤!$E$3,0,0,COUNTA(勤怠管理退勤!F:F)-1,2),2,FALSE),\"\")","v":"00:00"},{"$f":"IFERROR(INDEX(OFFSET(業務日報!$D$3,0,0,COUNTA(業務日報!D:D)-2,1),MATCH(勤怠日報管理!B143&勤怠日報管理!C143,OFFSET(業務日報!$E$3,0,0,COUNTA(業務日報!E:E)-2,1),0)),\"\")","v":""}]
[null,"1月0日",null,{"$f":"IFERROR(VLOOKUP($C144,OFFSET(管理者用シート!$C$2,0,0,COUNTA(管理者用シート!E:E)-1,3),3,FALSE),\"\")","v":""},{"$f":"IFERROR(VLOOKUP(B144&C144,OFFSET(勤怠管理出勤!$E$3,0,0,COUNTA(勤怠管理出勤!F:F)-1,2),2,FALSE),\"\")","v":"00:00"},{"$f":"IFERROR(VLOOKUP(B144&C144,OFFSET(勤怠管理退勤!$E$3,0,0,COUNTA(勤怠管理退勤!F:F)-1,2),2,FALSE),\"\")","v":"00:00"},{"$f":"IFERROR(INDEX(OFFSET(業務日報!$D$3,0,0,COUNTA(業務日報!D:D)-2,1),MATCH(勤怠日報管理!B144&勤怠日報管理!C144,OFFSET(業務日報!$E$3,0,0,COUNTA(業務日報!E:E)-2,1),0)),\"\")","v":""}]
[null,"1月0日",null,{"$f":"IFERROR(VLOOKUP($C145,OFFSET(管理者用シート!$C$2,0,0,COUNTA(管理者用シート!E:E)-1,3),3,FALSE),\"\")","v":""},{"$f":"IFERROR(VLOOKUP(B145&C145,OFFSET(勤怠管理出勤!$E$3,0,0,COUNTA(勤怠管理出勤!F:F)-1,2),2,FALSE),\"\")","v":"00:00"},{"$f":"IFERROR(VLOOKUP(B145&C145,OFFSET(勤怠管理退勤!$E$3,0,0,COUNTA(勤怠管理退勤!F:F)-1,2),2,FALSE),\"\")","v":"00:00"},{"$f":"IFERROR(INDEX(OFFSET(業務日報!$D$3,0,0,COUNTA(業務日報!D:D)-2,1),MATCH(勤怠日報管理!B145&勤怠日報管理!C145,OFFSET(業務日報!$E$3,0,0,COUNTA(業務日報!E:E)-2,1),0)),\"\")","v":""}]
[null,"1月0日",null,{"$f":"IFERROR(VLOOKUP($C146,OFFSET(管理者用シート!$C$2,0,0,COUNTA(管理者用シート!E:E)-1,3),3,FALSE),\"\")","v":""},{"$f":"IFERROR(VLOOKUP(B146&C146,OFFSET(勤怠管理出勤!$E$3,0,0,COUNTA(勤怠管理出勤!F:F)-1,2),2,FALSE),\"\")","v":"00:00"},{"$f":"IFERROR(VLOOKUP(B146&C146,OFFSET(勤怠管理退勤!$E$3,0,0,COUNTA(勤怠管理退勤!F:F)-1,2),2,FALSE),\"\")","v":"00:00"},{"$f":"IFERROR(INDEX(OFFSET(業務日報!$D$3,0,0,COUNTA(業務日報!D:D)-2,1),MATCH(勤怠日報管理!B146&勤怠日報管理!C146,OFFSET(業務日報!$E$3,0,0,COUNTA(業務日報!E:E)-2,1),0)),\"\")","v":""}]
[null,"1月0日",null,{"$f":"IFERROR(VLOOKUP($C147,OFFSET(管理者用シート!$C$2,0,0,COUNTA(管理者用シート!E:E)-1,3),3,FALSE),\"\")","v":""},{"$f":"IFERROR(VLOOKUP(B147&C147,OFFSET(勤怠管理出勤!$E$3,0,0,COUNTA(勤怠管理出勤!F:F)-1,2),2,FALSE),\"\")","v":"00:00"},{"$f":"IFERROR(VLOOKUP(B147&C147,OFFSET(勤怠管理退勤!$E$3,0,0,COUNTA(勤怠管理退勤!F:F)-1,2),2,FALSE),\"\")","v":"00:00"},{"$f":"IFERROR(INDEX(OFFSET(業務日報!$D$3,0,0,COUNTA(業務日報!D:D)-2,1),MATCH(勤怠日報管理!B147&勤怠日報管理!C147,OFFSET(業務日報!$E$3,0,0,COUNTA(業務日報!E:E)-2,1),0)),\"\")","v":""}]
[null,"1月0日",null,{"$f":"IFERROR(VLOOKUP($C148,OFFSET(管理者用シート!$C$2,0,0,COUNTA(管理者用シート!E:E)-1,3),3,FALSE),\"\")","v":""},{"$f":"IFERROR(VLOOKUP(B148&C148,OFFSET(勤怠管理出勤!$E$3,0,0,COUNTA(勤怠管理出勤!F:F)-1,2),2,FALSE),\"\")","v":"00:00"},{"$f":"IFERROR(VLOOKUP(B148&C148,OFFSET(勤怠管理退勤!$E$3,0,0,COUNTA(勤怠管理退勤!F:F)-1,2),2,FALSE),\"\")","v":"00:00"},{"$f":"IFERROR(INDEX(OFFSET(業務日報!$D$3,0,0,COUNTA(業務日報!D:D)-2,1),MATCH(勤怠日報管理!B148&勤怠日報管理!C148,OFFSET(業務日報!$E$3,0,0,COUNTA(業務日報!E:E)-2,1),0)),\"\")","v":""}]
[null,"1月0日",null,{"$f":"IFERROR(VLOOKUP($C149,OFFSET(管理者用シート!$C$2,0,0,COUNTA(管理者用シート!E:E)-1,3),3,FALSE),\"\")","v":""},{"$f":"IFERROR(VLOOKUP(B149&C149,OFFSET(勤怠管理出勤!$E$3,0,0,COUNTA(勤怠管理出勤!F:F)-1,2),2,FALSE),\"\")","v":"00:00"},{"$f":"IFERROR(VLOOKUP(B149&C149,OFFSET(勤怠管理退勤!$E$3,0,0,COUNTA(勤怠管理退勤!F:F)-1,2),2,FALSE),\"\")","v":"00:00"},{"$f":"IFERROR(INDEX(OFFSET(業務日報!$D$3,0,0,COUNTA(業務日報!D:D)-2,1),MATCH(勤怠日報管理!B149&勤怠日報管理!C149,OFFSET(業務日報!$E$3,0,0,COUNTA(業務日報!E:E)-2,1),0)),\"\")","v":""}]
[null,"1月0日",null,{"$f":"IFERROR(VLOOKUP($C150,OFFSET(管理者用シート!$C$2,0,0,COUNTA(管理者用シート!E:E)-1,3),3,FALSE),\"\")","v":""},{"$f":"IFERROR(VLOOKUP(B150&C150,OFFSET(勤怠管理出勤!$E$3,0,0,COUNTA(勤怠管理出勤!F:F)-1,2),2,FALSE),\"\")","v":"00:00"},{"$f":"IFERROR(VLOOKUP(B150&C150,OFFSET(勤怠管理退勤!$E$3,0,0,COUNTA(勤怠管理退勤!F:F)-1,2),2,FALSE),\"\")","v":"00:00"},{"$f":"IFERROR(INDEX(OFFSET(業務日報!$D$3,0,0,COUNTA(業務日報!D:D)-2,1),MATCH(勤怠日報管理!B150&勤怠日報管理!C150,OFFSET(業務日報!$E$3,0,0,COUNTA(業務日報!E:E)-2,1),0)),\"\")","v":""}]
[null,"1月0日",null,{"$f":"IFERROR(VLOOKUP($C151,OFFSET(管理者用シート!$C$2,0,0,COUNTA(管理者用シート!E:E)-1,3),3,FALSE),\"\")","v":""},{"$f":"IFERROR(VLOOKUP(B151&C151,OFFSET(勤怠管理出勤!$E$3,0,0,COUNTA(勤怠管理出勤!F:F)-1,2),2,FALSE),\"\")","v":"00:00"},{"$f":"IFERROR(VLOOKUP(B151&C151,OFFSET(勤怠管理退勤!$E$3,0,0,COUNTA(勤怠管理退勤!F:F)-1,2),2,FALSE),\"\")","v":"00:00"},{"$f":"IFERROR(INDEX(OFFSET(業務日報!$D$3,0,0,COUNTA(業務日報!D:D)-2,1),MATCH(勤怠日報管理!B151&勤怠日報管理!C151,OFFSET(業務日報!$E$3,0,0,COUNTA(業務日報!E:E)-2,1),0)),\"\")","v":""}]
[null,"1月0日",null,{"$f":"IFERROR(VLOOKUP($C152,OFFSET(管理者用シート!$C$2,0,0,COUNTA(管理者用シート!E:E)-1,3),3,FALSE),\"\")","v":""},{"$f":"IFERROR(VLOOKUP(B152&C152,OFFSET(勤怠管理出勤!$E$3,0,0,COUNTA(勤怠管理出勤!F:F)-1,2),2,FALSE),\"\")","v":"00:00"},{"$f":"IFERROR(VLOOKUP(B152&C152,OFFSET(勤怠管理退勤!$E$3,0,0,COUNTA(勤怠管理退勤!F:F)-1,2),2,FALSE),\"\")","v":"00:00"},{"$f":"IFERROR(INDEX(OFFSET(業務日報!$D$3,0,0,COUNTA(業務日報!D:D)-2,1),MATCH(勤怠日報管理!B152&勤怠日報管理!C152,OFFSET(業務日報!$E$3,0,0,COUNTA(業務日報!E:E)-2,1),0)),\"\")","v":""}]
[null,"1月0日",null,{"$f":"IFERROR(VLOOKUP($C153,OFFSET(管理者用シート!$C$2,0,0,COUNTA(管理者用シート!E:E)-1,3),3,FALSE),\"\")","v":""},{"$f":"IFERROR(VLOOKUP(B153&C153,OFFSET(勤怠管理出勤!$E$3,0,0,COUNTA(勤怠管理出勤!F:F)-1,2),2,FALSE),\"\")","v":"00:00"},{"$f":"IFERROR(VLOOKUP(B153&C153,OFFSET(勤怠管理退勤!$E$3,0,0,COUNTA(勤怠管理退勤!F:F)-1,2),2,FALSE),\"\")","v":"00:00"},{"$f":"IFERROR(INDEX(OFFSET(業務日報!$D$3,0,0,COUNTA(業務日報!D:D)-2,1),MATCH(勤怠日報管理!B153&勤怠日報管理!C153,OFFSET(業務日報!$E$3,0,0,COUNTA(業務日報!E:E)-2,1),0)),\"\")","v":""}]
[null,"1月0日",null,{"$f":"IFERROR(VLOOKUP($C154,OFFSET(管理者用シート!$C$2,0,0,COUNTA(管理者用シート!E:E)-1,3),3,FALSE),\"\")","v":""},{"$f":"IFERROR(VLOOKUP(B154&C154,OFFSET(勤怠管理出勤!$E$3,0,0,COUNTA(勤怠管理出勤!F:F)-1,2),2,FALSE),\"\")","v":"00:00"},{"$f":"IFERROR(VLOOKUP(B154&C154,OFFSET(勤怠管理退勤!$E$3,0,0,COUNTA(勤怠管理退勤!F:F)-1,2),2,FALSE),\"\")","v":"00:00"},{"$f":"IFERROR(INDEX(OFFSET(業務日報!$D$3,0,0,COUNTA(業務日報!D:D)-2,1),MATCH(勤怠日報管理!B154&勤怠日報管理!C154,OFFSET(業務日報!$E$3,0,0,COUNTA(業務日報!E:E)-2,1),0)),\"\")","v":""}]
[null,"1月0日",null,{"$f":"IFERROR(VLOOKUP($C155,OFFSET(管理者用シート!$C$2,0,0,COUNTA(管理者用シート!E:E)-1,3),3,FALSE),\"\")","v":""},{"$f":"IFERROR(VLOOKUP(B155&C155,OFFSET(勤怠管理出勤!$E$3,0,0,COUNTA(勤怠管理出勤!F:F)-1,2),2,FALSE),\"\")","v":"00:00"},{"$f":"IFERROR(VLOOKUP(B155&C155,OFFSET(勤怠管理退勤!$E$3,0,0,COUNTA(勤怠管理退勤!F:F)-1,2),2,FALSE),\"\")","v":"00:00"},{"$f":"IFERROR(INDEX(OFFSET(業務日報!$D$3,0,0,COUNTA(業務日報!D:D)-2,1),MATCH(勤怠日報管理!B155&勤怠日報管理!C155,OFFSET(業務日報!$E$3,0,0,COUNTA(業務日報!E:E)-2,1),0)),\"\")","v":""}]
[null,"1月0日",null,{"$f":"IFERROR(VLOOKUP($C156,OFFSET(管理者用シート!$C$2,0,0,COUNTA(管理者用シート!E:E)-1,3),3,FALSE),\"\")","v":""},{"$f":"IFERROR(VLOOKUP(B156&C156,OFFSET(勤怠管理出勤!$E$3,0,0,COUNTA(勤怠管理出勤!F:F)-1,2),2,FALSE),\"\")","v":"00:00"},{"$f":"IFERROR(VLOOKUP(B156&C156,OFFSET(勤怠管理退勤!$E$3,0,0,COUNTA(勤怠管理退勤!F:F)-1,2),2,FALSE),\"\")","v":"00:00"},{"$f":"IFERROR(INDEX(OFFSET(業務日報!$D$3,0,0,COUNTA(業務日報!D:D)-2,1),MATCH(勤怠日報管理!B156&勤怠日報管理!C156,OFFSET(業務日報!$E$3,0,0,COUNTA(業務日報!E:E)-2,1),0)),\"\")","v":""}]
[null,"1月0日",null,{"$f":"IFERROR(VLOOKUP($C157,OFFSET(管理者用シート!$C$2,0,0,COUNTA(管理者用シート!E:E)-1,3),3,FALSE),\"\")","v":""},{"$f":"IFERROR(VLOOKUP(B157&C157,OFFSET(勤怠管理出勤!$E$3,0,0,COUNTA(勤怠管理出勤!F:F)-1,2),2,FALSE),\"\")","v":"00:00"},{"$f":"IFERROR(VLOOKUP(B157&C157,OFFSET(勤怠管理退勤!$E$3,0,0,COUNTA(勤怠管理退勤!F:F)-1,2),2,FALSE),\"\")","v":"00:00"},{"$f":"IFERROR(INDEX(OFFSET(業務日報!$D$3,0,0,COUNTA(業務日報!D:D)-2,1),MATCH(勤怠日報管理!B157&勤怠日報管理!C157,OFFSET(業務日報!$E$3,0,0,COUNTA(業務日報!E:E)-2,1),0)),\"\")","v":""}]
[null,"1月0日",null,{"$f":"IFERROR(VLOOKUP($C158,OFFSET(管理者用シート!$C$2,0,0,COUNTA(管理者用シート!E:E)-1,3),3,FALSE),\"\")","v":""},{"$f":"IFERROR(VLOOKUP(B158&C158,OFFSET(勤怠管理出勤!$E$3,0,0,COUNTA(勤怠管理出勤!F:F)-1,2),2,FALSE),\"\")","v":"00:00"},{"$f":"IFERROR(VLOOKUP(B158&C158,OFFSET(勤怠管理退勤!$E$3,0,0,COUNTA(勤怠管理退勤!F:F)-1,2),2,FALSE),\"\")","v":"00:00"},{"$f":"IFERROR(INDEX(OFFSET(業務日報!$D$3,0,0,COUNTA(業務日報!D:D)-2,1),MATCH(勤怠日報管理!B158&勤怠日報管理!C158,OFFSET(業務日報!$E$3,0,0,COUNTA(業務日報!E:E)-2,1),0)),\"\")","v":""}]
[null,"1月0日",null,{"$f":"IFERROR(VLOOKUP($C159,OFFSET(管理者用シート!$C$2,0,0,COUNTA(管理者用シート!E:E)-1,3),3,FALSE),\"\")","v":""},{"$f":"IFERROR(VLOOKUP(B159&C159,OFFSET(勤怠管理出勤!$E$3,0,0,COUNTA(勤怠管理出勤!F:F)-1,2),2,FALSE),\"\")","v":"00:00"},{"$f":"IFERROR(VLOOKUP(B159&C159,OFFSET(勤怠管理退勤!$E$3,0,0,COUNTA(勤怠管理退勤!F:F)-1,2),2,FALSE),\"\")","v":"00:00"},{"$f":"IFERROR(INDEX(OFFSET(業務日報!$D$3,0,0,COUNTA(業務日報!D:D)-2,1),MATCH(勤怠日報管理!B159&勤怠日報管理!C159,OFFSET(業務日報!$E$3,0,0,COUNTA(業務日報!E:E)-2,1),0)),\"\")","v":""}]
[null,"1月0日",null,{"$f":"IFERROR(VLOOKUP($C160,OFFSET(管理者用シート!$C$2,0,0,COUNTA(管理者用シート!E:E)-1,3),3,FALSE),\"\")","v":""},{"$f":"IFERROR(VLOOKUP(B160&C160,OFFSET(勤怠管理出勤!$E$3,0,0,COUNTA(勤怠管理出勤!F:F)-1,2),2,FALSE),\"\")","v":"00:00"},{"$f":"IFERROR(VLOOKUP(B160&C160,OFFSET(勤怠管理退勤!$E$3,0,0,COUNTA(勤怠管理退勤!F:F)-1,2),2,FALSE),\"\")","v":"00:00"},{"$f":"IFERROR(INDEX(OFFSET(業務日報!$D$3,0,0,COUNTA(業務日報!D:D)-2,1),MATCH(勤怠日報管理!B160&勤怠日報管理!C160,OFFSET(業務日報!$E$3,0,0,COUNTA(業務日報!E:E)-2,1),0)),\"\")","v":""}]
[null,"1月0日",null,{"$f":"IFERROR(VLOOKUP($C161,OFFSET(管理者用シート!$C$2,0,0,COUNTA(管理者用シート!E:E)-1,3),3,FALSE),\"\")","v":""},{"$f":"IFERROR(VLOOKUP(B161&C161,OFFSET(勤怠管理出勤!$E$3,0,0,COUNTA(勤怠管理出勤!F:F)-1,2),2,FALSE),\"\")","v":"00:00"},{"$f":"IFERROR(VLOOKUP(B161&C161,OFFSET(勤怠管理退勤!$E$3,0,0,COUNTA(勤怠管理退勤!F:F)-1,2),2,FALSE),\"\")","v":"00:00"},{"$f":"IFERROR(INDEX(OFFSET(業務日報!$D$3,0,0,COUNTA(業務日報!D:D)-2,1),MATCH(勤怠日報管理!B161&勤怠日報管理!C161,OFFSET(業務日報!$E$3,0,0,COUNTA(業務日報!E:E)-2,1),0)),\"\")","v":""}]
[null,"1月0日",null,{"$f":"IFERROR(VLOOKUP($C162,OFFSET(管理者用シート!$C$2,0,0,COUNTA(管理者用シート!E:E)-1,3),3,FALSE),\"\")","v":""},{"$f":"IFERROR(VLOOKUP(B162&C162,OFFSET(勤怠管理出勤!$E$3,0,0,COUNTA(勤怠管理出勤!F:F)-1,2),2,FALSE),\"\")","v":"00:00"},{"$f":"IFERROR(VLOOKUP(B162&C162,OFFSET(勤怠管理退勤!$E$3,0,0,COUNTA(勤怠管理退勤!F:F)-1,2),2,FALSE),\"\")","v":"00:00"},{"$f":"IFERROR(INDEX(OFFSET(業務日報!$D$3,0,0,COUNTA(業務日報!D:D)-2,1),MATCH(勤怠日報管理!B162&勤怠日報管理!C162,OFFSET(業務日報!$E$3,0,0,COUNTA(業務日報!E:E)-2,1),0)),\"\")","v":""}]
[null,"1月0日",null,{"$f":"IFERROR(VLOOKUP($C163,OFFSET(管理者用シート!$C$2,0,0,COUNTA(管理者用シート!E:E)-1,3),3,FALSE),\"\")","v":""},{"$f":"IFERROR(VLOOKUP(B163&C163,OFFSET(勤怠管理出勤!$E$3,0,0,COUNTA(勤怠管理出勤!F:F)-1,2),2,FALSE),\"\")","v":"00:00"},{"$f":"IFERROR(VLOOKUP(B163&C163,OFFSET(勤怠管理退勤!$E$3,0,0,COUNTA(勤怠管理退勤!F:F)-1,2),2,FALSE),\"\")","v":"00:00"},{"$f":"IFERROR(INDEX(OFFSET(業務日報!$D$3,0,0,COUNTA(業務日報!D:D)-2,1),MATCH(勤怠日報管理!B163&勤怠日報管理!C163,OFFSET(業務日報!$E$3,0,0,COUNTA(業務日報!E:E)-2,1),0)),\"\")","v":""}]
[null,"1月0日",null,{"$f":"IFERROR(VLOOKUP($C164,OFFSET(管理者用シート!$C$2,0,0,COUNTA(管理者用シート!E:E)-1,3),3,FALSE),\"\")","v":""},{"$f":"IFERROR(VLOOKUP(B164&C164,OFFSET(勤怠管理出勤!$E$3,0,0,COUNTA(勤怠管理出勤!F:F)-1,2),2,FALSE),\"\")","v":"00:00"},{"$f":"IFERROR(VLOOKUP(B164&C164,OFFSET(勤怠管理退勤!$E$3,0,0,COUNTA(勤怠管理退勤!F:F)-1,2),2,FALSE),\"\")","v":"00:00"},{"$f":"IFERROR(INDEX(OFFSET(業務日報!$D$3,0,0,COUNTA(業務日報!D:D)-2,1),MATCH(勤怠日報管理!B164&勤怠日報管理!C164,OFFSET(業務日報!$E$3,0,0,COUNTA(業務日報!E:E)-2,1),0)),\"\")","v":""}]
[null,"1月0日",null,{"$f":"IFERROR(VLOOKUP($C165,OFFSET(管理者用シート!$C$2,0,0,COUNTA(管理者用シート!E:E)-1,3),3,FALSE),\"\")","v":""},{"$f":"IFERROR(VLOOKUP(B165&C165,OFFSET(勤怠管理出勤!$E$3,0,0,COUNTA(勤怠管理出勤!F:F)-1,2),2,FALSE),\"\")","v":"00:00"},{"$f":"IFERROR(VLOOKUP(B165&C165,OFFSET(勤怠管理退勤!$E$3,0,0,COUNTA(勤怠管理退勤!F:F)-1,2),2,FALSE),\"\")","v":"00:00"},{"$f":"IFERROR(INDEX(OFFSET(業務日報!$D$3,0,0,COUNTA(業務日報!D:D)-2,1),MATCH(勤怠日報管理!B165&勤怠日報管理!C165,OFFSET(業務日報!$E$3,0,0,COUNTA(業務日報!E:E)-2,1),0)),\"\")","v":""}]
[null,"1月0日",null,{"$f":"IFERROR(VLOOKUP($C166,OFFSET(管理者用シート!$C$2,0,0,COUNTA(管理者用シート!E:E)-1,3),3,FALSE),\"\")","v":""},{"$f":"IFERROR(VLOOKUP(B166&C166,OFFSET(勤怠管理出勤!$E$3,0,0,COUNTA(勤怠管理出勤!F:F)-1,2),2,FALSE),\"\")","v":"00:00"},{"$f":"IFERROR(VLOOKUP(B166&C166,OFFSET(勤怠管理退勤!$E$3,0,0,COUNTA(勤怠管理退勤!F:F)-1,2),2,FALSE),\"\")","v":"00:00"},{"$f":"IFERROR(INDEX(OFFSET(業務日報!$D$3,0,0,COUNTA(業務日報!D:D)-2,1),MATCH(勤怠日報管理!B166&勤怠日報管理!C166,OFFSET(業務日報!$E$3,0,0,COUNTA(業務日報!E:E)-2,1),0)),\"\")","v":""}]
[null,"1月0日",null,{"$f":"IFERROR(VLOOKUP($C167,OFFSET(管理者用シート!$C$2,0,0,COUNTA(管理者用シート!E:E)-1,3),3,FALSE),\"\")","v":""},{"$f":"IFERROR(VLOOKUP(B167&C167,OFFSET(勤怠管理出勤!$E$3,0,0,COUNTA(勤怠管理出勤!F:F)-1,2),2,FALSE),\"\")","v":"00:00"},{"$f":"IFERROR(VLOOKUP(B167&C167,OFFSET(勤怠管理退勤!$E$3,0,0,COUNTA(勤怠管理退勤!F:F)-1,2),2,FALSE),\"\")","v":"00:00"},{"$f":"IFERROR(INDEX(OFFSET(業務日報!$D$3,0,0,COUNTA(業務日報!D:D)-2,1),MATCH(勤怠日報管理!B167&勤怠日報管理!C167,OFFSET(業務日報!$E$3,0,0,COUNTA(業務日報!E:E)-2,1),0)),\"\")","v":""}]
[null,"1月0日",null,{"$f":"IFERROR(VLOOKUP($C168,OFFSET(管理者用シート!$C$2,0,0,COUNTA(管理者用シート!E:E)-1,3),3,FALSE),\"\")","v":""},{"$f":"IFERROR(VLOOKUP(B168&C168,OFFSET(勤怠管理出勤!$E$3,0,0,COUNTA(勤怠管理出勤!F:F)-1,2),2,FALSE),\"\")","v":"00:00"},{"$f":"IFERROR(VLOOKUP(B168&C168,OFFSET(勤怠管理退勤!$E$3,0,0,COUNTA(勤怠管理退勤!F:F)-1,2),2,FALSE),\"\")","v":"00:00"},{"$f":"IFERROR(INDEX(OFFSET(業務日報!$D$3,0,0,COUNTA(業務日報!D:D)-2,1),MATCH(勤怠日報管理!B168&勤怠日報管理!C168,OFFSET(業務日報!$E$3,0,0,COUNTA(業務日報!E:E)-2,1),0)),\"\")","v":""}]
[null,"1月0日",null,{"$f":"IFERROR(VLOOKUP($C169,OFFSET(管理者用シート!$C$2,0,0,COUNTA(管理者用シート!E:E)-1,3),3,FALSE),\"\")","v":""},{"$f":"IFERROR(VLOOKUP(B169&C169,OFFSET(勤怠管理出勤!$E$3,0,0,COUNTA(勤怠管理出勤!F:F)-1,2),2,FALSE),\"\")","v":"00:00"},{"$f":"IFERROR(VLOOKUP(B169&C169,OFFSET(勤怠管理退勤!$E$3,0,0,COUNTA(勤怠管理退勤!F:F)-1,2),2,FALSE),\"\")","v":"00:00"},{"$f":"IFERROR(INDEX(OFFSET(業務日報!$D$3,0,0,COUNTA(業務日報!D:D)-2,1),MATCH(勤怠日報管理!B169&勤怠日報管理!C169,OFFSET(業務日報!$E$3,0,0,COUNTA(業務日報!E:E)-2,1),0)),\"\")","v":""}]
[null,"1月0日",null,{"$f":"IFERROR(VLOOKUP($C170,OFFSET(管理者用シート!$C$2,0,0,COUNTA(管理者用シート!E:E)-1,3),3,FALSE),\"\")","v":""},{"$f":"IFERROR(VLOOKUP(B170&C170,OFFSET(勤怠管理出勤!$E$3,0,0,COUNTA(勤怠管理出勤!F:F)-1,2),2,FALSE),\"\")","v":"00:00"},{"$f":"IFERROR(VLOOKUP(B170&C170,OFFSET(勤怠管理退勤!$E$3,0,0,COUNTA(勤怠管理退勤!F:F)-1,2),2,FALSE),\"\")","v":"00:00"},{"$f":"IFERROR(INDEX(OFFSET(業務日報!$D$3,0,0,COUNTA(業務日報!D:D)-2,1),MATCH(勤怠日報管理!B170&勤怠日報管理!C170,OFFSET(業務日報!$E$3,0,0,COUNTA(業務日報!E:E)-2,1),0)),\"\")","v":""}]
[null,"1月0日",null,{"$f":"IFERROR(VLOOKUP($C171,OFFSET(管理者用シート!$C$2,0,0,COUNTA(管理者用シート!E:E)-1,3),3,FALSE),\"\")","v":""},{"$f":"IFERROR(VLOOKUP(B171&C171,OFFSET(勤怠管理出勤!$E$3,0,0,COUNTA(勤怠管理出勤!F:F)-1,2),2,FALSE),\"\")","v":"00:00"},{"$f":"IFERROR(VLOOKUP(B171&C171,OFFSET(勤怠管理退勤!$E$3,0,0,COUNTA(勤怠管理退勤!F:F)-1,2),2,FALSE),\"\")","v":"00:00"},{"$f":"IFERROR(INDEX(OFFSET(業務日報!$D$3,0,0,COUNTA(業務日報!D:D)-2,1),MATCH(勤怠日報管理!B171&勤怠日報管理!C171,OFFSET(業務日報!$E$3,0,0,COUNTA(業務日報!E:E)-2,1),0)),\"\")","v":""}]
[null,"1月0日",null,{"$f":"IFERROR(VLOOKUP($C172,OFFSET(管理者用シート!$C$2,0,0,COUNTA(管理者用シート!E:E)-1,3),3,FALSE),\"\")","v":""},{"$f":"IFERROR(VLOOKUP(B172&C172,OFFSET(勤怠管理出勤!$E$3,0,0,COUNTA(勤怠管理出勤!F:F)-1,2),2,FALSE),\"\")","v":"00:00"},{"$f":"IFERROR(VLOOKUP(B172&C172,OFFSET(勤怠管理退勤!$E$3,0,0,COUNTA(勤怠管理退勤!F:F)-1,2),2,FALSE),\"\")","v":"00:00"},{"$f":"IFERROR(INDEX(OFFSET(業務日報!$D$3,0,0,COUNTA(業務日報!D:D)-2,1),MATCH(勤怠日報管理!B172&勤怠日報管理!C172,OFFSET(業務日報!$E$3,0,0,COUNTA(業務日報!E:E)-2,1),0)),\"\")","v":""}]
[null,"1月0日",null,{"$f":"IFERROR(VLOOKUP($C173,OFFSET(管理者用シート!$C$2,0,0,COUNTA(管理者用シート!E:E)-1,3),3,FALSE),\"\")","v":""},{"$f":"IFERROR(VLOOKUP(B173&C173,OFFSET(勤怠管理出勤!$E$3,0,0,COUNTA(勤怠管理出勤!F:F)-1,2),2,FALSE),\"\")","v":"00:00"},{"$f":"IFERROR(VLOOKUP(B173&C173,OFFSET(勤怠管理退勤!$E$3,0,0,COUNTA(勤怠管理退勤!F:F)-1,2),2,FALSE),\"\")","v":"00:00"},{"$f":"IFERROR(INDEX(OFFSET(業務日報!$D$3,0,0,COUNTA(業務日報!D:D)-2,1),MATCH(勤怠日報管理!B173&勤怠日報管理!C173,OFFSET(業務日報!$E$3,0,0,COUNTA(業務日報!E:E)-2,1),0)),\"\")","v":""}]
[null,"1月0日",null,{"$f":"IFERROR(VLOOKUP($C174,OFFSET(管理者用シート!$C$2,0,0,COUNTA(管理者用シート!E:E)-1,3),3,FALSE),\"\")","v":""},{"$f":"IFERROR(VLOOKUP(B174&C174,OFFSET(勤怠管理出勤!$E$3,0,0,COUNTA(勤怠管理出勤!F:F)-1,2),2,FALSE),\"\")","v":"00:00"},{"$f":"IFERROR(VLOOKUP(B174&C174,OFFSET(勤怠管理退勤!$E$3,0,0,COUNTA(勤怠管理退勤!F:F)-1,2),2,FALSE),\"\")","v":"00:00"},{"$f":"IFERROR(INDEX(OFFSET(業務日報!$D$3,0,0,COUNTA(業務日報!D:D)-2,1),MATCH(勤怠日報管理!B174&勤怠日報管理!C174,OFFSET(業務日報!$E$3,0,0,COUNTA(業務日報!E:E)-2,1),0)),\"\")","v":""}]
[null,"1月0日",null,{"$f":"IFERROR(VLOOKUP($C175,OFFSET(管理者用シート!$C$2,0,0,COUNTA(管理者用シート!E:E)-1,3),3,FALSE),\"\")","v":""},{"$f":"IFERROR(VLOOKUP(B175&C175,OFFSET(勤怠管理出勤!$E$3,0,0,COUNTA(勤怠管理出勤!F:F)-1,2),2,FALSE),\"\")","v":"00:00"},{"$f":"IFERROR(VLOOKUP(B175&C175,OFFSET(勤怠管理退勤!$E$3,0,0,COUNTA(勤怠管理退勤!F:F)-1,2),2,FALSE),\"\")","v":"00:00"},{"$f":"IFERROR(INDEX(OFFSET(業務日報!$D$3,0,0,COUNTA(業務日報!D:D)-2,1),MATCH(勤怠日報管理!B175&勤怠日報管理!C175,OFFSET(業務日報!$E$3,0,0,COUNTA(業務日報!E:E)-2,1),0)),\"\")","v":""}]
[null,"1月0日",null,{"$f":"IFERROR(VLOOKUP($C176,OFFSET(管理者用シート!$C$2,0,0,COUNTA(管理者用シート!E:E)-1,3),3,FALSE),\"\")","v":""},{"$f":"IFERROR(VLOOKUP(B176&C176,OFFSET(勤怠管理出勤!$E$3,0,0,COUNTA(勤怠管理出勤!F:F)-1,2),2,FALSE),\"\")","v":"00:00"},{"$f":"IFERROR(VLOOKUP(B176&C176,OFFSET(勤怠管理退勤!$E$3,0,0,COUNTA(勤怠管理退勤!F:F)-1,2),2,FALSE),\"\")","v":"00:00"},{"$f":"IFERROR(INDEX(OFFSET(業務日報!$D$3,0,0,COUNTA(業務日報!D:D)-2,1),MATCH(勤怠日報管理!B176&勤怠日報管理!C176,OFFSET(業務日報!$E$3,0,0,COUNTA(業務日報!E:E)-2,1),0)),\"\")","v":""}]
[null,"1月0日",null,{"$f":"IFERROR(VLOOKUP($C177,OFFSET(管理者用シート!$C$2,0,0,COUNTA(管理者用シート!E:E)-1,3),3,FALSE),\"\")","v":""},{"$f":"IFERROR(VLOOKUP(B177&C177,OFFSET(勤怠管理出勤!$E$3,0,0,COUNTA(勤怠管理出勤!F:F)-1,2),2,FALSE),\"\")","v":"00:00"},{"$f":"IFERROR(VLOOKUP(B177&C177,OFFSET(勤怠管理退勤!$E$3,0,0,COUNTA(勤怠管理退勤!F:F)-1,2),2,FALSE),\"\")","v":"00:00"},{"$f":"IFERROR(INDEX(OFFSET(業務日報!$D$3,0,0,COUNTA(業務日報!D:D)-2,1),MATCH(勤怠日報管理!B177&勤怠日報管理!C177,OFFSET(業務日報!$E$3,0,0,COUNTA(業務日報!E:E)-2,1),0)),\"\")","v":""}]
[null,"1月0日",null,{"$f":"IFERROR(VLOOKUP($C178,OFFSET(管理者用シート!$C$2,0,0,COUNTA(管理者用シート!E:E)-1,3),3,FALSE),\"\")","v":""},{"$f":"IFERROR(VLOOKUP(B178&C178,OFFSET(勤怠管理出勤!$E$3,0,0,COUNTA(勤怠管理出勤!F:F)-1,2),2,FALSE),\"\")","v":"00:00"},{"$f":"IFERROR(VLOOKUP(B178&C178,OFFSET(勤怠管理退勤!$E$3,0,0,COUNTA(勤怠管理退勤!F:F)-1,2),2,FALSE),\"\")","v":"00:00"},{"$f":"IFERROR(INDEX(OFFSET(業務日報!$D$3,0,0,COUNTA(業務日報!D:D)-2,1),MATCH(勤怠日報管理!B178&勤怠日報管理!C178,OFFSET(業務日報!$E$3,0,0,COUNTA(業務日報!E:E)-2,1),0)),\"\")","v":""}]
[null,"1月0日",null,{"$f":"IFERROR(VLOOKUP($C179,OFFSET(管理者用シート!$C$2,0,0,COUNTA(管理者用シート!E:E)-1,3),3,FALSE),\"\")","v":""},{"$f":"IFERROR(VLOOKUP(B179&C179,OFFSET(勤怠管理出勤!$E$3,0,0,COUNTA(勤怠管理出勤!F:F)-1,2),2,FALSE),\"\")","v":"00:00"},{"$f":"IFERROR(VLOOKUP(B179&C179,OFFSET(勤怠管理退勤!$E$3,0,0,COUNTA(勤怠管理退勤!F:F)-1,2),2,FALSE),\"\")","v":"00:00"},{"$f":"IFERROR(INDEX(OFFSET(業務日報!$D$3,0,0,COUNTA(業務日報!D:D)-2,1),MATCH(勤怠日報管理!B179&勤怠日報管理!C179,OFFSET(業務日報!$E$3,0,0,COUNTA(業務日報!E:E)-2,1),0)),\"\")","v":""}]
[null,"1月0日",null,{"$f":"IFERROR(VLOOKUP($C180,OFFSET(管理者用シート!$C$2,0,0,COUNTA(管理者用シート!E:E)-1,3),3,FALSE),\"\")","v":""},{"$f":"IFERROR(VLOOKUP(B180&C180,OFFSET(勤怠管理出勤!$E$3,0,0,COUNTA(勤怠管理出勤!F:F)-1,2),2,FALSE),\"\")","v":"00:00"},{"$f":"IFERROR(VLOOKUP(B180&C180,OFFSET(勤怠管理退勤!$E$3,0,0,COUNTA(勤怠管理退勤!F:F)-1,2),2,FALSE),\"\")","v":"00:00"},{"$f":"IFERROR(INDEX(OFFSET(業務日報!$D$3,0,0,COUNTA(業務日報!D:D)-2,1),MATCH(勤怠日報管理!B180&勤怠日報管理!C180,OFFSET(業務日報!$E$3,0,0,COUNTA(業務日報!E:E)-2,1),0)),\"\")","v":""}]
[null,"1月0日",null,{"$f":"IFERROR(VLOOKUP($C181,OFFSET(管理者用シート!$C$2,0,0,COUNTA(管理者用シート!E:E)-1,3),3,FALSE),\"\")","v":""},{"$f":"IFERROR(VLOOKUP(B181&C181,OFFSET(勤怠管理出勤!$E$3,0,0,COUNTA(勤怠管理出勤!F:F)-1,2),2,FALSE),\"\")","v":"00:00"},{"$f":"IFERROR(VLOOKUP(B181&C181,OFFSET(勤怠管理退勤!$E$3,0,0,COUNTA(勤怠管理退勤!F:F)-1,2),2,FALSE),\"\")","v":"00:00"},{"$f":"IFERROR(INDEX(OFFSET(業務日報!$D$3,0,0,COUNTA(業務日報!D:D)-2,1),MATCH(勤怠日報管理!B181&勤怠日報管理!C181,OFFSET(業務日報!$E$3,0,0,COUNTA(業務日報!E:E)-2,1),0)),\"\")","v":""}]
[null,"1月0日",null,{"$f":"IFERROR(VLOOKUP($C182,OFFSET(管理者用シート!$C$2,0,0,COUNTA(管理者用シート!E:E)-1,3),3,FALSE),\"\")","v":""},{"$f":"IFERROR(VLOOKUP(B182&C182,OFFSET(勤怠管理出勤!$E$3,0,0,COUNTA(勤怠管理出勤!F:F)-1,2),2,FALSE),\"\")","v":"00:00"},{"$f":"IFERROR(VLOOKUP(B182&C182,OFFSET(勤怠管理退勤!$E$3,0,0,COUNTA(勤怠管理退勤!F:F)-1,2),2,FALSE),\"\")","v":"00:00"},{"$f":"IFERROR(INDEX(OFFSET(業務日報!$D$3,0,0,COUNTA(業務日報!D:D)-2,1),MATCH(勤怠日報管理!B182&勤怠日報管理!C182,OFFSET(業務日報!$E$3,0,0,COUNTA(業務日報!E:E)-2,1),0)),\"\")","v":""}]
[null,"1月0日",null,{"$f":"IFERROR(VLOOKUP($C183,OFFSET(管理者用シート!$C$2,0,0,COUNTA(管理者用シート!E:E)-1,3),3,FALSE),\"\")","v":""},{"$f":"IFERROR(VLOOKUP(B183&C183,OFFSET(勤怠管理出勤!$E$3,0,0,COUNTA(勤怠管理出勤!F:F)-1,2),2,FALSE),\"\")","v":"00:00"},{"$f":"IFERROR(VLOOKUP(B183&C183,OFFSET(勤怠管理退勤!$E$3,0,0,COUNTA(勤怠管理退勤!F:F)-1,2),2,FALSE),\"\")","v":"00:00"},{"$f":"IFERROR(INDEX(OFFSET(業務日報!$D$3,0,0,COUNTA(業務日報!D:D)-2,1),MATCH(勤怠日報管理!B183&勤怠日報管理!C183,OFFSET(業務日報!$E$3,0,0,COUNTA(業務日報!E:E)-2,1),0)),\"\")","v":""}]
[null,"1月0日",null,{"$f":"IFERROR(VLOOKUP($C184,OFFSET(管理者用シート!$C$2,0,0,COUNTA(管理者用シート!E:E)-1,3),3,FALSE),\"\")","v":""},{"$f":"IFERROR(VLOOKUP(B184&C184,OFFSET(勤怠管理出勤!$E$3,0,0,COUNTA(勤怠管理出勤!F:F)-1,2),2,FALSE),\"\")","v":"00:00"},{"$f":"IFERROR(VLOOKUP(B184&C184,OFFSET(勤怠管理退勤!$E$3,0,0,COUNTA(勤怠管理退勤!F:F)-1,2),2,FALSE),\"\")","v":"00:00"},{"$f":"IFERROR(INDEX(OFFSET(業務日報!$D$3,0,0,COUNTA(業務日報!D:D)-2,1),MATCH(勤怠日報管理!B184&勤怠日報管理!C184,OFFSET(業務日報!$E$3,0,0,COUNTA(業務日報!E:E)-2,1),0)),\"\")","v":""}]
[null,"1月0日",null,{"$f":"IFERROR(VLOOKUP($C185,OFFSET(管理者用シート!$C$2,0,0,COUNTA(管理者用シート!E:E)-1,3),3,FALSE),\"\")","v":""},{"$f":"IFERROR(VLOOKUP(B185&C185,OFFSET(勤怠管理出勤!$E$3,0,0,COUNTA(勤怠管理出勤!F:F)-1,2),2,FALSE),\"\")","v":"00:00"},{"$f":"IFERROR(VLOOKUP(B185&C185,OFFSET(勤怠管理退勤!$E$3,0,0,COUNTA(勤怠管理退勤!F:F)-1,2),2,FALSE),\"\")","v":"00:00"},{"$f":"IFERROR(INDEX(OFFSET(業務日報!$D$3,0,0,COUNTA(業務日報!D:D)-2,1),MATCH(勤怠日報管理!B185&勤怠日報管理!C185,OFFSET(業務日報!$E$3,0,0,COUNTA(業務日報!E:E)-2,1),0)),\"\")","v":""}]
[null,"1月0日",null,{"$f":"IFERROR(VLOOKUP($C186,OFFSET(管理者用シート!$C$2,0,0,COUNTA(管理者用シート!E:E)-1,3),3,FALSE),\"\")","v":""},{"$f":"IFERROR(VLOOKUP(B186&C186,OFFSET(勤怠管理出勤!$E$3,0,0,COUNTA(勤怠管理出勤!F:F)-1,2),2,FALSE),\"\")","v":"00:00"},{"$f":"IFERROR(VLOOKUP(B186&C186,OFFSET(勤怠管理退勤!$E$3,0,0,COUNTA(勤怠管理退勤!F:F)-1,2),2,FALSE),\"\")","v":"00:00"},{"$f":"IFERROR(INDEX(OFFSET(業務日報!$D$3,0,0,COUNTA(業務日報!D:D)-2,1),MATCH(勤怠日報管理!B186&勤怠日報管理!C186,OFFSET(業務日報!$E$3,0,0,COUNTA(業務日報!E:E)-2,1),0)),\"\")","v":""}]
[null,"1月0日",null,{"$f":"IFERROR(VLOOKUP($C187,OFFSET(管理者用シート!$C$2,0,0,COUNTA(管理者用シート!E:E)-1,3),3,FALSE),\"\")","v":""},{"$f":"IFERROR(VLOOKUP(B187&C187,OFFSET(勤怠管理出勤!$E$3,0,0,COUNTA(勤怠管理出勤!F:F)-1,2),2,FALSE),\"\")","v":"00:00"},{"$f":"IFERROR(VLOOKUP(B187&C187,OFFSET(勤怠管理退勤!$E$3,0,0,COUNTA(勤怠管理退勤!F:F)-1,2),2,FALSE),\"\")","v":"00:00"},{"$f":"IFERROR(INDEX(OFFSET(業務日報!$D$3,0,0,COUNTA(業務日報!D:D)-2,1),MATCH(勤怠日報管理!B187&勤怠日報管理!C187,OFFSET(業務日報!$E$3,0,0,COUNTA(業務日報!E:E)-2,1),0)),\"\")","v":""}]
[null,"1月0日",null,{"$f":"IFERROR(VLOOKUP($C188,OFFSET(管理者用シート!$C$2,0,0,COUNTA(管理者用シート!E:E)-1,3),3,FALSE),\"\")","v":""},{"$f":"IFERROR(VLOOKUP(B188&C188,OFFSET(勤怠管理出勤!$E$3,0,0,COUNTA(勤怠管理出勤!F:F)-1,2),2,FALSE),\"\")","v":"00:00"},{"$f":"IFERROR(VLOOKUP(B188&C188,OFFSET(勤怠管理退勤!$E$3,0,0,COUNTA(勤怠管理退勤!F:F)-1,2),2,FALSE),\"\")","v":"00:00"},{"$f":"IFERROR(INDEX(OFFSET(業務日報!$D$3,0,0,COUNTA(業務日報!D:D)-2,1),MATCH(勤怠日報管理!B188&勤怠日報管理!C188,OFFSET(業務日報!$E$3,0,0,COUNTA(業務日報!E:E)-2,1),0)),\"\")","v":""}]
[null,"1月0日",null,{"$f":"IFERROR(VLOOKUP($C189,OFFSET(管理者用シート!$C$2,0,0,COUNTA(管理者用シート!E:E)-1,3),3,FALSE),\"\")","v":""},{"$f":"IFERROR(VLOOKUP(B189&C189,OFFSET(勤怠管理出勤!$E$3,0,0,COUNTA(勤怠管理出勤!F:F)-1,2),2,FALSE),\"\")","v":"00:00"},{"$f":"IFERROR(VLOOKUP(B189&C189,OFFSET(勤怠管理退勤!$E$3,0,0,COUNTA(勤怠管理退勤!F:F)-1,2),2,FALSE),\"\")","v":"00:00"},{"$f":"IFERROR(INDEX(OFFSET(業務日報!$D$3,0,0,COUNTA(業務日報!D:D)-2,1),MATCH(勤怠日報管理!B189&勤怠日報管理!C189,OFFSET(業務日報!$E$3,0,0,COUNTA(業務日報!E:E)-2,1),0)),\"\")","v":""}]
[null,"1月0日",null,{"$f":"IFERROR(VLOOKUP($C190,OFFSET(管理者用シート!$C$2,0,0,COUNTA(管理者用シート!E:E)-1,3),3,FALSE),\"\")","v":""},{"$f":"IFERROR(VLOOKUP(B190&C190,OFFSET(勤怠管理出勤!$E$3,0,0,COUNTA(勤怠管理出勤!F:F)-1,2),2,FALSE),\"\")","v":"00:00"},{"$f":"IFERROR(VLOOKUP(B190&C190,OFFSET(勤怠管理退勤!$E$3,0,0,COUNTA(勤怠管理退勤!F:F)-1,2),2,FALSE),\"\")","v":"00:00"},{"$f":"IFERROR(INDEX(OFFSET(業務日報!$D$3,0,0,COUNTA(業務日報!D:D)-2,1),MATCH(勤怠日報管理!B190&勤怠日報管理!C190,OFFSET(業務日報!$E$3,0,0,COUNTA(業務日報!E:E)-2,1),0)),\"\")","v":""}]
[null,"1月0日",null,{"$f":"IFERROR(VLOOKUP($C191,OFFSET(管理者用シート!$C$2,0,0,COUNTA(管理者用シート!E:E)-1,3),3,FALSE),\"\")","v":""},{"$f":"IFERROR(VLOOKUP(B191&C191,OFFSET(勤怠管理出勤!$E$3,0,0,COUNTA(勤怠管理出勤!F:F)-1,2),2,FALSE),\"\")","v":"00:00"},{"$f":"IFERROR(VLOOKUP(B191&C191,OFFSET(勤怠管理退勤!$E$3,0,0,COUNTA(勤怠管理退勤!F:F)-1,2),2,FALSE),\"\")","v":"00:00"},{"$f":"IFERROR(INDEX(OFFSET(業務日報!$D$3,0,0,COUNTA(業務日報!D:D)-2,1),MATCH(勤怠日報管理!B191&勤怠日報管理!C191,OFFSET(業務日報!$E$3,0,0,COUNTA(業務日報!E:E)-2,1),0)),\"\")","v":""}]
[null,"1月0日",null,{"$f":"IFERROR(VLOOKUP($C192,OFFSET(管理者用シート!$C$2,0,0,COUNTA(管理者用シート!E:E)-1,3),3,FALSE),\"\")","v":""},{"$f":"IFERROR(VLOOKUP(B192&C192,OFFSET(勤怠管理出勤!$E$3,0,0,COUNTA(勤怠管理出勤!F:F)-1,2),2,FALSE),\"\")","v":"00:00"},{"$f":"IFERROR(VLOOKUP(B192&C192,OFFSET(勤怠管理退勤!$E$3,0,0,COUNTA(勤怠管理退勤!F:F)-1,2),2,FALSE),\"\")","v":"00:00"},{"$f":"IFERROR(INDEX(OFFSET(業務日報!$D$3,0,0,COUNTA(業務日報!D:D)-2,1),MATCH(勤怠日報管理!B192&勤怠日報管理!C192,OFFSET(業務日報!$E$3,0,0,COUNTA(業務日報!E:E)-2,1),0)),\"\")","v":""}]
[null,"1月0日",null,{"$f":"IFERROR(VLOOKUP($C193,OFFSET(管理者用シート!$C$2,0,0,COUNTA(管理者用シート!E:E)-1,3),3,FALSE),\"\")","v":""},{"$f":"IFERROR(VLOOKUP(B193&C193,OFFSET(勤怠管理出勤!$E$3,0,0,COUNTA(勤怠管理出勤!F:F)-1,2),2,FALSE),\"\")","v":"00:00"},{"$f":"IFERROR(VLOOKUP(B193&C193,OFFSET(勤怠管理退勤!$E$3,0,0,COUNTA(勤怠管理退勤!F:F)-1,2),2,FALSE),\"\")","v":"00:00"},{"$f":"IFERROR(INDEX(OFFSET(業務日報!$D$3,0,0,COUNTA(業務日報!D:D)-2,1),MATCH(勤怠日報管理!B193&勤怠日報管理!C193,OFFSET(業務日報!$E$3,0,0,COUNTA(業務日報!E:E)-2,1),0)),\"\")","v":""}]
[null,"1月0日",null,{"$f":"IFERROR(VLOOKUP($C194,OFFSET(管理者用シート!$C$2,0,0,COUNTA(管理者用シート!E:E)-1,3),3,FALSE),\"\")","v":""},{"$f":"IFERROR(VLOOKUP(B194&C194,OFFSET(勤怠管理出勤!$E$3,0,0,COUNTA(勤怠管理出勤!F:F)-1,2),2,FALSE),\"\")","v":"00:00"},{"$f":"IFERROR(VLOOKUP(B194&C194,OFFSET(勤怠管理退勤!$E$3,0,0,COUNTA(勤怠管理退勤!F:F)-1,2),2,FALSE),\"\")","v":"00:00"},{"$f":"IFERROR(INDEX(OFFSET(業務日報!$D$3,0,0,COUNTA(業務日報!D:D)-2,1),MATCH(勤怠日報管理!B194&勤怠日報管理!C194,OFFSET(業務日報!$E$3,0,0,COUNTA(業務日報!E:E)-2,1),0)),\"\")","v":""}]
[null,"1月0日",null,{"$f":"IFERROR(VLOOKUP($C195,OFFSET(管理者用シート!$C$2,0,0,COUNTA(管理者用シート!E:E)-1,3),3,FALSE),\"\")","v":""},{"$f":"IFERROR(VLOOKUP(B195&C195,OFFSET(勤怠管理出勤!$E$3,0,0,COUNTA(勤怠管理出勤!F:F)-1,2),2,FALSE),\"\")","v":"00:00"},{"$f":"IFERROR(VLOOKUP(B195&C195,OFFSET(勤怠管理退勤!$E$3,0,0,COUNTA(勤怠管理退勤!F:F)-1,2),2,FALSE),\"\")","v":"00:00"},{"$f":"IFERROR(INDEX(OFFSET(業務日報!$D$3,0,0,COUNTA(業務日報!D:D)-2,1),MATCH(勤怠日報管理!B195&勤怠日報管理!C195,OFFSET(業務日報!$E$3,0,0,COUNTA(業務日報!E:E)-2,1),0)),\"\")","v":""}]
[null,"1月0日",null,{"$f":"IFERROR(VLOOKUP($C196,OFFSET(管理者用シート!$C$2,0,0,COUNTA(管理者用シート!E:E)-1,3),3,FALSE),\"\")","v":""},{"$f":"IFERROR(VLOOKUP(B196&C196,OFFSET(勤怠管理出勤!$E$3,0,0,COUNTA(勤怠管理出勤!F:F)-1,2),2,FALSE),\"\")","v":"00:00"},{"$f":"IFERROR(VLOOKUP(B196&C196,OFFSET(勤怠管理退勤!$E$3,0,0,COUNTA(勤怠管理退勤!F:F)-1,2),2,FALSE),\"\")","v":"00:00"},{"$f":"IFERROR(INDEX(OFFSET(業務日報!$D$3,0,0,COUNTA(業務日報!D:D)-2,1),MATCH(勤怠日報管理!B196&勤怠日報管理!C196,OFFSET(業務日報!$E$3,0,0,COUNTA(業務日報!E:E)-2,1),0)),\"\")","v":""}]
[null,{"$f":"TEXT(A197,\"m月d日\")","v":"1月0日"},null,{"$f":"IFERROR(VLOOKUP($C197,OFFSET(管理者用シート!$C$2,0,0,COUNTA(管理者用シート!E:E)-1,3),3,FALSE),\"\")","v":""},{"$f":"IFERROR(VLOOKUP(B197&C197,OFFSET(勤怠管理出勤!$E$3,0,0,COUNTA(勤怠管理出勤!F:F)-1,2),2,FALSE),\"\")","v":"00:00"},{"$f":"IFERROR(VLOOKUP(B197&C197,OFFSET(勤怠管理退勤!$E$3,0,0,COUNTA(勤怠管理退勤!F:F)-1,2),2,FALSE),\"\")","v":"00:00"},{"$f":"IFERROR(INDEX(OFFSET(業務日報!$D$3,0,0,COUNTA(業務日報!D:D)-2,1),MATCH(勤怠日報管理!B197&勤怠日報管理!C197,OFFSET(業務日報!$E$3,0,0,COUNTA(業務日報!E:E)-2,1),0)),\"\")","v":""}]
[null,"1月0日",null,{"$f":"IFERROR(VLOOKUP($C198,OFFSET(管理者用シート!$C$2,0,0,COUNTA(管理者用シート!E:E)-1,3),3,FALSE),\"\")","v":""},{"$f":"IFERROR(VLOOKUP(B198&C198,OFFSET(勤怠管理出勤!$E$3,0,0,COUNTA(勤怠管理出勤!F:F)-1,2),2,FALSE),\"\")","v":"00:00"},{"$f":"IFERROR(VLOOKUP(B198&C198,OFFSET(勤怠管理退勤!$E$3,0,0,COUNTA(勤怠管理退勤!F:F)-1,2),2,FALSE),\"\")","v":"00:00"},{"$f":"IFERROR(INDEX(OFFSET(業務日報!$D$3,0,0,COUNTA(業務日報!D:D)-2,1),MATCH(勤怠日報管理!B198&勤怠日報管理!C198,OFFSET(業務日報!$E$3,0,0,COUNTA(業務日報!E:E)-2,1),0)),\"\")","v":""}]
[null,"1月0日",null,{"$f":"IFERROR(VLOOKUP($C199,OFFSET(管理者用シート!$C$2,0,0,COUNTA(管理者用シート!E:E)-1,3),3,FALSE),\"\")","v":""},{"$f":"IFERROR(VLOOKUP(B199&C199,OFFSET(勤怠管理出勤!$E$3,0,0,COUNTA(勤怠管理出勤!F:F)-1,2),2,FALSE),\"\")","v":"00:00"},{"$f":"IFERROR(VLOOKUP(B199&C199,OFFSET(勤怠管理退勤!$E$3,0,0,COUNTA(勤怠管理退勤!F:F)-1,2),2,FALSE),\"\")","v":"00:00"},{"$f":"IFERROR(INDEX(OFFSET(業務日報!$D$3,0,0,COUNTA(業務日報!D:D)-2,1),MATCH(勤怠日報管理!B199&勤怠日報管理!C199,OFFSET(業務日報!$E$3,0,0,COUNTA(業務日報!E:E)-2,1),0)),\"\")","v":""}]
[null,"1月0日",null,{"$f":"IFERROR(VLOOKUP($C200,OFFSET(管理者用シート!$C$2,0,0,COUNTA(管理者用シート!E:E)-1,3),3,FALSE),\"\")","v":""},{"$f":"IFERROR(VLOOKUP(B200&C200,OFFSET(勤怠管理出勤!$E$3,0,0,COUNTA(勤怠管理出勤!F:F)-1,2),2,FALSE),\"\")","v":"00:00"},{"$f":"IFERROR(VLOOKUP(B200&C200,OFFSET(勤怠管理退勤!$E$3,0,0,COUNTA(勤怠管理退勤!F:F)-1,2),2,FALSE),\"\")","v":"00:00"},{"$f":"IFERROR(INDEX(OFFSET(業務日報!$D$3,0,0,COUNTA(業務日報!D:D)-2,1),MATCH(勤怠日報管理!B200&勤怠日報管理!C200,OFFSET(業務日報!$E$3,0,0,COUNTA(業務日報!E:E)-2,1),0)),\"\")","v":""}]
[null,"1月0日",null,{"$f":"IFERROR(VLOOKUP($C201,OFFSET(管理者用シート!$C$2,0,0,COUNTA(管理者用シート!E:E)-1,3),3,FALSE),\"\")","v":""},{"$f":"IFERROR(VLOOKUP(B201&C201,OFFSET(勤怠管理出勤!$E$3,0,0,COUNTA(勤怠管理出勤!F:F)-1,2),2,FALSE),\"\")","v":"00:00"},{"$f":"IFERROR(VLOOKUP(B201&C201,OFFSET(勤怠管理退勤!$E$3,0,0,COUNTA(勤怠管理退勤!F:F)-1,2),2,FALSE),\"\")","v":"00:00"},{"$f":"IFERROR(INDEX(OFFSET(業務日報!$D$3,0,0,COUNTA(業務日報!D:D)-2,1),MATCH(勤怠日報管理!B201&勤怠日報管理!C201,OFFSET(業務日報!$E$3,0,0,COUNTA(業務日報!E:E)-2,1),0)),\"\")","v":""}]
[null,"1月0日",null,{"$f":"IFERROR(VLOOKUP($C202,OFFSET(管理者用シート!$C$2,0,0,COUNTA(管理者用シート!E:E)-1,3),3,FALSE),\"\")","v":""},{"$f":"IFERROR(VLOOKUP(B202&C202,OFFSET(勤怠管理出勤!$E$3,0,0,COUNTA(勤怠管理出勤!F:F)-1,2),2,FALSE),\"\")","v":"00:00"},{"$f":"IFERROR(VLOOKUP(B202&C202,OFFSET(勤怠管理退勤!$E$3,0,0,COUNTA(勤怠管理退勤!F:F)-1,2),2,FALSE),\"\")","v":"00:00"},{"$f":"IFERROR(INDEX(OFFSET(業務日報!$D$3,0,0,COUNTA(業務日報!D:D)-2,1),MATCH(勤怠日報管理!B202&勤怠日報管理!C202,OFFSET(業務日報!$E$3,0,0,COUNTA(業務日報!E:E)-2,1),0)),\"\")","v":""}]
[null,"1月0日",null,{"$f":"IFERROR(VLOOKUP($C203,OFFSET(管理者用シート!$C$2,0,0,COUNTA(管理者用シート!E:E)-1,3),3,FALSE),\"\")","v":""},{"$f":"IFERROR(VLOOKUP(B203&C203,OFFSET(勤怠管理出勤!$E$3,0,0,COUNTA(勤怠管理出勤!F:F)-1,2),2,FALSE),\"\")","v":"00:00"},{"$f":"IFERROR(VLOOKUP(B203&C203,OFFSET(勤怠管理退勤!$E$3,0,0,COUNTA(勤怠管理退勤!F:F)-1,2),2,FALSE),\"\")","v":"00:00"},{"$f":"IFERROR(INDEX(OFFSET(業務日報!$D$3,0,0,COUNTA(業務日報!D:D)-2,1),MATCH(勤怠日報管理!B203&勤怠日報管理!C203,OFFSET(業務日報!$E$3,0,0,COUNTA(業務日報!E:E)-2,1),0)),\"\")","v":""}]